Workbook
Name \0: '[1]PNT-QUOT-#3'!#REF!
Name \0: '[1]PNT-QUOT-#3'!#REF!
Name \d: '[2]??-BLDG'!#REF!
Name \d: '[2]??-BLDG'!#REF!
Name \e: '[2]??-BLDG'!#REF!
Name \e: '[2]??-BLDG'!#REF!
Name \f: '[2]??-BLDG'!#REF!
Name \f: '[2]??-BLDG'!#REF!
Name \g: '[2]??-BLDG'!#REF!
Name \g: '[2]??-BLDG'!#REF!
Name \h: '[2]??-BLDG'!#REF!
Name \h: '[2]??-BLDG'!#REF!
Name \i: '[2]??-BLDG'!#REF!
Name \i: '[2]??-BLDG'!#REF!
Name \j: '[2]??-BLDG'!#REF!
Name \j: '[2]??-BLDG'!#REF!
Name \k: '[2]??-BLDG'!#REF!
Name \k: '[2]??-BLDG'!#REF!
Name \l: '[2]??-BLDG'!#REF!
Name \l: '[2]??-BLDG'!#REF!
Name \m: '[2]??-BLDG'!#REF!
Name \m: '[2]??-BLDG'!#REF!
Name \n: '[2]??-BLDG'!#REF!
Name \n: '[2]??-BLDG'!#REF!
Name \o: '[2]??-BLDG'!#REF!
Name \o: '[2]??-BLDG'!#REF!
Name \z: '[1]COAT&WRAP-QIOT-#3'!#REF!
Name \z: '[1]COAT&WRAP-QIOT-#3'!#REF!
Name _1: #N/A
Name _1000A01: #N/A
Name _2: #N/A
Name _A65700: '[3]MTO REV.2(ARMOR)'!#REF!
Name _A65700: '[3]MTO REV.2(ARMOR)'!#REF!
Name _A65800: '[3]MTO REV.2(ARMOR)'!#REF!
Name _A65800: '[3]MTO REV.2(ARMOR)'!#REF!
Name _A66000: '[3]MTO REV.2(ARMOR)'!#REF!
Name _A66000: '[3]MTO REV.2(ARMOR)'!#REF!
Name _A67000: '[3]MTO REV.2(ARMOR)'!#REF!
Name _A67000: '[3]MTO REV.2(ARMOR)'!#REF!
Name _A68000: '[3]MTO REV.2(ARMOR)'!#REF!
Name _A68000: '[3]MTO REV.2(ARMOR)'!#REF!
Name _A70000: '[3]MTO REV.2(ARMOR)'!#REF!
Name _A70000: '[3]MTO REV.2(ARMOR)'!#REF!
Name _A75000: '[3]MTO REV.2(ARMOR)'!#REF!
Name _A75000: '[3]MTO REV.2(ARMOR)'!#REF!
Name _A85000: '[3]MTO REV.2(ARMOR)'!#REF!
Name _A85000: '[3]MTO REV.2(ARMOR)'!#REF!
Name _CON1: #REF!
Name _CON2: #REF!
Name _NET2: #REF!
Name A: '[1]PNT-QUOT-#3'!#REF!
Name A: '[1]PNT-QUOT-#3'!#REF!
Name A01_: #N/A
Name A01AC: #N/A
Name A01CAT: #N/A
Name A01CODE: #N/A
Name A01DATA: #N/A
Name A01MI: #N/A
Name A01TO: #N/A
Name A60000.: #REF!

Sheet TEN HOC PHAN HKI
A1: QUI ĐỊNH SỐ TÍN CHỈ CỦA CÁC HỌC PHẦN TRONG HỌC KỲ I / 2013 - 2014 Bậc đào tạo : Cao đẳng ( Khóa 2013 )
A3: TT | B3: LỚP | C3: STT | D3: SHEET | E3: TÊN HỌC PHẦN | F3: TỔNG LT | G3: LÝ THUYẾT | H3: THỰC HÀNH | I3: GHI CHÚ
A4: 1 | B4: 13 CĐ - ĐT 1, 2 | C4: 1 | D4: LT01 | E4: Đường lối CM của Đảng cộng sản VN | F4: =G4+H4 -> 3 | G4: 3
C5: 2 | D5: LT02 | E5: Điều khiển lập trình PLC 1 | F5: =G5+H5 -> 2 | G5: 2
C6: 3 | D6: LT03 | E6: Tự động hóa quá trình công nghệ | F6: =G6+H6 -> 2 | G6: 2
C7: 4 | D7: LT04 | E7: Điện tử công nghiệp | F7: =G7+H7 -> 3 | G7: 3
C8: 5 | D8: LT05 | E8: Hệ thống điều khiển tự động | F8: =G8+H8 -> 2 | G8: 2
C9: 6 | D9: LT06 | F9: =G9+H9 -> 0
C10: 7 | D10: LT07 | F10: =G10+H10 -> 0
C11: 8 | D11: DO AN | F11: =G11+H11 -> 0
C12: 9 | D12: DO AN 2 | F12: =G12+H12 -> 0
C13: 10 | D13: TH01 | E13: Thực tập Vi xử lý và PLC | F13: =G13+H13 -> 2 | H13: 2
C14: 11 | D14: TH02 | E14: Thực tập Đo lường cảm biến | F14: =G14+H14 -> 2 | H14: 2
C15: 12 | D15: TH03 | E15: Thực tập Điều khiển tự động | F15: =G15+H15 -> 2 | H15: 2
A16: 2 | B16: 13 CĐ - Đ 1, 2, 3 | C16: 1 | D16: LT01 | E16: Đường lối CM của Đảng cộng sản VN | F16: =G16+H16 -> 3 | G16: 3
C17: 2 | D17: LT02 | E17: Điều khiển lập trình PLC 1 | F17: =G17+H17 -> 2 | G17: 2
C18: 3 | D18: LT03 | E18: Truyền động điện và ứng dụng | F18: =G18+H18 -> 2 | G18: 2
C19: 4 | D19: LT04 | E19: Nhà máy điện và trạm biến áp | F19: =G19+H19 -> 2 | G19: 2
C20: 5 | D20: LT05 | E20: Điện công nghiệp | F20: =G20+H20 -> 3 | G20: 3
C21: 6 | D21: LT06 | F21: =G21+H21 -> 0
C22: 7 | D22: LT07 | F22: =G22+H22 -> 0
C23: 8 | D23: DO AN | F23: =G23+H23 -> 0
C24: 9 | D24: DO AN 2 | F24: =G24+H24 -> 0
C25: 10 | D25: TH01 | E25: Thực tập Máy điện | F25: =G25+H25 -> 2 | H25: 2
C26: 11 | D26: TH02 | E26: Thực tập Vi xử lý và PLC | F26: =G26+H26 -> 2 | H26: 2
C27: 12 | D27: TH03 | E27: Thực tập Đo lường cảm biến | F27: =G27+H27 -> 2 | H27: 2
A28: 3 | B28: 13 CĐ-CK 1, 2, 3, 4 | C28: 1 | D28: LT01 | E28: Kinh tế công nghiệp và quản trị chất lượng | F28: =G28+H28 -> 2 | G28: 2
C29: 2 | D29: LT02 | E29: Truyền động thủy lực và khí nén trong CN | F29: =G29+H29 -> 2 | G29: 2
C30: 3 | D30: LT03 | E30: Công nghệ CNC | F30: =G30+H30 -> 3 | G30: 3
C31: 4 | D31: LT04 | E31: Công nghệ CAD/CAM | F31: =G31+H31 -> 3 | G31: 3
C32: 5 | D32: LT05 | E32: Nguyên lý cắt kim loại | F32: =G32+H32 -> 2 | G32: 2
C33: 6 | D33: LT06 | E33: Đồ gá | F33: =G33+H33 -> 2 | G33: 2
C34: 7 | D34: LT07 | F34: =G34+H34 -> 0
C35: 8 | D35: DO AN | E35: Đồ án tính toán thiết kế hệ dẫn động cơ khí | F35: =G35+H35 -> 1 | H35: 1
C36: 9 | D36: DO AN 2 | E36: Đồ án công nghệ chế tạo máy | F36: =G36+H36 -> 1 | H36: 1
C37: 10 | D37: TH01 | E37: Thực tập Phay 1 | F37: =G37+H37 -> 2 | H37: 2
C38: 11 | D38: TH02 | F38: =G38+H38 -> 0
C39: 12 | D39: TH03 | F39: =G39+H39 -> 0
A40: 4 | B40: 13 CĐ-Ô 1, 2, 3 | C40: 1 | D40: LT01 | E40: Ôtô | F40: =G40+H40 -> 4 | G40: 4
C41: 2 | D41: LT02 | E41: Công nghệ bảo dưỡng và sửa chữa ôtô | F41: =G41+H41 -> 2 | G41: 2
C42: 3 | D42: LT03 | F42: =G42+H42 -> 0
C43: 4 | D43: LT04 | F43: =G43+H43 -> 0
C44: 5 | D44: LT05 | F44: =G44+H44 -> 0
C45: 6 | D45: LT06 | F45: =G45+H45 -> 0
C46: 7 | D46: LT07 | F46: =G46+H46 -> 0
C47: 8 | D47: DO AN | E47: Đồ án môn học chi tiết máy | F47: =G47+H47 -> 1 | H47: 1
C48: 9 | D48: DO AN 2 | F48: =G48+H48 -> 0
C49: 10 | D49: TH01 | E49: Thực tập Động cơ 2 | F49: =G49+H49 -> 2 | H49: 2
C50: 11 | D50: TH02 | E50: Thực tập Diesel | F50: =G50+H50 -> 2 | H50: 2
C51: 12 | D51: TH03 | E51: Thực tập Điện Ôtô 1 | F51: =G51+H51 -> 2 | H51: 2
A52: 5 | B52: 13 CĐ-NL 1 | C52: 1 | D52: LT01 | E52: Thiết bị đo và tự động điều khiển | F52: =G52+H52 -> 2 | G52: 2
C53: 2 | D53: LT02 | E53: Lò hơi công nghiệp | F53: =G53+H53 -> 2 | G53: 2
C54: 3 | D54: LT03 | E54: Thiết kế lắp đặt trạm lạnh | F54: =G54+H54 -> 2 | G54: 2
C55: 4 | D55: LT04 | E55: Vận hành bảo dưỡng và sửa chữa HTL | F55: =G55+H55 -> 2 | G55: 2
C56: 5 | D56: LT05 | E56: Kỹ thuật thông gió và hút bụi | F56: =G56+H56 -> 2 | G56: 2
C57: 6 | D57: LT06 | F57: =G57+H57 -> 0
C58: 7 | D58: LT07 | F58: =G58+H58 -> 0
C59: 8 | D59: DO AN | F59: =G59+H59 -> 0
C60: 9 | D60: DO AN 2 | F60: =G60+H60 -> 0
C61: 10 | D61: TH01 | E61: Thực tập Sửa chữa thiết bị lạnh dân dụng | F61: =G61+H61 -> 2 | H61: 2
C62: 11 | D62: TH02 | E62: Thực tập Kỹ thuật điều hòa không khí | F62: =G62+H62 -> 2 | H62: 2
C63: 12 | D63: TH03 | F63: =G63+H63 -> 0
A64: 6 | B64: 13 CĐ-M | C64: 1 | D64: LT01 | E64: Quản lý chất lượng trang phục | F64: =G64+H64 -> 2 | G64: 2
C65: 2 | D65: LT02 | E65: Tổ chức và quản lý may công nghiệp | F65: =G65+H65 -> 2 | G65: 2
C66: 3 | D66: LT03 | E66: Quản lý đơn hàng | F66: =G66+H66 -> 2 | G66: 2
C67: 4 | D67: LT04 | E67: Thiết kế thời trang trên máy tính | F67: =G67+H67 -> 2 | G67: 2
C68: 5 | D68: LT05 | F68: =G68+H68 -> 0
C69: 6 | D69: LT06 | F69: =G69+H69 -> 0
C70: 7 | D70: LT07 | F70: =G70+H70 -> 0
C71: 8 | D71: DO AN | E71: Đồ án Thiết kế trang phục | F71: =G71+H71 -> 1 | H71: 1
C72: 9 | D72: DO AN 2 | F72: =G72+H72 -> 0
C73: 10 | D73: TH01 | E73: Thực tập May trang phục 3 | F73: =G73+H73 -> 2 | H73: 2
C74: 11 | D74: TH02 | E74: Thực tập Tin học ứng dụng ngành may | F74: =G74+H74 -> 2 | H74: 2
C75: 12 | D75: TH03 | F75: =G75+H75 -> 0
A76: 7 | B76: 13 CĐ-TP 1, 2 | C76: 1 | D76: LT01 | E76: Kỹ năng giao tiếp | F76: =G76+H76 -> 2 | G76: 2
C77: 2 | D77: LT02 | E77: Lý thuyết đồ thị | F77: =G77+H77 -> 2 | G77: 2
C78: 3 | D78: LT03 | E78: Lập trình cơ sở dữ liệu | F78: =G78+H78 -> 4 | G78: 2 | H78: 2
C79: 4 | D79: LT04 | E79: Lập trình PHP | F79: =G79+H79 -> 5 | G79: 3 | H79: 2
C80: 5 | D80: LT05 | F80: =G80+H80 -> 0
C81: 6 | D81: LT06 | F81: =G81+H81 -> 0
C82: 7 | D82: LT07 | F82: =G82+H82 -> 0
C83: 8 | D83: DO AN | F83: =G83+H83 -> 0
C84: 9 | D84: DO AN 2 | F84: =G84+H84 -> 0
C85: 10 | D85: TH01 | F85: =G85+H85 -> 0
C86: 11 | D86: TH02 | F86: =G86+H86 -> 0
C87: 12 | D87: TH03 | F87: =G87+H87 -> 0
A88: 8 | B88: 13 CĐ-TM 1, 2 | C88: 1 | D88: LT01 | E88: Kỹ năng giao tiếp | F88: =G88+H88 -> 2 | G88: 2
C89: 2 | D89: LT02 | E89: Lý thuyết đồ thị | F89: =G89+H89 -> 2 | G89: 2
C90: 3 | D90: LT03 | E90: Phương pháp nghiên cứu khoa học | F90: =G90+H90 -> 2 | G90: 2
C91: 4 | D91: LT04 | E91: Thiết kế Web | F91: =G91+H91 -> 4 | G91: 3 | H91: 1
C92: 5 | D92: LT05 | E92: Mạng Linux 1 | F92: =G92+H92 -> 2 | G92: 1 | H92: 1
C93: 6 | D93: LT06 | E93: Mạng nâng cao | F93: =G93+H93 -> 3 | G93: 2 | H93: 1
C94: 7 | D94: LT07 | F94: =G94+H94 -> 0
C95: 8 | D95: DO AN | F95: =G95+H95 -> 0
C96: 9 | D96: DO AN 2 | F96: =G96+H96 -> 0
C97: 10 | D97: TH01 | F97: =G97+H97 -> 0
C98: 11 | D98: TH02 | F98: =G98+H98 -> 0
C99: 12 | D99: TH03 | F99: =G99+H99 -> 0

Sheet LOP-MON
A1: STT | B1: Lớp | C1: LT01 | D1: LT02 | E1: LT03 | F1: LT04 | G1: LT05 | H1: LT06 | I1: LT07 | J1: DO AN | K1: DO AN 2 | L1: TH01 | M1: TH02 | N1: TH03
A2: 1 | B2: 13CĐ-ĐT1 | C2: =VLOOKUP(C$1,'TEN HOC PHAN HKI'!$D$4:$F$15,2,0) -> Đường lối CM của Đảng cộng sản VN | D2: =VLOOKUP(D$1,'TEN HOC PHAN HKI'!$D$4:$F$15,2,0) -> Điều khiển lập trình PLC 1 | E2: =VLOOKUP(E$1,'TEN HOC PHAN HKI'!$D$4:$F$15,2,0) -> Tự động hóa quá trình công nghệ | F2: =VLOOKUP(F$1,'TEN HOC PHAN HKI'!$D$4:$F$15,2,0) -> Điện tử công nghiệp | G2: =VLOOKUP(G$1,'TEN HOC PHAN HKI'!$D$4:$F$15,2,0) -> Hệ thống điều khiển tự động | H2: =VLOOKUP(H$1,'TEN HOC PHAN HKI'!$D$4:$F$15,2,0) -> 0 | I2: =VLOOKUP(I$1,'TEN HOC PHAN HKI'!$D$4:$F$15,2,0) -> 0 | J2: =VLOOKUP(J$1,'TEN HOC PHAN HKI'!$D$4:$F$15,2,0) -> 0 | ... N2: =VLOOKUP(N$1,'TEN HOC PHAN HKI'!$D$4:$F$15,2,0) -> Thực tập Điều khiển tự động
B3: TC13CĐĐT1 | C3: =VLOOKUP(C$1,'TEN HOC PHAN HKI'!$D$4:$F$15,3,0) -> 3 | D3: =VLOOKUP(D$1,'TEN HOC PHAN HKI'!$D$4:$F$15,3,0) -> 2 | E3: =VLOOKUP(E$1,'TEN HOC PHAN HKI'!$D$4:$F$15,3,0) -> 2 | F3: =VLOOKUP(F$1,'TEN HOC PHAN HKI'!$D$4:$F$15,3,0) -> 3 | G3: =VLOOKUP(G$1,'TEN HOC PHAN HKI'!$D$4:$F$15,3,0) -> 2 | H3: =VLOOKUP(H$1,'TEN HOC PHAN HKI'!$D$4:$F$15,3,0) -> 0 | I3: =VLOOKUP(I$1,'TEN HOC PHAN HKI'!$D$4:$F$15,3,0) -> 0 | J3: =VLOOKUP(J$1,'TEN HOC PHAN HKI'!$D$4:$F$15,3,0) -> 0 | ... N3: =VLOOKUP(N$1,'TEN HOC PHAN HKI'!$D$4:$F$15,3,0) -> 2
A4: 2 | B4: 13CĐ-ĐT2 | C4: =VLOOKUP(C$1,'TEN HOC PHAN HKI'!$D$4:$F$15,2,0) -> Đường lối CM của Đảng cộng sản VN | D4: =VLOOKUP(D$1,'TEN HOC PHAN HKI'!$D$4:$F$15,2,0) -> Điều khiển lập trình PLC 1 | E4: =VLOOKUP(E$1,'TEN HOC PHAN HKI'!$D$4:$F$15,2,0) -> Tự động hóa quá trình công nghệ | F4: =VLOOKUP(F$1,'TEN HOC PHAN HKI'!$D$4:$F$15,2,0) -> Điện tử công nghiệp | G4: =VLOOKUP(G$1,'TEN HOC PHAN HKI'!$D$4:$F$15,2,0) -> Hệ thống điều khiển tự động | H4: =VLOOKUP(H$1,'TEN HOC PHAN HKI'!$D$4:$F$15,2,0) -> 0 | I4: =VLOOKUP(I$1,'TEN HOC PHAN HKI'!$D$4:$F$15,2,0) -> 0 | J4: =VLOOKUP(J$1,'TEN HOC PHAN HKI'!$D$4:$F$15,2,0) -> 0 | ... N4: =VLOOKUP(N$1,'TEN HOC PHAN HKI'!$D$4:$F$15,2,0) -> Thực tập Điều khiển tự động
B5: TC13CĐĐT2 | C5: =VLOOKUP(C$1,'TEN HOC PHAN HKI'!$D$4:$F$15,3,0) -> 3 | D5: =VLOOKUP(D$1,'TEN HOC PHAN HKI'!$D$4:$F$15,3,0) -> 2 | E5: =VLOOKUP(E$1,'TEN HOC PHAN HKI'!$D$4:$F$15,3,0) -> 2 | F5: =VLOOKUP(F$1,'TEN HOC PHAN HKI'!$D$4:$F$15,3,0) -> 3 | G5: =VLOOKUP(G$1,'TEN HOC PHAN HKI'!$D$4:$F$15,3,0) -> 2 | H5: =VLOOKUP(H$1,'TEN HOC PHAN HKI'!$D$4:$F$15,3,0) -> 0 | I5: =VLOOKUP(I$1,'TEN HOC PHAN HKI'!$D$4:$F$15,3,0) -> 0 | J5: =VLOOKUP(J$1,'TEN HOC PHAN HKI'!$D$4:$F$15,3,0) -> 0 | ... N5: =VLOOKUP(N$1,'TEN HOC PHAN HKI'!$D$4:$F$15,3,0) -> 2
A6: 1 | B6: 13CĐ-Đ1 | C6: =VLOOKUP(C$1,'TEN HOC PHAN HKI'!$D$16:$F$27,2,0) -> Đường lối CM của Đảng cộng sản VN | D6: =VLOOKUP(D$1,'TEN HOC PHAN HKI'!$D$16:$F$27,2,0) -> Điều khiển lập trình PLC 1 | E6: =VLOOKUP(E$1,'TEN HOC PHAN HKI'!$D$16:$F$27,2,0) -> Truyền động điện và ứng dụng | F6: =VLOOKUP(F$1,'TEN HOC PHAN HKI'!$D$16:$F$27,2,0) -> Nhà máy điện và trạm biến áp | G6: =VLOOKUP(G$1,'TEN HOC PHAN HKI'!$D$16:$F$27,2,0) -> Điện công nghiệp | H6: =VLOOKUP(H$1,'TEN HOC PHAN HKI'!$D$16:$F$27,2,0) -> 0 | I6: =VLOOKUP(I$1,'TEN HOC PHAN HKI'!$D$16:$F$27,2,0) -> 0 | J6: =VLOOKUP(J$1,'TEN HOC PHAN HKI'!$D$16:$F$27,2,0) -> 0 | ... N6: =VLOOKUP(N$1,'TEN HOC PHAN HKI'!$D$16:$F$27,2,0) -> Thực tập Đo lường cảm biến
B7: TC13CĐĐ1 | C7: =VLOOKUP(C$1,'TEN HOC PHAN HKI'!$D$16:$F$27,3,0) -> 3 | D7: =VLOOKUP(D$1,'TEN HOC PHAN HKI'!$D$16:$F$27,3,0) -> 2 | E7: =VLOOKUP(E$1,'TEN HOC PHAN HKI'!$D$16:$F$27,3,0) -> 2 | F7: =VLOOKUP(F$1,'TEN HOC PHAN HKI'!$D$16:$F$27,3,0) -> 2 | G7: =VLOOKUP(G$1,'TEN HOC PHAN HKI'!$D$16:$F$27,3,0) -> 3 | H7: =VLOOKUP(H$1,'TEN HOC PHAN HKI'!$D$16:$F$27,3,0) -> 0 | I7: =VLOOKUP(I$1,'TEN HOC PHAN HKI'!$D$16:$F$27,3,0) -> 0 | J7: =VLOOKUP(J$1,'TEN HOC PHAN HKI'!$D$16:$F$27,3,0) -> 0 | ... N7: =VLOOKUP(N$1,'TEN HOC PHAN HKI'!$D$16:$F$27,3,0) -> 2
A8: 2 | B8: 13CĐ-Đ2 | C8: =VLOOKUP(C$1,'TEN HOC PHAN HKI'!$D$16:$F$27,2,0) -> Đường lối CM của Đảng cộng sản VN | D8: =VLOOKUP(D$1,'TEN HOC PHAN HKI'!$D$16:$F$27,2,0) -> Điều khiển lập trình PLC 1 | E8: =VLOOKUP(E$1,'TEN HOC PHAN HKI'!$D$16:$F$27,2,0) -> Truyền động điện và ứng dụng | F8: =VLOOKUP(F$1,'TEN HOC PHAN HKI'!$D$16:$F$27,2,0) -> Nhà máy điện và trạm biến áp | G8: =VLOOKUP(G$1,'TEN HOC PHAN HKI'!$D$16:$F$27,2,0) -> Điện công nghiệp | H8: =VLOOKUP(H$1,'TEN HOC PHAN HKI'!$D$16:$F$27,2,0) -> 0 | I8: =VLOOKUP(I$1,'TEN HOC PHAN HKI'!$D$16:$F$27,2,0) -> 0 | J8: =VLOOKUP(J$1,'TEN HOC PHAN HKI'!$D$16:$F$27,2,0) -> 0 | ... N8: =VLOOKUP(N$1,'TEN HOC PHAN HKI'!$D$16:$F$27,2,0) -> Thực tập Đo lường cảm biến
B9: TC13CĐĐ2 | C9: =VLOOKUP(C$1,'TEN HOC PHAN HKI'!$D$16:$F$27,3,0) -> 3 | D9: =VLOOKUP(D$1,'TEN HOC PHAN HKI'!$D$16:$F$27,3,0) -> 2 | E9: =VLOOKUP(E$1,'TEN HOC PHAN HKI'!$D$16:$F$27,3,0) -> 2 | F9: =VLOOKUP(F$1,'TEN HOC PHAN HKI'!$D$16:$F$27,3,0) -> 2 | G9: =VLOOKUP(G$1,'TEN HOC PHAN HKI'!$D$16:$F$27,3,0) -> 3 | H9: =VLOOKUP(H$1,'TEN HOC PHAN HKI'!$D$16:$F$27,3,0) -> 0 | I9: =VLOOKUP(I$1,'TEN HOC PHAN HKI'!$D$16:$F$27,3,0) -> 0 | J9: =VLOOKUP(J$1,'TEN HOC PHAN HKI'!$D$16:$F$27,3,0) -> 0 | ... N9: =VLOOKUP(N$1,'TEN HOC PHAN HKI'!$D$16:$F$27,3,0) -> 2
A10: 3 | B10: 13CĐ-Đ3 | C10: =VLOOKUP(C$1,'TEN HOC PHAN HKI'!$D$16:$F$27,2,0) -> Đường lối CM của Đảng cộng sản VN | D10: =VLOOKUP(D$1,'TEN HOC PHAN HKI'!$D$16:$F$27,2,0) -> Điều khiển lập trình PLC 1 | E10: =VLOOKUP(E$1,'TEN HOC PHAN HKI'!$D$16:$F$27,2,0) -> Truyền động điện và ứng dụng | F10: =VLOOKUP(F$1,'TEN HOC PHAN HKI'!$D$16:$F$27,2,0) -> Nhà máy điện và trạm biến áp | G10: =VLOOKUP(G$1,'TEN HOC PHAN HKI'!$D$16:$F$27,2,0) -> Điện công nghiệp | H10: =VLOOKUP(H$1,'TEN HOC PHAN HKI'!$D$16:$F$27,2,0) -> 0 | I10: =VLOOKUP(I$1,'TEN HOC PHAN HKI'!$D$16:$F$27,2,0) -> 0 | J10: =VLOOKUP(J$1,'TEN HOC PHAN HKI'!$D$16:$F$27,2,0) -> 0 | ... N10: =VLOOKUP(N$1,'TEN HOC PHAN HKI'!$D$16:$F$27,2,0) -> Thực tập Đo lường cảm biến
B11: TC13CĐĐ3 | C11: =VLOOKUP(C$1,'TEN HOC PHAN HKI'!$D$16:$F$27,3,0) -> 3 | D11: =VLOOKUP(D$1,'TEN HOC PHAN HKI'!$D$16:$F$27,3,0) -> 2 | E11: =VLOOKUP(E$1,'TEN HOC PHAN HKI'!$D$16:$F$27,3,0) -> 2 | F11: =VLOOKUP(F$1,'TEN HOC PHAN HKI'!$D$16:$F$27,3,0) -> 2 | G11: =VLOOKUP(G$1,'TEN HOC PHAN HKI'!$D$16:$F$27,3,0) -> 3 | H11: =VLOOKUP(H$1,'TEN HOC PHAN HKI'!$D$16:$F$27,3,0) -> 0 | I11: =VLOOKUP(I$1,'TEN HOC PHAN HKI'!$D$16:$F$27,3,0) -> 0 | J11: =VLOOKUP(J$1,'TEN HOC PHAN HKI'!$D$16:$F$27,3,0) -> 0 | ... N11: =VLOOKUP(N$1,'TEN HOC PHAN HKI'!$D$16:$F$27,3,0) -> 2
A12: 1 | B12: 13CĐ-CK1 | C12: =VLOOKUP(C$1,'TEN HOC PHAN HKI'!$D$28:$F$39,2,0) -> Kinh tế công nghiệp và quản trị chất lượng | D12: =VLOOKUP(D$1,'TEN HOC PHAN HKI'!$D$28:$F$39,2,0) -> Truyền động thủy lực và khí nén trong CN | E12: =VLOOKUP(E$1,'TEN HOC PHAN HKI'!$D$28:$F$39,2,0) -> Công nghệ CNC | F12: =VLOOKUP(F$1,'TEN HOC PHAN HKI'!$D$28:$F$39,2,0) -> Công nghệ CAD/CAM | G12: =VLOOKUP(G$1,'TEN HOC PHAN HKI'!$D$28:$F$39,2,0) -> Nguyên lý cắt kim loại | H12: =VLOOKUP(H$1,'TEN HOC PHAN HKI'!$D$28:$F$39,2,0) -> Đồ gá | I12: =VLOOKUP(I$1,'TEN HOC PHAN HKI'!$D$28:$F$39,2,0) -> 0 | J12: =VLOOKUP(J$1,'TEN HOC PHAN HKI'!$D$28:$F$39,2,0) -> Đồ án tính toán thiết kế hệ dẫn động cơ khí | ... N12: =VLOOKUP(N$1,'TEN HOC PHAN HKI'!$D$28:$F$39,2,0) -> 0
B13: TC13CĐCK1 | C13: =VLOOKUP(C$1,'TEN HOC PHAN HKI'!$D$28:$F$39,3,0) -> 2 | D13: =VLOOKUP(D$1,'TEN HOC PHAN HKI'!$D$28:$F$39,3,0) -> 2 | E13: =VLOOKUP(E$1,'TEN HOC PHAN HKI'!$D$28:$F$39,3,0) -> 3 | F13: =VLOOKUP(F$1,'TEN HOC PHAN HKI'!$D$28:$F$39,3,0) -> 3 | G13: =VLOOKUP(G$1,'TEN HOC PHAN HKI'!$D$28:$F$39,3,0) -> 2 | H13: =VLOOKUP(H$1,'TEN HOC PHAN HKI'!$D$28:$F$39,3,0) -> 2 | I13: =VLOOKUP(I$1,'TEN HOC PHAN HKI'!$D$28:$F$39,3,0) -> 0 | J13: =VLOOKUP(J$1,'TEN HOC PHAN HKI'!$D$28:$F$39,3,0) -> 1 | ... N13: =VLOOKUP(N$1,'TEN HOC PHAN HKI'!$D$28:$F$39,3,0) -> 0
A14: 2 | B14: 13CĐ-CK2 | C14: =VLOOKUP(C$1,'TEN HOC PHAN HKI'!$D$28:$F$39,2,0) -> Kinh tế công nghiệp và quản trị chất lượng | D14: =VLOOKUP(D$1,'TEN HOC PHAN HKI'!$D$28:$F$39,2,0) -> Truyền động thủy lực và khí nén trong CN | E14: =VLOOKUP(E$1,'TEN HOC PHAN HKI'!$D$28:$F$39,2,0) -> Công nghệ CNC | F14: =VLOOKUP(F$1,'TEN HOC PHAN HKI'!$D$28:$F$39,2,0) -> Công nghệ CAD/CAM | G14: =VLOOKUP(G$1,'TEN HOC PHAN HKI'!$D$28:$F$39,2,0) -> Nguyên lý cắt kim loại | H14: =VLOOKUP(H$1,'TEN HOC PHAN HKI'!$D$28:$F$39,2,0) -> Đồ gá | I14: =VLOOKUP(I$1,'TEN HOC PHAN HKI'!$D$28:$F$39,2,0) -> 0 | J14: =VLOOKUP(J$1,'TEN HOC PHAN HKI'!$D$28:$F$39,2,0) -> Đồ án tính toán thiết kế hệ dẫn động cơ khí | ... N14: =VLOOKUP(N$1,'TEN HOC PHAN HKI'!$D$28:$F$39,2,0) -> 0
B15: TC13CĐCK2 | C15: =VLOOKUP(C$1,'TEN HOC PHAN HKI'!$D$28:$F$39,3,0) -> 2 | D15: =VLOOKUP(D$1,'TEN HOC PHAN HKI'!$D$28:$F$39,3,0) -> 2 | E15: =VLOOKUP(E$1,'TEN HOC PHAN HKI'!$D$28:$F$39,3,0) -> 3 | F15: =VLOOKUP(F$1,'TEN HOC PHAN HKI'!$D$28:$F$39,3,0) -> 3 | G15: =VLOOKUP(G$1,'TEN HOC PHAN HKI'!$D$28:$F$39,3,0) -> 2 | H15: =VLOOKUP(H$1,'TEN HOC PHAN HKI'!$D$28:$F$39,3,0) -> 2 | I15: =VLOOKUP(I$1,'TEN HOC PHAN HKI'!$D$28:$F$39,3,0) -> 0 | J15: =VLOOKUP(J$1,'TEN HOC PHAN HKI'!$D$28:$F$39,3,0) -> 1 | ... N15: =VLOOKUP(N$1,'TEN HOC PHAN HKI'!$D$28:$F$39,3,0) -> 0
A16: 3 | B16: 13CĐ-CK3 | C16: =VLOOKUP(C$1,'TEN HOC PHAN HKI'!$D$28:$F$39,2,0) -> Kinh tế công nghiệp và quản trị chất lượng | D16: =VLOOKUP(D$1,'TEN HOC PHAN HKI'!$D$28:$F$39,2,0) -> Truyền động thủy lực và khí nén trong CN | E16: =VLOOKUP(E$1,'TEN HOC PHAN HKI'!$D$28:$F$39,2,0) -> Công nghệ CNC | F16: =VLOOKUP(F$1,'TEN HOC PHAN HKI'!$D$28:$F$39,2,0) -> Công nghệ CAD/CAM | G16: =VLOOKUP(G$1,'TEN HOC PHAN HKI'!$D$28:$F$39,2,0) -> Nguyên lý cắt kim loại | H16: =VLOOKUP(H$1,'TEN HOC PHAN HKI'!$D$28:$F$39,2,0) -> Đồ gá | I16: =VLOOKUP(I$1,'TEN HOC PHAN HKI'!$D$28:$F$39,2,0) -> 0 | J16: =VLOOKUP(J$1,'TEN HOC PHAN HKI'!$D$28:$F$39,2,0) -> Đồ án tính toán thiết kế hệ dẫn động cơ khí | ... N16: =VLOOKUP(N$1,'TEN HOC PHAN HKI'!$D$28:$F$39,2,0) -> 0
B17: TC13CĐCK3 | C17: =VLOOKUP(C$1,'TEN HOC PHAN HKI'!$D$28:$F$39,3,0) -> 2 | D17: =VLOOKUP(D$1,'TEN HOC PHAN HKI'!$D$28:$F$39,3,0) -> 2 | E17: =VLOOKUP(E$1,'TEN HOC PHAN HKI'!$D$28:$F$39,3,0) -> 3 | F17: =VLOOKUP(F$1,'TEN HOC PHAN HKI'!$D$28:$F$39,3,0) -> 3 | G17: =VLOOKUP(G$1,'TEN HOC PHAN HKI'!$D$28:$F$39,3,0) -> 2 | H17: =VLOOKUP(H$1,'TEN HOC PHAN HKI'!$D$28:$F$39,3,0) -> 2 | I17: =VLOOKUP(I$1,'TEN HOC PHAN HKI'!$D$28:$F$39,3,0) -> 0 | J17: =VLOOKUP(J$1,'TEN HOC PHAN HKI'!$D$28:$F$39,3,0) -> 1 | ... N17: =VLOOKUP(N$1,'TEN HOC PHAN HKI'!$D$28:$F$39,3,0) -> 0
A18: 4 | B18: 13CĐ-CK4 | C18: =VLOOKUP(C$1,'TEN HOC PHAN HKI'!$D$28:$F$39,2,0) -> Kinh tế công nghiệp và quản trị chất lượng | D18: =VLOOKUP(D$1,'TEN HOC PHAN HKI'!$D$28:$F$39,2,0) -> Truyền động thủy lực và khí nén trong CN | E18: =VLOOKUP(E$1,'TEN HOC PHAN HKI'!$D$28:$F$39,2,0) -> Công nghệ CNC | F18: =VLOOKUP(F$1,'TEN HOC PHAN HKI'!$D$28:$F$39,2,0) -> Công nghệ CAD/CAM | G18: =VLOOKUP(G$1,'TEN HOC PHAN HKI'!$D$28:$F$39,2,0) -> Nguyên lý cắt kim loại | H18: =VLOOKUP(H$1,'TEN HOC PHAN HKI'!$D$28:$F$39,2,0) -> Đồ gá | I18: =VLOOKUP(I$1,'TEN HOC PHAN HKI'!$D$28:$F$39,2,0) -> 0 | J18: =VLOOKUP(J$1,'TEN HOC PHAN HKI'!$D$28:$F$39,2,0) -> Đồ án tính toán thiết kế hệ dẫn động cơ khí | ... N18: =VLOOKUP(N$1,'TEN HOC PHAN HKI'!$D$28:$F$39,2,0) -> 0
B19: TC13CĐCK4 | C19: =VLOOKUP(C$1,'TEN HOC PHAN HKI'!$D$28:$F$39,3,0) -> 2 | D19: =VLOOKUP(D$1,'TEN HOC PHAN HKI'!$D$28:$F$39,3,0) -> 2 | E19: =VLOOKUP(E$1,'TEN HOC PHAN HKI'!$D$28:$F$39,3,0) -> 3 | F19: =VLOOKUP(F$1,'TEN HOC PHAN HKI'!$D$28:$F$39,3,0) -> 3 | G19: =VLOOKUP(G$1,'TEN HOC PHAN HKI'!$D$28:$F$39,3,0) -> 2 | H19: =VLOOKUP(H$1,'TEN HOC PHAN HKI'!$D$28:$F$39,3,0) -> 2 | I19: =VLOOKUP(I$1,'TEN HOC PHAN HKI'!$D$28:$F$39,3,0) -> 0 | J19: =VLOOKUP(J$1,'TEN HOC PHAN HKI'!$D$28:$F$39,3,0) -> 1 | ... N19: =VLOOKUP(N$1,'TEN HOC PHAN HKI'!$D$28:$F$39,3,0) -> 0
A20: 5 | B20: 13CĐ-CK5 | C20: =VLOOKUP(C$1,'TEN HOC PHAN HKI'!$D$28:$F$39,2,0) -> Kinh tế công nghiệp và quản trị chất lượng | D20: =VLOOKUP(D$1,'TEN HOC PHAN HKI'!$D$28:$F$39,2,0) -> Truyền động thủy lực và khí nén trong CN | E20: =VLOOKUP(E$1,'TEN HOC PHAN HKI'!$D$28:$F$39,2,0) -> Công nghệ CNC | F20: =VLOOKUP(F$1,'TEN HOC PHAN HKI'!$D$28:$F$39,2,0) -> Công nghệ CAD/CAM | G20: =VLOOKUP(G$1,'TEN HOC PHAN HKI'!$D$28:$F$39,2,0) -> Nguyên lý cắt kim loại | H20: =VLOOKUP(H$1,'TEN HOC PHAN HKI'!$D$28:$F$39,2,0) -> Đồ gá | I20: =VLOOKUP(I$1,'TEN HOC PHAN HKI'!$D$28:$F$39,2,0) -> 0 | J20: =VLOOKUP(J$1,'TEN HOC PHAN HKI'!$D$28:$F$39,2,0) -> Đồ án tính toán thiết kế hệ dẫn động cơ khí | ... N20: =VLOOKUP(N$1,'TEN HOC PHAN HKI'!$D$28:$F$39,2,0) -> 0
B21: TC13CĐCK5 | C21: =VLOOKUP(C$1,'TEN HOC PHAN HKI'!$D$28:$F$39,3,0) -> 2 | D21: =VLOOKUP(D$1,'TEN HOC PHAN HKI'!$D$28:$F$39,3,0) -> 2 | E21: =VLOOKUP(E$1,'TEN HOC PHAN HKI'!$D$28:$F$39,3,0) -> 3 | F21: =VLOOKUP(F$1,'TEN HOC PHAN HKI'!$D$28:$F$39,3,0) -> 3 | G21: =VLOOKUP(G$1,'TEN HOC PHAN HKI'!$D$28:$F$39,3,0) -> 2 | H21: =VLOOKUP(H$1,'TEN HOC PHAN HKI'!$D$28:$F$39,3,0) -> 2 | I21: =VLOOKUP(I$1,'TEN HOC PHAN HKI'!$D$28:$F$39,3,0) -> 0 | J21: =VLOOKUP(J$1,'TEN HOC PHAN HKI'!$D$28:$F$39,3,0) -> 1 | ... N21: =VLOOKUP(N$1,'TEN HOC PHAN HKI'!$D$28:$F$39,3,0) -> 0
A22: 1 | B22: 13CĐ-Ô1 | C22: =VLOOKUP(C$1,'TEN HOC PHAN HKI'!$D$40:$F$51,2,0) -> Ôtô | D22: =VLOOKUP(D$1,'TEN HOC PHAN HKI'!$D$40:$F$51,2,0) -> Công nghệ bảo dưỡng và sửa chữa ôtô | E22: =VLOOKUP(E$1,'TEN HOC PHAN HKI'!$D$40:$F$51,2,0) -> 0 | F22: =VLOOKUP(F$1,'TEN HOC PHAN HKI'!$D$40:$F$51,2,0) -> 0 | G22: =VLOOKUP(G$1,'TEN HOC PHAN HKI'!$D$40:$F$51,2,0) -> 0 | H22: =VLOOKUP(H$1,'TEN HOC PHAN HKI'!$D$40:$F$51,2,0) -> 0 | I22: =VLOOKUP(I$1,'TEN HOC PHAN HKI'!$D$40:$F$51,2,0) -> 0 | J22: =VLOOKUP(J$1,'TEN HOC PHAN HKI'!$D$40:$F$51,2,0) -> Đồ án môn học chi tiết máy | ... N22: =VLOOKUP(N$1,'TEN HOC PHAN HKI'!$D$40:$F$51,2,0) -> Thực tập Điện Ôtô 1
B23: TC13CĐÔ1 | C23: =VLOOKUP(C$1,'TEN HOC PHAN HKI'!$D$40:$F$51,3,0) -> 4 | D23: =VLOOKUP(D$1,'TEN HOC PHAN HKI'!$D$40:$F$51,3,0) -> 2 | E23: =VLOOKUP(E$1,'TEN HOC PHAN HKI'!$D$40:$F$51,3,0) -> 0 | F23: =VLOOKUP(F$1,'TEN HOC PHAN HKI'!$D$40:$F$51,3,0) -> 0 | G23: =VLOOKUP(G$1,'TEN HOC PHAN HKI'!$D$40:$F$51,3,0) -> 0 | H23: =VLOOKUP(H$1,'TEN HOC PHAN HKI'!$D$40:$F$51,3,0) -> 0 | I23: =VLOOKUP(I$1,'TEN HOC PHAN HKI'!$D$40:$F$51,3,0) -> 0 | J23: =VLOOKUP(J$1,'TEN HOC PHAN HKI'!$D$40:$F$51,3,0) -> 1 | ... N23: =VLOOKUP(N$1,'TEN HOC PHAN HKI'!$D$40:$F$51,3,0) -> 2
A24: 2 | B24: 13CĐ-Ô2 | C24: =VLOOKUP(C$1,'TEN HOC PHAN HKI'!$D$40:$F$51,2,0) -> Ôtô | D24: =VLOOKUP(D$1,'TEN HOC PHAN HKI'!$D$40:$F$51,2,0) -> Công nghệ bảo dưỡng và sửa chữa ôtô | E24: =VLOOKUP(E$1,'TEN HOC PHAN HKI'!$D$40:$F$51,2,0) -> 0 | F24: =VLOOKUP(F$1,'TEN HOC PHAN HKI'!$D$40:$F$51,2,0) -> 0 | G24: =VLOOKUP(G$1,'TEN HOC PHAN HKI'!$D$40:$F$51,2,0) -> 0 | H24: =VLOOKUP(H$1,'TEN HOC PHAN HKI'!$D$40:$F$51,2,0) -> 0 | I24: =VLOOKUP(I$1,'TEN HOC PHAN HKI'!$D$40:$F$51,2,0) -> 0 | J24: =VLOOKUP(J$1,'TEN HOC PHAN HKI'!$D$40:$F$51,2,0) -> Đồ án môn học chi tiết máy | ... N24: =VLOOKUP(N$1,'TEN HOC PHAN HKI'!$D$40:$F$51,2,0) -> Thực tập Điện Ôtô 1
B25: TC13CĐÔ2 | C25: =VLOOKUP(C$1,'TEN HOC PHAN HKI'!$D$40:$F$51,3,0) -> 4 | D25: =VLOOKUP(D$1,'TEN HOC PHAN HKI'!$D$40:$F$51,3,0) -> 2 | E25: =VLOOKUP(E$1,'TEN HOC PHAN HKI'!$D$40:$F$51,3,0) -> 0 | F25: =VLOOKUP(F$1,'TEN HOC PHAN HKI'!$D$40:$F$51,3,0) -> 0 | G25: =VLOOKUP(G$1,'TEN HOC PHAN HKI'!$D$40:$F$51,3,0) -> 0 | H25: =VLOOKUP(H$1,'TEN HOC PHAN HKI'!$D$40:$F$51,3,0) -> 0 | I25: =VLOOKUP(I$1,'TEN HOC PHAN HKI'!$D$40:$F$51,3,0) -> 0 | J25: =VLOOKUP(J$1,'TEN HOC PHAN HKI'!$D$40:$F$51,3,0) -> 1 | ... N25: =VLOOKUP(N$1,'TEN HOC PHAN HKI'!$D$40:$F$51,3,0) -> 2
A26: 3 | B26: 13CĐ-Ô3 | C26: =VLOOKUP(C$1,'TEN HOC PHAN HKI'!$D$40:$F$51,2,0) -> Ôtô | D26: =VLOOKUP(D$1,'TEN HOC PHAN HKI'!$D$40:$F$51,2,0) -> Công nghệ bảo dưỡng và sửa chữa ôtô | E26: =VLOOKUP(E$1,'TEN HOC PHAN HKI'!$D$40:$F$51,2,0) -> 0 | F26: =VLOOKUP(F$1,'TEN HOC PHAN HKI'!$D$40:$F$51,2,0) -> 0 | G26: =VLOOKUP(G$1,'TEN HOC PHAN HKI'!$D$40:$F$51,2,0) -> 0 | H26: =VLOOKUP(H$1,'TEN HOC PHAN HKI'!$D$40:$F$51,2,0) -> 0 | I26: =VLOOKUP(I$1,'TEN HOC PHAN HKI'!$D$40:$F$51,2,0) -> 0 | J26: =VLOOKUP(J$1,'TEN HOC PHAN HKI'!$D$40:$F$51,2,0) -> Đồ án môn học chi tiết máy | ... N26: =VLOOKUP(N$1,'TEN HOC PHAN HKI'!$D$40:$F$51,2,0) -> Thực tập Điện Ôtô 1
B27: TC13CĐÔ3 | C27: =VLOOKUP(C$1,'TEN HOC PHAN HKI'!$D$40:$F$51,3,0) -> 4 | D27: =VLOOKUP(D$1,'TEN HOC PHAN HKI'!$D$40:$F$51,3,0) -> 2 | E27: =VLOOKUP(E$1,'TEN HOC PHAN HKI'!$D$40:$F$51,3,0) -> 0 | F27: =VLOOKUP(F$1,'TEN HOC PHAN HKI'!$D$40:$F$51,3,0) -> 0 | G27: =VLOOKUP(G$1,'TEN HOC PHAN HKI'!$D$40:$F$51,3,0) -> 0 | H27: =VLOOKUP(H$1,'TEN HOC PHAN HKI'!$D$40:$F$51,3,0) -> 0 | I27: =VLOOKUP(I$1,'TEN HOC PHAN HKI'!$D$40:$F$51,3,0) -> 0 | J27: =VLOOKUP(J$1,'TEN HOC PHAN HKI'!$D$40:$F$51,3,0) -> 1 | ... N27: =VLOOKUP(N$1,'TEN HOC PHAN HKI'!$D$40:$F$51,3,0) -> 2
A28: 4 | B28: 13CĐ-Ô4 | C28: =VLOOKUP(C$1,'TEN HOC PHAN HKI'!$D$40:$F$51,2,0) -> Ôtô | D28: =VLOOKUP(D$1,'TEN HOC PHAN HKI'!$D$40:$F$51,2,0) -> Công nghệ bảo dưỡng và sửa chữa ôtô | E28: =VLOOKUP(E$1,'TEN HOC PHAN HKI'!$D$40:$F$51,2,0) -> 0 | F28: =VLOOKUP(F$1,'TEN HOC PHAN HKI'!$D$40:$F$51,2,0) -> 0 | G28: =VLOOKUP(G$1,'TEN HOC PHAN HKI'!$D$40:$F$51,2,0) -> 0 | H28: =VLOOKUP(H$1,'TEN HOC PHAN HKI'!$D$40:$F$51,2,0) -> 0 | I28: =VLOOKUP(I$1,'TEN HOC PHAN HKI'!$D$40:$F$51,2,0) -> 0 | J28: =VLOOKUP(J$1,'TEN HOC PHAN HKI'!$D$40:$F$51,2,0) -> Đồ án môn học chi tiết máy | ... N28: =VLOOKUP(N$1,'TEN HOC PHAN HKI'!$D$40:$F$51,2,0) -> Thực tập Điện Ôtô 1
B29: TC13CĐÔ4 | C29: =VLOOKUP(C$1,'TEN HOC PHAN HKI'!$D$40:$F$51,3,0) -> 4 | D29: =VLOOKUP(D$1,'TEN HOC PHAN HKI'!$D$40:$F$51,3,0) -> 2 | E29: =VLOOKUP(E$1,'TEN HOC PHAN HKI'!$D$40:$F$51,3,0) -> 0 | F29: =VLOOKUP(F$1,'TEN HOC PHAN HKI'!$D$40:$F$51,3,0) -> 0 | G29: =VLOOKUP(G$1,'TEN HOC PHAN HKI'!$D$40:$F$51,3,0) -> 0 | H29: =VLOOKUP(H$1,'TEN HOC PHAN HKI'!$D$40:$F$51,3,0) -> 0 | I29: =VLOOKUP(I$1,'TEN HOC PHAN HKI'!$D$40:$F$51,3,0) -> 0 | J29: =VLOOKUP(J$1,'TEN HOC PHAN HKI'!$D$40:$F$51,3,0) -> 1 | ... N29: =VLOOKUP(N$1,'TEN HOC PHAN HKI'!$D$40:$F$51,3,0) -> 2
A30: 1 | B30: 13CĐ-NL1 | C30: =VLOOKUP(C$1,'TEN HOC PHAN HKI'!$D$52:$F$63,2,0) -> Thiết bị đo và tự động điều khiển | D30: =VLOOKUP(D$1,'TEN HOC PHAN HKI'!$D$52:$F$63,2,0) -> Lò hơi công nghiệp | E30: =VLOOKUP(E$1,'TEN HOC PHAN HKI'!$D$52:$F$63,2,0) -> Thiết kế lắp đặt trạm lạnh | F30: =VLOOKUP(F$1,'TEN HOC PHAN HKI'!$D$52:$F$63,2,0) -> Vận hành bảo dưỡng và sửa chữa HTL | G30: =VLOOKUP(G$1,'TEN HOC PHAN HKI'!$D$52:$F$63,2,0) -> Kỹ thuật thông gió và hút bụi | H30: =VLOOKUP(H$1,'TEN HOC PHAN HKI'!$D$52:$F$63,2,0) -> 0 | I30: =VLOOKUP(I$1,'TEN HOC PHAN HKI'!$D$52:$F$63,2,0) -> 0 | J30: =VLOOKUP(J$1,'TEN HOC PHAN HKI'!$D$52:$F$63,2,0) -> 0 | ... N30: =VLOOKUP(N$1,'TEN HOC PHAN HKI'!$D$52:$F$63,2,0) -> 0
B31: TC13CĐNL1 | C31: =VLOOKUP(C$1,'TEN HOC PHAN HKI'!$D$52:$F$63,3,0) -> 2 | D31: =VLOOKUP(D$1,'TEN HOC PHAN HKI'!$D$52:$F$63,3,0) -> 2 | E31: =VLOOKUP(E$1,'TEN HOC PHAN HKI'!$D$52:$F$63,3,0) -> 2 | F31: =VLOOKUP(F$1,'TEN HOC PHAN HKI'!$D$52:$F$63,3,0) -> 2 | G31: =VLOOKUP(G$1,'TEN HOC PHAN HKI'!$D$52:$F$63,3,0) -> 2 | H31: =VLOOKUP(H$1,'TEN HOC PHAN HKI'!$D$52:$F$63,3,0) -> 0 | I31: =VLOOKUP(I$1,'TEN HOC PHAN HKI'!$D$52:$F$63,3,0) -> 0 | J31: =VLOOKUP(J$1,'TEN HOC PHAN HKI'!$D$52:$F$63,3,0) -> 0 | ... N31: =VLOOKUP(N$1,'TEN HOC PHAN HKI'!$D$52:$F$63,3,0) -> 0
A32: 2 | B32: 13CĐ-NL2 | C32: =VLOOKUP(C$1,'TEN HOC PHAN HKI'!$D$52:$F$63,2,0) -> Thiết bị đo và tự động điều khiển | D32: =VLOOKUP(D$1,'TEN HOC PHAN HKI'!$D$52:$F$63,2,0) -> Lò hơi công nghiệp | E32: =VLOOKUP(E$1,'TEN HOC PHAN HKI'!$D$52:$F$63,2,0) -> Thiết kế lắp đặt trạm lạnh | F32: =VLOOKUP(F$1,'TEN HOC PHAN HKI'!$D$52:$F$63,2,0) -> Vận hành bảo dưỡng và sửa chữa HTL | G32: =VLOOKUP(G$1,'TEN HOC PHAN HKI'!$D$52:$F$63,2,0) -> Kỹ thuật thông gió và hút bụi | H32: =VLOOKUP(H$1,'TEN HOC PHAN HKI'!$D$52:$F$63,2,0) -> 0 | I32: =VLOOKUP(I$1,'TEN HOC PHAN HKI'!$D$52:$F$63,2,0) -> 0 | J32: =VLOOKUP(J$1,'TEN HOC PHAN HKI'!$D$52:$F$63,2,0) -> 0 | ... N32: =VLOOKUP(N$1,'TEN HOC PHAN HKI'!$D$52:$F$63,2,0) -> 0
B33: TC13CĐNL2 | C33: =VLOOKUP(C$1,'TEN HOC PHAN HKI'!$D$52:$F$63,3,0) -> 2 | D33: =VLOOKUP(D$1,'TEN HOC PHAN HKI'!$D$52:$F$63,3,0) -> 2 | E33: =VLOOKUP(E$1,'TEN HOC PHAN HKI'!$D$52:$F$63,3,0) -> 2 | F33: =VLOOKUP(F$1,'TEN HOC PHAN HKI'!$D$52:$F$63,3,0) -> 2 | G33: =VLOOKUP(G$1,'TEN HOC PHAN HKI'!$D$52:$F$63,3,0) -> 2 | H33: =VLOOKUP(H$1,'TEN HOC PHAN HKI'!$D$52:$F$63,3,0) -> 0 | I33: =VLOOKUP(I$1,'TEN HOC PHAN HKI'!$D$52:$F$63,3,0) -> 0 | J33: =VLOOKUP(J$1,'TEN HOC PHAN HKI'!$D$52:$F$63,3,0) -> 0 | ... N33: =VLOOKUP(N$1,'TEN HOC PHAN HKI'!$D$52:$F$63,3,0) -> 0
A34: 1 | B34: 13CĐ-M | C34: =VLOOKUP(C$1,'TEN HOC PHAN HKI'!$D$64:$F$75,2,0) -> Quản lý chất lượng trang phục | D34: =VLOOKUP(D$1,'TEN HOC PHAN HKI'!$D$64:$F$75,2,0) -> Tổ chức và quản lý may công nghiệp | E34: =VLOOKUP(E$1,'TEN HOC PHAN HKI'!$D$64:$F$75,2,0) -> Quản lý đơn hàng | F34: =VLOOKUP(F$1,'TEN HOC PHAN HKI'!$D$64:$F$75,2,0) -> Thiết kế thời trang trên máy tính | G34: =VLOOKUP(G$1,'TEN HOC PHAN HKI'!$D$64:$F$75,2,0) -> 0 | H34: =VLOOKUP(H$1,'TEN HOC PHAN HKI'!$D$64:$F$75,2,0) -> 0 | I34: =VLOOKUP(I$1,'TEN HOC PHAN HKI'!$D$64:$F$75,2,0) -> 0 | J34: =VLOOKUP(J$1,'TEN HOC PHAN HKI'!$D$64:$F$75,2,0) -> Đồ án Thiết kế trang phục | ... N34: =VLOOKUP(N$1,'TEN HOC PHAN HKI'!$D$64:$F$75,2,0) -> 0
B35: TC13CĐM | C35: =VLOOKUP(C$1,'TEN HOC PHAN HKI'!$D$64:$F$75,3,0) -> 2 | D35: =VLOOKUP(D$1,'TEN HOC PHAN HKI'!$D$64:$F$75,3,0) -> 2 | E35: =VLOOKUP(E$1,'TEN HOC PHAN HKI'!$D$64:$F$75,3,0) -> 2 | F35: =VLOOKUP(F$1,'TEN HOC PHAN HKI'!$D$64:$F$75,3,0) -> 2 | G35: =VLOOKUP(G$1,'TEN HOC PHAN HKI'!$D$64:$F$75,3,0) -> 0 | H35: =VLOOKUP(H$1,'TEN HOC PHAN HKI'!$D$64:$F$75,3,0) -> 0 | I35: =VLOOKUP(I$1,'TEN HOC PHAN HKI'!$D$64:$F$75,3,0) -> 0 | J35: =VLOOKUP(J$1,'TEN HOC PHAN HKI'!$D$64:$F$75,3,0) -> 1 | ... N35: =VLOOKUP(N$1,'TEN HOC PHAN HKI'!$D$64:$F$75,3,0) -> 0
A36: 1 | B36: 13CĐ-TP1 | C36: =VLOOKUP(C$1,'TEN HOC PHAN HKI'!$D$76:$F$87,2,0) -> Kỹ năng giao tiếp | D36: =VLOOKUP(D$1,'TEN HOC PHAN HKI'!$D$76:$F$87,2,0) -> Lý thuyết đồ thị | E36: =VLOOKUP(E$1,'TEN HOC PHAN HKI'!$D$76:$F$87,2,0) -> Lập trình cơ sở dữ liệu | F36: =VLOOKUP(F$1,'TEN HOC PHAN HKI'!$D$76:$F$87,2,0) -> Lập trình PHP | G36: =VLOOKUP(G$1,'TEN HOC PHAN HKI'!$D$76:$F$87,2,0) -> 0 | H36: =VLOOKUP(H$1,'TEN HOC PHAN HKI'!$D$76:$F$87,2,0) -> 0 | I36: =VLOOKUP(I$1,'TEN HOC PHAN HKI'!$D$76:$F$87,2,0) -> 0 | J36: =VLOOKUP(J$1,'TEN HOC PHAN HKI'!$D$76:$F$87,2,0) -> 0 | ... N36: =VLOOKUP(N$1,'TEN HOC PHAN HKI'!$D$76:$F$87,2,0) -> 0
B37: TC13CĐTP1 | C37: =VLOOKUP(C$1,'TEN HOC PHAN HKI'!$D$76:$F$87,3,0) -> 2 | D37: =VLOOKUP(D$1,'TEN HOC PHAN HKI'!$D$76:$F$87,3,0) -> 2 | E37: =VLOOKUP(E$1,'TEN HOC PHAN HKI'!$D$76:$F$87,3,0) -> 4 | F37: =VLOOKUP(F$1,'TEN HOC PHAN HKI'!$D$76:$F$87,3,0) -> 5 | G37: =VLOOKUP(G$1,'TEN HOC PHAN HKI'!$D$76:$F$87,3,0) -> 0 | H37: =VLOOKUP(H$1,'TEN HOC PHAN HKI'!$D$76:$F$87,3,0) -> 0 | I37: =VLOOKUP(I$1,'TEN HOC PHAN HKI'!$D$76:$F$87,3,0) -> 0 | J37: =VLOOKUP(J$1,'TEN HOC PHAN HKI'!$D$76:$F$87,3,0) -> 0 | ... N37: =VLOOKUP(N$1,'TEN HOC PHAN HKI'!$D$76:$F$87,3,0) -> 0
A38: 2 | B38: 13CĐ-TP2 | C38: =VLOOKUP(C$1,'TEN HOC PHAN HKI'!$D$76:$F$87,2,0) -> Kỹ năng giao tiếp | D38: =VLOOKUP(D$1,'TEN HOC PHAN HKI'!$D$76:$F$87,2,0) -> Lý thuyết đồ thị | E38: =VLOOKUP(E$1,'TEN HOC PHAN HKI'!$D$76:$F$87,2,0) -> Lập trình cơ sở dữ liệu | F38: =VLOOKUP(F$1,'TEN HOC PHAN HKI'!$D$76:$F$87,2,0) -> Lập trình PHP | G38: =VLOOKUP(G$1,'TEN HOC PHAN HKI'!$D$76:$F$87,2,0) -> 0 | H38: =VLOOKUP(H$1,'TEN HOC PHAN HKI'!$D$76:$F$87,2,0) -> 0 | I38: =VLOOKUP(I$1,'TEN HOC PHAN HKI'!$D$76:$F$87,2,0) -> 0 | J38: =VLOOKUP(J$1,'TEN HOC PHAN HKI'!$D$76:$F$87,2,0) -> 0 | ... N38: =VLOOKUP(N$1,'TEN HOC PHAN HKI'!$D$76:$F$87,2,0) -> 0
B39: TC13CĐTP2 | C39: =VLOOKUP(C$1,'TEN HOC PHAN HKI'!$D$76:$F$87,3,0) -> 2 | D39: =VLOOKUP(D$1,'TEN HOC PHAN HKI'!$D$76:$F$87,3,0) -> 2 | E39: =VLOOKUP(E$1,'TEN HOC PHAN HKI'!$D$76:$F$87,3,0) -> 4 | F39: =VLOOKUP(F$1,'TEN HOC PHAN HKI'!$D$76:$F$87,3,0) -> 5 | G39: =VLOOKUP(G$1,'TEN HOC PHAN HKI'!$D$76:$F$87,3,0) -> 0 | H39: =VLOOKUP(H$1,'TEN HOC PHAN HKI'!$D$76:$F$87,3,0) -> 0 | I39: =VLOOKUP(I$1,'TEN HOC PHAN HKI'!$D$76:$F$87,3,0) -> 0 | J39: =VLOOKUP(J$1,'TEN HOC PHAN HKI'!$D$76:$F$87,3,0) -> 0 | ... N39: =VLOOKUP(N$1,'TEN HOC PHAN HKI'!$D$76:$F$87,3,0) -> 0
A40: 1 | B40: 13CĐ-TM1 | C40: =VLOOKUP(C$1,'TEN HOC PHAN HKI'!$D$88:$F$99,2,0) -> Kỹ năng giao tiếp | D40: =VLOOKUP(D$1,'TEN HOC PHAN HKI'!$D$88:$F$99,2,0) -> Lý thuyết đồ thị | E40: =VLOOKUP(E$1,'TEN HOC PHAN HKI'!$D$88:$F$99,2,0) -> Phương pháp nghiên cứu khoa học | F40: =VLOOKUP(F$1,'TEN HOC PHAN HKI'!$D$88:$F$99,2,0) -> Thiết kế Web | G40: =VLOOKUP(G$1,'TEN HOC PHAN HKI'!$D$88:$F$99,2,0) -> Mạng Linux 1 | H40: =VLOOKUP(H$1,'TEN HOC PHAN HKI'!$D$88:$F$99,2,0) -> Mạng nâng cao | I40: =VLOOKUP(I$1,'TEN HOC PHAN HKI'!$D$88:$F$99,2,0) -> 0 | J40: =VLOOKUP(J$1,'TEN HOC PHAN HKI'!$D$88:$F$99,2,0) -> 0 | ... N40: =VLOOKUP(N$1,'TEN HOC PHAN HKI'!$D$88:$F$99,2,0) -> 0
B41: TC13CĐTM1 | C41: =VLOOKUP(C$1,'TEN HOC PHAN HKI'!$D$88:$F$99,3,0) -> 2 | D41: =VLOOKUP(D$1,'TEN HOC PHAN HKI'!$D$88:$F$99,3,0) -> 2 | E41: =VLOOKUP(E$1,'TEN HOC PHAN HKI'!$D$88:$F$99,3,0) -> 2 | F41: =VLOOKUP(F$1,'TEN HOC PHAN HKI'!$D$88:$F$99,3,0) -> 4 | G41: =VLOOKUP(G$1,'TEN HOC PHAN HKI'!$D$88:$F$99,3,0) -> 2 | H41: =VLOOKUP(H$1,'TEN HOC PHAN HKI'!$D$88:$F$99,3,0) -> 3 | I41: =VLOOKUP(I$1,'TEN HOC PHAN HKI'!$D$88:$F$99,3,0) -> 0 | J41: =VLOOKUP(J$1,'TEN HOC PHAN HKI'!$D$88:$F$99,3,0) -> 0 | ... N41: =VLOOKUP(N$1,'TEN HOC PHAN HKI'!$D$88:$F$99,3,0) -> 0
A42: 2 | B42: 13CĐ-TM2 | C42: =VLOOKUP(C$1,'TEN HOC PHAN HKI'!$D$88:$F$99,2,0) -> Kỹ năng giao tiếp | D42: =VLOOKUP(D$1,'TEN HOC PHAN HKI'!$D$88:$F$99,2,0) -> Lý thuyết đồ thị | E42: =VLOOKUP(E$1,'TEN HOC PHAN HKI'!$D$88:$F$99,2,0) -> Phương pháp nghiên cứu khoa học | F42: =VLOOKUP(F$1,'TEN HOC PHAN HKI'!$D$88:$F$99,2,0) -> Thiết kế Web | G42: =VLOOKUP(G$1,'TEN HOC PHAN HKI'!$D$88:$F$99,2,0) -> Mạng Linux 1 | H42: =VLOOKUP(H$1,'TEN HOC PHAN HKI'!$D$88:$F$99,2,0) -> Mạng nâng cao | I42: =VLOOKUP(I$1,'TEN HOC PHAN HKI'!$D$88:$F$99,2,0) -> 0 | J42: =VLOOKUP(J$1,'TEN HOC PHAN HKI'!$D$88:$F$99,2,0) -> 0 | ... N42: =VLOOKUP(N$1,'TEN HOC PHAN HKI'!$D$88:$F$99,2,0) -> 0
B43: TC13CĐTM2 | C43: =VLOOKUP(C$1,'TEN HOC PHAN HKI'!$D$88:$F$99,3,0) -> 2 | D43: =VLOOKUP(D$1,'TEN HOC PHAN HKI'!$D$88:$F$99,3,0) -> 2 | E43: =VLOOKUP(E$1,'TEN HOC PHAN HKI'!$D$88:$F$99,3,0) -> 2 | F43: =VLOOKUP(F$1,'TEN HOC PHAN HKI'!$D$88:$F$99,3,0) -> 4 | G43: =VLOOKUP(G$1,'TEN HOC PHAN HKI'!$D$88:$F$99,3,0) -> 2 | H43: =VLOOKUP(H$1,'TEN HOC PHAN HKI'!$D$88:$F$99,3,0) -> 3 | I43: =VLOOKUP(I$1,'TEN HOC PHAN HKI'!$D$88:$F$99,3,0) -> 0 | J43: =VLOOKUP(J$1,'TEN HOC PHAN HKI'!$D$88:$F$99,3,0) -> 0 | ... N43: =VLOOKUP(N$1,'TEN HOC PHAN HKI'!$D$88:$F$99,3,0) -> 0

Sheet Hướng dẫn
A1: Quy trình nhập điểm tổng kết Học kỳ CĐKT theo tín chỉ
A2: STT | B2: Bảng tính thao tác | C2: Công việc thực hiện
A3: 1 | B3: Vào bảng tính DS LOP HKI | C3: Kích vào nút mũi tên của cột Lớp, chọn tên lớp, sau đó chọn toàn bộ MSSV (mã số sinh viên) của lớp, nhấn phím Ctrl-C để chép mã số SV.
A4: 2 | B4: Vào bảng tính HKI | C4: Kích vào ô đầu tiên của mã số sinh viên (ô B11), nhấn Ctrl-V.
C5: Ghi chú: Danh sách SV, tên các HP và số đơn vị học trình sẽ được truyền tự động vào cho các bảng tính của HKI và bảng điểm từng HP
A6: 3 | B6: Vào bảng tính TEN HOC PHAN HKI | C6: Tên học phần và số Đơn vị học trình đã được đưa vào các bảng tính tương ứng theo lớp, Quý Thầy Cô vào bảng tính này để biết học phần muốn nhập điểm nằm ở bảng tính nào.
A7: 4 | B7: Vào bảng tính "LT01, …, TH03" tương ứng với học phần "LT01, …, TH03" quy định trong bước 3 | C7: Coppy các điểm thành phần (từ cột E đến cột M) từ bảng điểm học phần (được gửi kèm) vào từng cột tương ứng trong các sheet LT01, … , TH01, … trong bảng tính này
C8: Ghi chú: Thứ tự danh sách trong các bảng tính đã thống nhất, do đó bắt buộc đảm bảo độ chính xác giữa các điểm thành phần với MSSV tương ứng. Nên kiểm tra lại sự thống nhất danh sách trong sổ tay giảng viên và danh sách trong file để tránh nhập điểm sai.
A9: 5 | B9: Lặp lại bước 4 cho các học phần còn lại
A10: 6 | B10: Vào bảng tính HKI | C10: Nhập hệ chuẩn vào cột E, số ngày nghỉ có phép vào cột F, số ngày không phép vào cột G.
C11: Cột GHI CHÚ điền vào các thông tin về hình thức kỷ luật (nếu có)
C12: Ghi chú: Trước khi thông báo kết quả học tập cho SV, xin quý Thầy Cô gửi file thông qua địa chỉ email của phòng (kqht.lytutrong@gmail.com) để kiểm tra, đối chiếu với các bảng điểm tổng kết học phần nhằm hạn chế sai sót. Nếu bảng tính có sai sót, phòng sẽ báo bằng email cho quý Thầy Cô.
C13: Nhập điểm kết quả rèn luyện vào cột BF
C14: Khi muốn in bảng tổng kết, nên che giấu (ẩn) các vị trí cột (hàng) không có điểm bằng cách chọn các cột (hàng) đó, rồi click chuột phải → Hide
A15: Để thống nhất trong việc quản lý điểm số của HSSV trong toàn trường, sau khi hoàn thành bảng tính, xin Quý Thầy Cô lưu lại file theo định dạng: tenlop_hocky_nămhọc (ví dụ 13CD-NL1_HKI_15-16) và gửi bằng email cho Khoa, Phòng TS-Đào tạo-GTVL : kqht.lytutrong@gmail.com.
A16: Các bảng tính: TEN HOC PHAN HKI; LOP-MON; DS LOP HKI là các bảng tính nền cơ sở, xin quý Thầy Cô đừng chỉnh sửa, để tránh sai sót, nhầm lẫn trong quá trình nhập điểm tổng kết.
A17: Nếu Quý Thầy Cô có vướng mắc gì, xin gửi email qua địa chỉ: kqht.lytutrong@gmail.com hoặc liên hệ trực tiếp với Phòng TS-Đào tạo-GTVL

Sheet DS LOP HKI
A1: STT | B1: MSSV | C1: Họ | D1: Tên | E1: Ngày sinh | F1: Lớp | G1: Phái | H1: Hệ | I1: ="Khoá 13CĐ = "&COUNTIF(J:J,"13") -> Khoá 13CĐ = 950 | K1: DS ngày 11/10/2015 | N1: =MAX(A:A) -> 65
A2: 1 | B2: 13D3010005 | C2: Nguyễn Thành | D2: Chung | E2: 10.02.94 | F2: 13CĐ-ĐT1 | H2: B | J2: =LEFT(F2,2) -> 13
A3: 2 | B3: 13D3010008 | C3: Nguyễn Quốc | D3: Cường | E3: 09.04.95 | F3: 13CĐ-ĐT1 | H3: A | I3: ĐT3 | J3: =LEFT(F3,2) -> 13
A4: 3 | B4: 13D3010018 | C4: Nguyễn Hải | D4: Đăng | E4: 19.05.95 | F4: 13CĐ-ĐT1 | H4: B | J4: =LEFT(F4,2) -> 13
A5: 4 | B5: 13D3010076 | C5: Lữ Đình | D5: Đạt | E5: 01.05.95 | F5: 13CĐ-ĐT1 | H5: B | I5: ĐT3 | J5: =LEFT(F5,2) -> 13
A6: 5 | B6: 13D3010010 | C6: Bùi Thanh | D6: Diễn | E6: 12.05.95 | F6: 13CĐ-ĐT1 | H6: B | J6: =LEFT(F6,2) -> 13
A7: 6 | B7: 13D3010022 | C7: Nguyễn Trung | D7: Đức | E7: 15.02.95 | F7: 13CĐ-ĐT1 | H7: A | J7: =LEFT(F7,2) -> 13
A8: 7 | B8: 13D3010012 | C8: Phạm Văn | D8: Dũng | E8: 03.08.94 | F8: 13CĐ-ĐT1 | H8: B | I8: ĐT3 | J8: =LEFT(F8,2) -> 13
A9: 8 | B9: 13D3010014 | C9: Nguyễn Khánh | D9: Duy | E9: 26.09.95 | F9: 13CĐ-ĐT1 | H9: B | J9: =LEFT(F9,2) -> 13
A10: 9 | B10: 13D3010024 | C10: Hồ Thanh | D10: Hải | E10: 03.12.95 | F10: 13CĐ-ĐT1 | H10: A | I10: ĐT3 | J10: =LEFT(F10,2) -> 13
A11: 10 | B11: 13D3010026 | C11: Phạm Giang | D11: Hải | E11: 20.05.95 | F11: 13CĐ-ĐT1 | H11: B | I11: CL.T.Minh | J11: =LEFT(F11,2) -> 13
A12: 11 | B12: 13D3010027 | C12: Trần Văn | D12: Hạnh | E12: 14.02.95 | F12: 13CĐ-ĐT1 | H12: B | J12: =LEFT(F12,2) -> 13
A13: 12 | B13: 13D3010029 | C13: Nguyễn Tấn Anh | D13: Hào | E13: 05.04.95 | F13: 13CĐ-ĐT1 | H13: A | I13: ĐT3 | J13: =LEFT(F13,2) -> 13
A14: 13 | B14: 13D3010039 | C14: Nguyễn Văn | D14: Hoanh | E14: 14.10.95 | F14: 13CĐ-ĐT1 | H14: B | J14: =LEFT(F14,2) -> 13
A15: 14 | B15: 13D3010041 | C15: Nguyễn Minh | D15: Hùng | E15: 08.05.94 | F15: 13CĐ-ĐT1 | H15: B | I15: ĐT3 | J15: =LEFT(F15,2) -> 13
A16: 15 | B16: 13D3010045 | C16: Lê Thành | D16: Huy | E16: 25.04.95 | F16: 13CĐ-ĐT1 | H16: B | J16: =LEFT(F16,2) -> 13
A17: 16 | B17: 13D3010047 | C17: Nguyễn Thái | D17: Huy | E17: 14.04.95 | F17: 13CĐ-ĐT1 | H17: B | I17: ĐT3-con TB 4/4 | J17: =LEFT(F17,2) -> 13
A18: 17 | B18: 13D3010051 | C18: Huỳnh Duy | D18: Khánh | E18: 09.10.95 | F18: 13CĐ-ĐT1 | H18: B | J18: =LEFT(F18,2) -> 13
A19: 18 | B19: 13D3010053 | C19: Đỗ Đăng | D19: Khoa | E19: 01.01.94 | F19: 13CĐ-ĐT1 | H19: B | I19: ĐT3 | J19: =LEFT(F19,2) -> 13
A20: 19 | B20: 13D3010056 | C20: Phan Trung | D20: Kiên | E20: 13.03.95 | F20: 13CĐ-ĐT1 | H20: B | I20: ĐT3 | J20: =LEFT(F20,2) -> 13
A21: 20 | B21: 13D3010057 | C21: Trần Văn | D21: Kiệt | E21: 10.05.95 | F21: 13CĐ-ĐT1 | H21: B | J21: =LEFT(F21,2) -> 13
A22: 21 | B22: 13D3010063 | C22: Trần Văn | D22: Linh | E22: 08.10.94 | F22: 13CĐ-ĐT1 | H22: B | J22: =LEFT(F22,2) -> 13
A23: 22 | B23: 13D3010069 | C23: Nguyễn Công | D23: Minh | E23: 10.01.95 | F23: 13CĐ-ĐT1 | H23: B | I23: ĐT3 | J23: =LEFT(F23,2) -> 13
A24: 23 | B24: 13D3010073 | C24: Trịnh Phương | D24: Nam | E24: 21.02.95 | F24: 13CĐ-ĐT1 | H24: A | J24: =LEFT(F24,2) -> 13
A25: 24 | B25: 13D3010077 | C25: Lâm Trọng | D25: Nhân | E25: 04.09.95 | F25: 13CĐ-ĐT1 | G25: LT | H25: B | J25: =LEFT(F25,2) -> 13
A26: 25 | B26: 13D3010042 | C26: Nguyễn Sinh | D26: Nhật | E26: 12.01.95 | F26: 13CĐ-ĐT1 | H26: B | J26: =LEFT(F26,2) -> 13
A27: 26 | B27: 13D3010079 | C27: Hồ Đình | D27: Nhựt | E27: 07.02.95 | F27: 13CĐ-ĐT1 | H27: B | I27: ĐT3 | J27: =LEFT(F27,2) -> 13
A28: 27 | B28: 13D3010086 | C28: Viên Ngọc | D28: Phú | E28: 09.11.95 | F28: 13CĐ-ĐT1 | H28: B | J28: =LEFT(F28,2) -> 13
A29: 28 | B29: 13D3010091 | C29: Võ Thế | D29: Phúc | E29: 18.03.95 | F29: 13CĐ-ĐT1 | H29: B | I29: ĐT3 | J29: =LEFT(F29,2) -> 13
A30: 29 | B30: 13D3010092 | C30: Nguyễn Anh | D30: Phụng | E30: 19.05.95 | F30: 13CĐ-ĐT1 | H30: B | J30: =LEFT(F30,2) -> 13
A31: 30 | B31: 13D3010094 | C31: Phạm Hữu | D31: Phước | E31: 18.11.95 | F31: 13CĐ-ĐT1 | H31: B | I31: ĐT3 | J31: =LEFT(F31,2) -> 13
A32: 31 | B32: 13D3010095 | C32: Trịnh Ngọc | D32: Phước | E32: 12.12.95 | F32: 13CĐ-ĐT1 | H32: B | J32: =LEFT(F32,2) -> 13
A33: 32 | B33: 13D3010098 | C33: Nguyễn Minh | D33: Phương | E33: 20.03.94 | F33: 13CĐ-ĐT1 | G33: Nữ | H33: B | J33: =LEFT(F33,2) -> 13
A34: 33 | B34: 13D3010099 | C34: Trương Thái | D34: Quốc | E34: 11.01.95 | F34: 13CĐ-ĐT1 | H34: B | J34: =LEFT(F34,2) -> 13
A35: 34 | B35: 13D3010101 | C35: Vòng Đông | D35: Quý | E35: 09.02.94 | F35: 13CĐ-ĐT1 | H35: B | I35: ĐT3-DT.Hoa | J35: =LEFT(F35,2) -> 13
A36: 35 | B36: 13D3010102 | C36: Nguyễn Đức | D36: Quynh | E36: 15.10.94 | F36: 13CĐ-ĐT1 | H36: B | J36: =LEFT(F36,2) -> 13
A37: 36 | B37: 13D3010104 | C37: Đặng Kỳ | D37: Sơn | E37: 16.07.95 | F37: 13CĐ-ĐT1 | H37: B | I37: ĐT3 | J37: =LEFT(F37,2) -> 13
A38: 37 | B38: 13D3010105 | C38: Nguyễn Công | D38: Sơn | E38: 05.04.95 | F38: 13CĐ-ĐT1 | H38: B | J38: =LEFT(F38,2) -> 13
A39: 38 | B39: 13D3010107 | C39: Ngô Văn | D39: Tạc | E39: 26.01.95 | F39: 13CĐ-ĐT1 | H39: B | I39: ĐT3 | J39: =LEFT(F39,2) -> 13
A40: 39 | B40: 13D3010110 | C40: Phan Chí | D40: Tài | E40: 15.02.95 | F40: 13CĐ-ĐT1 | H40: B | I40: ĐT3 | J40: =LEFT(F40,2) -> 13
A41: 40 | B41: 13D3010116 | C41: Vũ Hứa Minh | D41: Tân | E41: 21.10.95 | F41: 13CĐ-ĐT1 | H41: A | I41: ĐT3 | J41: =LEFT(F41,2) -> 13
A42: 41 | B42: 13D3010117 | C42: Lê Chí Hoàng | D42: Thắng | E42: 18.04.95 | F42: 13CĐ-ĐT1 | G42: LPHT | H42: A | J42: =LEFT(F42,2) -> 13
A43: 42 | B43: 13D3010119 | C43: Bạch Ngọc | D43: Thành | E43: 15.01.95 | F43: 13CĐ-ĐT1 | H43: B | I43: ĐT3 | J43: =LEFT(F43,2) -> 13
A44: 43 | B44: 13D3010120 | C44: Bùi Văn | D44: Thành | E44: 08.09.93 | F44: 13CĐ-ĐT1 | H44: B | J44: =LEFT(F44,2) -> 13
A45: 44 | B45: 13D3010122 | C45: Nguyễn Thạch | D45: Thảo | E45: 08.08.95 | F45: 13CĐ-ĐT1 | H45: B | I45: ĐT3 | J45: =LEFT(F45,2) -> 13
A46: 45 | B46: 13D3010123 | C46: Phạm Văn | D46: Thể | E46: 20.09.95 | F46: 13CĐ-ĐT1 | H46: B | J46: =LEFT(F46,2) -> 13
A47: 46 | B47: 13D3010125 | C47: Nguyễn Ngọc Huy | D47: Thịnh | E47: 09.05.93 | F47: 13CĐ-ĐT1 | H47: A | I47: ĐT3 | J47: =LEFT(F47,2) -> 13
A48: 47 | B48: 13D3010128 | C48: Vũ Duy | D48: Thuận | E48: 12.03.93 | F48: 13CĐ-ĐT1 | H48: B | I48: ĐT3 | J48: =LEFT(F48,2) -> 13
A49: 48 | B49: 13D3010129 | C49: Ngô Công | D49: Thuật | E49: 09.06.94 | F49: 13CĐ-ĐT1 | H49: B | J49: =LEFT(F49,2) -> 13
A50: 49 | B50: 12D3010147 | C50: Phan Huỳnh Hoài | D50: Thương | E50: 28.05.94 | F50: 13CĐ-ĐT1 | H50: B | I50: TNH.12CĐ-ĐT3 | J50: =LEFT(F50,2) -> 13
A51: 50 | B51: 13D3010131 | C51: Nguyễn Duy | D51: Tiên | E51: 02.01.95 | F51: 13CĐ-ĐT1 | H51: B | I51: ĐT3 | J51: =LEFT(F51,2) -> 13
A52: 51 | B52: 13D3010134 | C52: Đào Hữu | D52: Toàn | E52: 18.11.95 | F52: 13CĐ-ĐT1 | H52: B | I52: ĐT3 | J52: =LEFT(F52,2) -> 13
A53: 52 | B53: 13D3010135 | C53: Nguyễn Minh | D53: Toàn | E53: 30.09.95 | F53: 13CĐ-ĐT1 | H53: B | J53: =LEFT(F53,2) -> 13
A54: 53 | B54: 13D3010137 | C54: Phan Tấn | D54: Tới | E54: 19.05.95 | F54: 13CĐ-ĐT1 | H54: B | I54: ĐT3 | J54: =LEFT(F54,2) -> 13
A55: 54 | B55: 13D3010138 | C55: Lê Quang | D55: Trãi | E55: 15.01.95 | F55: 13CĐ-ĐT1 | H55: B | J55: =LEFT(F55,2) -> 13
A56: 55 | B56: 13D3010140 | C56: Nguyễn Minh | D56: Trí | E56: 01.02.95 | F56: 13CĐ-ĐT1 | H56: B | I56: ĐT3 | J56: =LEFT(F56,2) -> 13
A57: 56 | B57: 13D3010143 | C57: Trần Quang | D57: Trung | E57: 21.10.95 | F57: 13CĐ-ĐT1 | H57: B | I57: ĐT3 | J57: =LEFT(F57,2) -> 13
A58: 57 | B58: 13D3010144 | C58: Trần Nhựt | D58: Trường | E58: 30.07.95 | F58: 13CĐ-ĐT1 | G58: LPKL | H58: B | J58: =LEFT(F58,2) -> 13
A59: 58 | B59: 13D3010146 | C59: Võ Duy | D59: Tú | E59: 16.02.95 | F59: 13CĐ-ĐT1 | H59: B | I59: ĐT3 | J59: =LEFT(F59,2) -> 13
A60: 59 | B60: 13D3010150 | C60: Trần Ngọc | D60: Tuấn | E60: 15.01.91 | F60: 13CĐ-ĐT1 | H60: B | I60: ĐT3-con TB 4/4 | J60: =LEFT(F60,2) -> 13
A61: 60 | B61: 13D3010031 | C61: Lê Thanh | D61: Tùng | E61: 19.01.94 | F61: 13CĐ-ĐT1 | H61: B | J61: =LEFT(F61,2) -> 13
A62: 61 | B62: 13D3010154 | C62: Lâm Hoài | D62: Vĩ | E62: 13.05.95 | F62: 13CĐ-ĐT1 | H62: A | I62: ĐT3 | J62: =LEFT(F62,2) -> 13
A63: 62 | B63: 13D3010155 | C63: Lâm Xuân | D63: Vũ | E63: 01.05.95 | F63: 13CĐ-ĐT1 | H63: B | J63: =LEFT(F63,2) -> 13
A64: 63 | B64: 12D3010179 | C64: Hà Trọng | D64: Xá | E64: 06.03.93 | F64: 13CĐ-ĐT1 | H64: B | I64: BL12CĐ-ĐT3 | J64: =LEFT(F64,2) -> 13
A65: 64 | B65: 13D3010159 | C65: Phạm Văn | D65: Xuân | E65: 27.06.95 | F65: 13CĐ-ĐT1 | H65: B | I65: ĐT3 | J65: =LEFT(F65,2) -> 13
A66: 1 | B66: 13D3010176 | C66: Đặng Thanh | D66: Bình | E66: 22.03.95 | F66: 13CĐ-ĐT2 | H66: B | I66: ĐT4 | J66: =LEFT(F66,2) -> 13
A67: 2 | B67: 13D3010002 | C67: Đinh Khắc | D67: Bình | E67: 15.03.95 | F67: 13CĐ-ĐT2 | H67: B | J67: =LEFT(F67,2) -> 13
A68: 3 | B68: 13D3010166 | C68: Trần Khánh | D68: Cường | E68: 20.05.94 | F68: 13CĐ-ĐT2 | H68: B | I68: ĐT4 | J68: =LEFT(F68,2) -> 13
A69: 4 | B69: 13D3010017 | C69: Võ Văn | D69: Đại | E69: 12.12.94 | F69: 13CĐ-ĐT2 | H69: B | I69: ĐT4 | J69: =LEFT(F69,2) -> 13
A70: 5 | B70: 12D3010023 | C70: Phan Công | D70: Danh | E70: 11.11.94 | F70: 13CĐ-ĐT2 | I70: TNH.12CĐ-ĐT3 | J70: =LEFT(F70,2) -> 13
A71: 6 | B71: 13D3010177 | C71: Nguyễn Tấn | D71: Đạt | E71: 09.04.95 | F71: 13CĐ-ĐT2 | H71: B | I71: ĐT4 | J71: =LEFT(F71,2) -> 13
A72: 7 | B72: 12D3010035 | C72: Hoàng Minh | D72: Đức | E72: 12.09.94 | F72: 13CĐ-ĐT2 | H72: B | I72: TNH.12CĐ-ĐT3 | J72: =LEFT(F72,2) -> 13
A73: 8 | B73: 12D3010025 | C73: Lê Sĩ | D73: Dũng | E73: 10.08.94 | F73: 13CĐ-ĐT2 | H73: B | J73: =LEFT(F73,2) -> 13
A74: 9 | B74: 13D3010011 | C74: Nguyễn Đình | D74: Dũng | E74: 26.11.93 | F74: 13CĐ-ĐT2 | H74: B | J74: =LEFT(F74,2) -> 13
A75: 10 | B75: 12D3010027 | C75: Nguyễn Văn | D75: Dũng | E75: 04.08.94 | F75: 13CĐ-ĐT2 | H75: A | I75: ĐT4 | J75: =LEFT(F75,2) -> 13
A76: 11 | B76: 13D3010013 | C76: Lê Hoàng | D76: Duy | E76: 26.04.95 | F76: 13CĐ-ĐT2 | H76: B | I76: ĐT4 | J76: =LEFT(F76,2) -> 13
A77: 12 | B77: 13D3010023 | C77: Nguyễn Trường | D77: Giang | E77: 07.08.93 | F77: 13CĐ-ĐT2 | H77: A | J77: =LEFT(F77,2) -> 13
A78: 13 | B78: 13D3010168 | C78: Nguyễn Phi | D78: Hào | E78: 03.02.95 | F78: 13CĐ-ĐT2 | H78: B | I78: ĐT4 | J78: =LEFT(F78,2) -> 13
A79: 14 | B79: 13D3010167 | C79: Trần Huệ | D79: Hiếu | E79: 09.06.95 | F79: 13CĐ-ĐT2 | H79: B | I79: ĐT4 | J79: =LEFT(F79,2) -> 13
A80: 15 | B80: 13D3010034 | C80: Trần Quang | D80: Hiếu | E80: 01.07.95 | F80: 13CĐ-ĐT2 | G80: LPHT | H80: B | I80: ĐT4 | J80: =LEFT(F80,2) -> 13
A81: 16 | B81: 13D3010036 | C81: Đinh Khải | D81: Hoàn | E81: 19.11.94 | F81: 13CĐ-ĐT2 | H81: B | J81: =LEFT(F81,2) -> 13
A82: 17 | B82: 13D3010035 | C82: Lê Nguyễn | D82: Hoàng | E82: 01.07.95 | F82: 13CĐ-ĐT2 | H82: A | I82: ĐT4 | J82: =LEFT(F82,2) -> 13
A83: 18 | B83: 13D3010169 | C83: Phạm Ngọc | D83: Hoàng | E83: 03.04.95 | F83: 13CĐ-ĐT2 | H83: B | I83: ĐT4 | J83: =LEFT(F83,2) -> 13
A84: 19 | B84: 13D3010040 | C84: Nguyễn Ngọc | D84: Huấn | E84: 17.04.95 | F84: 13CĐ-ĐT2 | H84: B | J84: =LEFT(F84,2) -> 13
A85: 20 | B85: 13D3010178 | C85: Đinh Tiến | D85: Hưng | E85: 10.08.92 | F85: 13CĐ-ĐT2 | H85: A | I85: ĐT4 | J85: =LEFT(F85,2) -> 13
A86: 21 | B86: 13D3010046 | C86: Mai Ngọc | D86: Huy | E86: 27.04.94 | F86: 13CĐ-ĐT2 | H86: B | J86: =LEFT(F86,2) -> 13
A87: 22 | B87: 13D3010049 | C87: Bùi Văn | D87: Huỳnh | E87: 04.10.94 | F87: 13CĐ-ĐT2 | H87: B | J87: =LEFT(F87,2) -> 13
A88: 23 | B88: 13D3010052 | C88: Nguyễn Quang | D88: Khánh | E88: 09.11.95 | F88: 13CĐ-ĐT2 | H88: B | J88: =LEFT(F88,2) -> 13
A89: 24 | B89: 12D3010059 | C89: Trương Quang | D89: Khánh | E89: 17.11.93 | F89: 13CĐ-ĐT2 | H89: B | I89: TNH.12CĐ-ĐT3 | J89: =LEFT(F89,2) -> 13
A90: 25 | B90: 13D3010058 | C90: Nguyễn Ngọc | D90: Lâm | E90: 10.02.95 | F90: 13CĐ-ĐT2 | H90: B | J90: =LEFT(F90,2) -> 13
A91: 26 | B91: 13D3010061 | C91: Nguyễn Quang | D91: Lành | E91: 20.07.94 | F91: 13CĐ-ĐT2 | H91: B | J91: =LEFT(F91,2) -> 13
A92: 27 | B92: 13D3010180 | C92: Nguyễn Viết | D92: Mạnh | E92: 01.03.93 | F92: 13CĐ-ĐT2 | G92: LPKL | H92: B | I92: ĐT4 | J92: =LEFT(F92,2) -> 13
A93: 28 | B93: 13D3010070 | C93: Trần Chí | D93: Mỹ | E93: 16.06.93 | F93: 13CĐ-ĐT2 | H93: B | J93: =LEFT(F93,2) -> 13
A94: 29 | B94: 13D3010071 | C94: Nguyễn Thành | D94: Nam | E94: 11.06.94 | F94: 13CĐ-ĐT2 | H94: B | J94: =LEFT(F94,2) -> 13
A95: 30 | B95: 13D3010074 | C95: Huỳnh Trọng | D95: Nghĩa | E95: 20.07.95 | F95: 13CĐ-ĐT2 | H95: B | J95: =LEFT(F95,2) -> 13
A96: 31 | B96: 13D3010078 | C96: Võ Phước | D96: Nhân | E96: 12.05.95 | F96: 13CĐ-ĐT2 | H96: B | J96: =LEFT(F96,2) -> 13
A97: 32 | B97: 13D3010081 | C97: Huỳnh Tấn | D97: Phát | E97: 20.02.95 | F97: 13CĐ-ĐT2 | H97: B | J97: =LEFT(F97,2) -> 13
A98: 33 | B98: 13D3010084 | C98: Võ Trần Vũ | D98: Phong | E98: 23.10.95 | F98: 13CĐ-ĐT2 | H98: B | J98: =LEFT(F98,2) -> 13
A99: 34 | B99: 13D3010181 | C99: Trần Đức | D99: Phúc | E99: 02.02.94 | F99: 13CĐ-ĐT2 | H99: B | I99: ĐT4 | J99: =LEFT(F99,2) -> 13
A100: 35 | B100: 13D3010090 | C100: Trịnh Hoàng | D100: Phúc | E100: 09.03.95 | F100: 13CĐ-ĐT2 | H100: A | J100: =LEFT(F100,2) -> 13
...

Sheet HKI
A1: UBND THÀNH PHỐ HỒ CHÍ MINH | BD1: CỘNG HÒA XÃ HỘI CHỦ NGHĨA VIỆT NAM | BU1: =$H6 -> Đường lối CM của Đảng cộng sản VN | BV1: =$L6 -> Điều khiển lập trình PLC 1 | BW1: =$P6 -> Truyền động điện và ứng dụng | BX1: =$T6 -> Nhà máy điện và trạm biến áp | BY1: =$X6 -> Điện công nghiệp | BZ1: =$AB6 | CA1: =$AF6 | CB1: =$AJ6 | CC1: =$AN6 | CD1: =$AR6 -> Thực tập Máy điện | CE1: =$AV6 -> Thực tập Vi xử lý và PLC | CF1: =$AZ6 -> Thực tập Đo lường cảm biến | CH1: =$H6 -> Đường lối CM của Đảng cộng sản VN | CI1: =$L6 -> Điều khiển lập trình PLC 1 | CJ1: =$P6 -> Truyền động điện và ứng dụng | CK1: =$T6 -> Nhà máy điện và trạm biến áp | CL1: =$X6 -> Điện công nghiệp | CM1: =$AB6 | CN1: =$AF6 | CO1: =$AJ6 | CP1: =$AN6 | CQ1: =$AR6 -> Thực tập Máy điện | CR1: =$AV6 -> Thực tập Vi xử lý và PLC | CS1: =$AZ6 -> Thực tập Đo lường cảm biến | CU1: =$H6 -> Đường lối CM của Đảng cộng sản VN | CV1: =$L6 -> Điều khiển lập trình PLC 1 | CW1: =$P6 -> Truyền động điện và ứng dụng | CX1: =$T6 -> Nhà máy điện và trạm biến áp | CY1: =$X6 -> Điện công nghiệp | CZ1: =$AB6 | DA1: =$AF6 | DB1: =$AJ6 | DC1: =$AN6 | DD1: =$AR6 -> Thực tập Máy điện | DE1: =$AV6 -> Thực tập Vi xử lý và PLC | DF1: =$AZ6 -> Thực tập Đo lường cảm biến | DH1: =$H6 -> Đường lối CM của Đảng cộng sản VN | DI1: =$L6 -> Điều khiển lập trình PLC 1 | DJ1: =$P6 -> Truyền động điện và ứng dụng | DK1: =$T6 -> Nhà máy điện và trạm biến áp | DL1: =$X6 -> Điện công nghiệp | DM1: =$AB6 | DN1: =$AF6 | DO1: =$AJ6 | DP1: =$AN6 | DQ1: =$AR6 -> Thực tập Máy điện | DR1: =$AV6 -> Thực tập Vi xử lý và PLC | DS1: =$AZ6 -> Thực tập Đo lường cảm biến | DT1: =$H6 -> Đường lối CM của Đảng cộng sản VN | DU1: =$L6 -> Điều khiển lập trình PLC 1 | DV1: =$P6 -> Truyền động điện và ứng dụng | DW1: =$T6 -> Nhà máy điện và trạm biến áp | DX1: =$X6 -> Điện công nghiệp | DY1: =$AB6 | DZ1: =$AF6 | EA1: =$AJ6 | EB1: =$AN6 | EC1: =$AR6 -> Thực tập Máy điện | ED1: =$AV6 -> Thực tập Vi xử lý và PLC | EE1: =$AZ6 -> Thực tập Đo lường cảm biến | EG1: =$H6 -> Đường lối CM của Đảng cộng sản VN | EH1: =$L6 -> Điều khiển lập trình PLC 1 | EI1: =$P6 -> Truyền động điện và ứng dụng | EJ1: =$T6 -> Nhà máy điện và trạm biến áp | EK1: =$X6 -> Điện công nghiệp | EL1: =$AB6 | EM1: =$AF6 | EN1: =$AJ6 | EO1: =$AN6 | EP1: =$AR6 -> Thực tập Máy điện | EQ1: =$AV6 -> Thực tập Vi xử lý và PLC | ER1: =$AZ6 -> Thực tập Đo lường cảm biến
A2: TRƯỜNG CAO ĐẲNG KỸ THUẬT LÝ TỰ TRỌNG TP. HỒ CHÍ MINH | BD2: Độc lập - Tự do - Hạnh phúc
C3: LỚP: | D3: =IF($B11="","",IF(ISNA(VLOOKUP($B11,'DS LOP HKI'!$B$2:$F$936,5,FALSE))=TRUE,"",VLOOKUP($B11,'DS LOP HKI'!$B$2:$F$936,5,FALSE))) -> 13CĐ-Đ1 | G3: SĨ SỐ: | I3: =IF(B11="",0,MAX($A$11:$A$89)) -> 50
A4: BẢNG TỔNG KẾT HỌC TẬP HỌC KỲ I NĂM HỌC 2015 - 2016
B5: 1 | C5: 2 | D5: 3 | E5: 4 | F5: 5 | G5: 6 | H5: 7 | I5: 8 | J5: 9 | K5: 10 | L5: 11 | M5: 12 | N5: 13 | O5: 14 | P5: 15 | Q5: 16 | R5: 17 | S5: 18 | T5: 19 | U5: 20 | V5: 21 | W5: 22 | X5: 23 | Y5: 24 | Z5: 25 | AA5: 26 | AB5: 27 | AC5: 28 | AD5: 29 | AE5: 30 | AF5: 31 | AG5: 32 | AH5: 33 | AI5: 34 | AJ5: 35 | AK5: 36 | AL5: 37 | AM5: 38 | AR5: 39 | AS5: 40 | AT5: 41 | AU5: 42 | AV5: 43 | AW5: 44 | AX5: 45 | AY5: 46 | AZ5: 47 | BA5: 48 | BB5: 49 | BC5: 50 | BD5: 51 | BE5: 52 | BF5: 53 | BG5: 54 | BH5: 55 | BI5: 56 | BJ5: 57 | BK5: 58 | BL5: 59 | BM5: 60 | BN5: 61 | BO5: 62 | BP5: 63 | BQ5: 64 | BR5: 65 | BS5: 67
A6: Số thứ tự | B6: HỌC PHẦN | H6: =IF('LT01'!$C$6="","",'LT01'!$C$6) -> Đường lối CM của Đảng cộng sản VN | L6: =IF('LT02'!$C$6="","",'LT02'!$C$6) -> Điều khiển lập trình PLC 1 | P6: ='LT03'!$C$6 -> Truyền động điện và ứng dụng | T6: ='LT04'!$C$6 -> Nhà máy điện và trạm biến áp | X6: ='LT05'!$C$6 -> Điện công nghiệp | AB6: ='LT06'!$C$6 | AF6: ='LT07'!$C$6 | AJ6: ='DO AN'!$C$6 | AN6: ='DO AN 2'!$C$6 | AR6: ='TH01'!$C$6 -> Thực tập Máy điện | AV6: ='TH02'!$C$6 -> Thực tập Vi xử lý và PLC | AZ6: ='TH03'!$C$6 -> Thực tập Đo lường cảm biến | BD6: TBC HỌC TẬP | BF6: KẾT QUẢ RÈN LUYỆN | BG6: XẾP LOẠI HỌC TẬP | BI6: KHEN THƯỞNG | BJ6: CẢNH BÁO KẾT QUẢ HỌC TẬP | BK6: SỐ TC ĐÃ TÍCH LUỸ SAU KỲ THI CHÍNH | BL6: SỐ TC NỢ SAU KỲ THI CHÍNH | BM6: SỐ TC ĐÃ TÍCH LUỸ SAU KỲ THI PHỤ | BN6: SỐ TC NỢ SAU KỲ THI PHỤ | BO6: ĐIỂM TBC TÍCH LUỸ SAU KỲ THI CHÍNH | BP6: HẠNG HỌC LỰC SAU KỲ THI CHÍNH | BQ6: ĐIỂM TBC TÍCH LUỸ SAU KỲ THI PHỤ | BR6: HẠNG HỌC LỰC SAU KỲ THI PHỤ | BS6: GHI CHÚ
B7: SỐ TÍN CHỈ | H7: =IF('LT01'!$I$6="","",'LT01'!$I$6) -> 3 | L7: =IF('LT02'!$I$6="","",'LT02'!$I$6) -> 2 | P7: ='LT03'!$I$6 -> 2 | T7: ='LT04'!$I$6 -> 2 | X7: ='LT05'!$I$6 -> 3 | AB7: ='LT06'!$I$6 | AF7: ='LT07'!$I$6 | AJ7: ='DO AN'!$J$6 | AN7: ='DO AN 2'!$J$6 | AR7: ='TH01'!$J$6 -> 2 | AV7: ='TH02'!J6 -> 2 | AZ7: ='TH03'!J6 -> 2 | BD7: =SUM(H7:BC7) -> 18 | BT7: Đếm cột thi chính <5 | BU7: ĐIỂM THI CHÍNH | CG7: Đếm cột HP chính <4 | CH7: =$H$7 -> 3 | CI7: =$L$7 -> 2 | CJ7: =$P$7 -> 2 | CK7: =$T$7 -> 2 | CL7: =$X$7 -> 3 | CM7: =$AB$7 | CN7: =$AF$7 | CO7: =$AJ$7 | CP7: =$AN$7 | CQ7: =$AR$7 -> 2 | CR7: =$AV$7 -> 2 | CS7: =$AZ$7 -> 2 | CU7: =$H$7 -> 3 | CV7: =$L$7 -> 2 | CW7: =$P$7 -> 2 | CX7: =$T$7 -> 2 | CY7: =$X$7 -> 3 | CZ7: =$AB$7 | DA7: =$AF$7 | DB7: =$AJ$7 | DC7: =$AN$7 | DD7: =$AR$7 -> 2 | DE7: =$AV$7 -> 2 | DF7: =$AZ$7 -> 2 | DT7: =$H$7 -> 3 | DU7: =$L$7 -> 2 | DV7: =$P$7 -> 2 | DW7: =$T$7 -> 2 | DX7: =$X$7 -> 3 | DY7: =$AB$7 | DZ7: =$AF$7 | EA7: =$AJ$7 | EB7: =$AN$7 | EC7: =$AR$7 -> 2 | ED7: =$AV$7 -> 2 | EE7: =$AZ$7 -> 2 | EG7: =$H$7 -> 3 | EH7: =$L$7 -> 2 | EI7: =$P$7 -> 2 | EJ7: =$T$7 -> 2 | EK7: =$X$7 -> 3 | EL7: =$AB$7 | EM7: =$AF$7 | EN7: =$AJ$7 | EO7: =$AN$7 | EP7: =$AR$7 -> 2 | EQ7: =$AV$7 -> 2 | ER7: =$AZ$7 -> 2
B8: MSSV | C8: Họ tên sinh viên | E8: HỆ CHUẨN | F8: NGÀY NGHỈ | H8: Thi Chính | I8: HP Chính | J8: Thi Phụ | K8: HP Phụ | L8: Thi Chính | M8: HP Chính | N8: Thi Phụ | O8: HP Phụ | P8: Thi Chính | Q8: HP Chính | R8: Thi Phụ | S8: HP Phụ | T8: Thi Chính | U8: HP Chính | V8: Thi Phụ | W8: HP Phụ | X8: Thi Chính | Y8: HP Chính | Z8: Thi Phụ | AA8: HP Phụ | AB8: Thi Chính | AC8: HP Chính | AD8: Thi Phụ | AE8: HP Phụ | AF8: Thi Chính | AG8: HP Chính | AH8: Thi Phụ | AI8: HP Phụ | AJ8: Thi Chính | AK8: HP Chính | AL8: Thi Phụ | AM8: HP Phụ | AN8: Thi Chính | AO8: HP Chính | AP8: Thi Phụ | AQ8: HP Phụ | AR8: Thi Chính | AS8: HP Chính | AT8: Thi Phụ | AU8: HP Phụ | AV8: Thi Chính | AW8: HP Chính | AX8: Thi Phụ | AY8: HP Phụ | AZ8: Thi Chính | BA8: HP Chính | BB8: Thi Phụ | BC8: HP Phụ | BD8: Kỳ Thi Chính | BE8: Kỳ Thi Phụ | BG8: Kỳ Thi Chính | BH8: Kỳ Thi Phụ | CH8: ĐIỂM HỌC PHẦN CHÍNH | CU8: ĐIỂM TRUNG BÌNH CHUNG TÍCH LŨY SAU KỲ THI CHÍNH | DH8: ĐIỂM HỌC PHẦN PHỤ THEO ĐIỂM THI PHỤ | DT8: TÍNH LẠI ĐIỂM HỌC PHẦN PHỤ | EG8: ĐIỂM TRUNG BÌNH CHUNG TÍCH LŨY SAU KỲ THI PHỤ
F9: P | G9: K
A10: (1) | B10: (2) | C10: (3) | E10: (4) | F10: (5) | G10: (6) | H10: (7) | L10: (8) | P10: (9) | T10: (10) | X10: (11) | AB10: (12) | AF10: (13) | AJ10: (14) | AN10: (15) | AR10: (16) | AV10: (17) | AZ10: (18) | BD10: (19) | BE10: (20) | BF10: (21) | BG10: (22) | BH10: (23) | BI10: (24) | BJ10: (25) | BK10: (26) | BL10: (27) | BM10: (28) | BN10: (29) | BO10: (30) | BP10: (31) | BQ10: (32) | BR10: (33) | BS10: (34)
A11: =IF($B11="","",SUBTOTAL(3,$B$11:B11)) -> 1 | B11: 13D301Đ001 | C11: =IF($B11="","",VLOOKUP($B11,'DS LOP HKI'!$B$2:$D$951,2,0)) -> Lương Hoàng Thuận | D11: =IF($B11="","",VLOOKUP($B11,'DS LOP HKI'!$B$2:$D$951,3,0)) -> An | G11: 2 | H11: =IF(OR($H$6="",$H$7=""),"",IF($B11="","",IF(ISNA(VLOOKUP($B11,'LT01'!$B$11:$M$80,12,FALSE)),"",IF(VLOOKUP($B11,'LT01'!$B$11:$M$80,12,FALSE)="","",VLOOKUP($B11,'LT01'!$B$11:$M$80,12,FALSE))))) -> 7 | I11: =IF(OR($H$6="",$H$7=""),"",IF($B11="","",IF(ISNA(VLOOKUP($B11,'LT01'!$B$11:$N$80,13,FALSE)),"",VLOOKUP($B11,'LT01'!$B$11:$N$80,13,FALSE)))) -> 7.1 | K11: =IF(OR($H$6="",$H$7=""),"",IF($B11="","",IF(ISNA(VLOOKUP($B11,'LT01'!$B$11:$Q$80,16,FALSE)),"",IF(VLOOKUP($B11,'LT01'!$B$11:$Q$80,16,FALSE)="","",VLOOKUP($B11,'LT01'!$B$11:$Q$80,16,FALSE))))) | L11: =IF(OR($L$6="",$L$7=""),"",IF($B11="","",IF(ISNA(VLOOKUP($B11,'LT02'!$B$11:$M$80,12,FALSE)),"",IF(VLOOKUP($B11,'LT02'!$B$11:$M$80,12,FALSE)="","",VLOOKUP($B11,'LT02'!$B$11:$M$80,12,FALSE))))) -> 9.3 | M11: =IF(OR($L$6="",$L$7=""),"",IF($B11="","",IF(ISNA(VLOOKUP($B11,'LT02'!$B$11:$N$80,13,FALSE)),"",VLOOKUP($B11,'LT02'!$B$11:$N$80,13,FALSE)))) -> 8.5 | O11: =IF(OR($L$6="",$L$7=""),"",IF($B11="","",IF(ISNA(VLOOKUP($B11,'LT02'!$B$11:$Q$80,16,FALSE)),"",VLOOKUP($B11,'LT02'!$B$11:$Q$80,16,FALSE)))) | P11: =IF(OR($P$6="",$P$7=""),"",IF($B11="","",IF(ISNA(VLOOKUP($B11,'LT03'!$B$11:$M$80,12,FALSE)),"",IF(VLOOKUP($B11,'LT03'!$B$11:$M$80,12,FALSE)="","",VLOOKUP($B11,'LT03'!$B$11:$M$80,12,FALSE))))) -> 4.5 | Q11: =IF(OR($P$6="",$P$7=""),"",IF($B11="","",IF(ISNA(VLOOKUP($B11,'LT03'!$B$11:$N$80,13,FALSE)),"",VLOOKUP($B11,'LT03'!$B$11:$N$80,13,FALSE)))) -> 5.3 | S11: =IF(OR($P$6="",$P$7=""),"",IF($B11="","",IF(ISNA(VLOOKUP($B11,'LT03'!$B$11:$Q$80,16,FALSE)),"",VLOOKUP($B11,'LT03'!$B$11:$Q$80,16,FALSE)))) | T11: =IF(OR($T$6="",$T$7=""),"",IF($B11="","",IF(ISNA(VLOOKUP($B11,'LT04'!$B$11:$M$80,12,FALSE)),"",IF(VLOOKUP($B11,'LT04'!$B$11:$M$80,12,FALSE)="","",VLOOKUP($B11,'LT04'!$B$11:$M$80,12,FALSE))))) -> 7 | U11: =IF(OR($T$6="",$T$7=""),"",IF($B11="","",IF(ISNA(VLOOKUP($B11,'LT04'!$B$11:$N$80,13,FALSE)),"",VLOOKUP($B11,'LT04'!$B$11:$N$80,13,FALSE)))) -> 7.1 | W11: =IF(OR($T$6="",$T$7=""),"",IF($B11="","",IF(ISNA(VLOOKUP($B11,'LT04'!$B$11:$Q$80,16,FALSE)),"",VLOOKUP($B11,'LT04'!$B$11:$Q$80,16,FALSE)))) | X11: =IF(OR($X$6="",$X$7=""),"",IF($B11="","",IF(ISNA(VLOOKUP($B11,'LT05'!$B$11:$M$80,12,FALSE)),"",IF(VLOOKUP($B11,'LT05'!$B$11:$M$80,12,FALSE)="","",VLOOKUP($B11,'LT05'!$B$11:$M$80,12,FALSE))))) -> 3.3 | Y11: =IF(OR($X$6="",$X$7=""),"",IF($B11="","",IF(ISNA(VLOOKUP($B11,'LT05'!$B$11:$N$80,13,FALSE)),"",VLOOKUP($B11,'LT05'!$B$11:$N$80,13,FALSE)))) -> 4.2 | AA11: =IF(OR($X$6="",$X$7=""),"",IF($B11="","",IF(ISNA(VLOOKUP($B11,'LT05'!$B$11:$Q$80,16,FALSE)),"",VLOOKUP($B11,'LT05'!$B$11:$Q$80,16,FALSE)))) | AB11: =IF(OR($AB$6="",$AB$7=""),"",IF($B11="","",IF(ISNA(VLOOKUP($B11,'LT06'!$B$11:$M$80,12,FALSE)),"",IF(VLOOKUP($B11,'LT06'!$B$11:$M$80,12,FALSE)="","",VLOOKUP($B11,'LT06'!$B$11:$M$80,12,FALSE))))) | AC11: =IF(OR($AB$6="",$AB$7=""),"",IF($B11="","",IF(ISNA(VLOOKUP($B11,'LT06'!$B$11:$N$80,13,FALSE)),"",VLOOKUP($B11,'LT06'!$B$11:$N$80,13,FALSE)))) | AE11: =IF(OR($AB$6="",$AB$7=""),"",IF($B11="","",IF(ISNA(VLOOKUP($B11,'LT06'!$B$11:$Q$80,16,FALSE)),"",VLOOKUP($B11,'LT06'!$B$11:$Q$80,16,FALSE)))) | AF11: =IF(OR($AF$6="",$AF$7=""),"",IF($B11="","",IF(ISNA(VLOOKUP($B11,'LT07'!$B$11:$M$80,12,FALSE)),"",IF(VLOOKUP($B11,'LT07'!$B$11:$M$80,12,FALSE)="","",VLOOKUP($B11,'LT07'!$B$11:$M$80,12,FALSE))))) | AG11: =IF(OR($AF$6="",$AF$7=""),"",IF($B11="","",IF(ISNA(VLOOKUP($B11,'LT07'!$B$11:$N$80,13,FALSE)),"",VLOOKUP($B11,'LT07'!$B$11:$N$80,13,FALSE)))) | AI11: =IF(OR($AF$6="",$AF$7=""),"",IF($B11="","",IF(ISNA(VLOOKUP($B11,'LT07'!$B$11:$Q$80,16,FALSE)),"",VLOOKUP($B11,'LT07'!$B$11:$Q$80,16,FALSE)))) | AK11: =IF(OR($AJ$6="",$AJ$7=""),"",IF($B11="","",IF(ISNA(VLOOKUP($B11,'DO AN'!$B$11:$L$80,11,FALSE)),"",IF(VLOOKUP($B11,'DO AN'!$B$11:$L$80,11,FALSE)="","",VLOOKUP($B11,'DO AN'!$B$11:$L$80,11,FALSE))))) | AO11: =IF(OR($AN$6="",$AN$7=""),"",IF($B11="","",IF(ISNA(VLOOKUP($B11,'DO AN 2'!$B$11:$L$80,11,FALSE)),"",IF(VLOOKUP($B11,'DO AN 2'!$B$11:$L$80,11,FALSE)="","",VLOOKUP($B11,'DO AN 2'!$B$11:$L$80,11,FALSE))))) | AS11: =IF(OR($AR$6="",$AR$7=""),"",IF($B11="","",IF(ISNA(VLOOKUP($B11,'TH01'!$B$11:$O$80,14,FALSE)),"",VLOOKUP($B11,'TH01'!$B$11:$O$80,14,FALSE)))) -> 5.6 | AW11: =IF(OR($AV$6="",$AV$7=""),"",IF($B11="","",IF(ISNA(VLOOKUP($B11,'TH02'!$B$11:$O$80,14,FALSE)),"",VLOOKUP($B11,'TH02'!$B$11:$O$80,14,FALSE)))) -> 7.5 | BA11: =IF(OR($AZ$6="",$AZ$7=""),"",IF($B11="","",IF(ISNA(VLOOKUP($B11,'TH03'!$B$11:$O$80,14,FALSE)),"",VLOOKUP($B11,'TH03'!$B$11:$O$80,14,FALSE)))) -> 6.8 | BD11: =$CT11 -> 6.42 | BE11: =$EF11 | BF11: 60 | BG11: =IF($BD11="","",IF($B11="","",IF($BD11<4,"Kém",IF($BD11<5.5,"TB Yếu",IF($BD11<7,"T.Bình",IF($BD11<8,"Khá",IF($BD11<9,"Giỏi","SX"))))))) -> T.Bình | BH11: =IF($BE11="","",IF($B11="","",IF($BE11<4,"Kém",IF($BE11<5.5,"TB Yếu",IF($BE11<7,"T.Bình",IF($BE11<8,"Khá",IF($BE11<9,"Giỏi","SX"))))))) | BJ11: =IF($BD11>=4,"",IF(AND($BD11<4,$BE11="",COUNT($DH11:$DS11)=0),"Cảnh Báo",IF($BE11<4,"Cảnh Báo",""))) | BK11: =IF($B11="","",IF(COUNT($CH11:$CS11)=0,"",SUMIF($CH11:$CS11,">=4",$CH$7:$CS$7))) -> 18 | BL11: =IF($B11="","",IF(COUNT($CH11:$CS11=0),"",SUMIF($CH11:$CS11,"<4",$CH$7:$CS$7))) -> 0 | BM11: =IF(AND($BE11="",$B11=""),"",SUMIF($DT11:$EE11,">=4",$DT$7:$EE$7)) -> 18 | BN11: =IF(AND($BE11="",$B11=""),"",SUMIF($DT11:$EE11,"<4",$DT$7:$EE$7)) -> 0 | BO11: =IF($DG11="","",$DG11) -> 6.42 | BP11: =IF($B11="","",IF($BO11>=5.5,"BT","Yếu")) -> BT | BQ11: =IF($ES11="","",$ES11) -> 6.42 | BR11: =IF($B11="","",IF($BQ11>=5.5,"BT","Yếu")) -> BT | BT11: =IF(COUNT($BU11:$CF11)=0,"",COUNTIF($BU11:$CF11,"<5")) -> 2 | BU11: =$H11 -> 7 | BV11: =$L11 -> 9.3 | BW11: =$P11 -> 4.5 | BX11: =$T11 -> 7 | BY11: =$X11 -> 3.3 | BZ11: =$AB11 | CA11: =$AF11 | CB11: =$AK11 | CC11: =$AO11 | CD11: =$AS11 -> 5.6 | CE11: =$AW11 -> 7.5 | CF11: =$BA11 -> 6.8 | CG11: =IF(COUNT($CH11:$CS11)=0,"",COUNTIF($CH11:$CS11,"<4")) -> 0 | CH11: =$I11 -> 7.1 | CI11: =$M11 -> 8.5 | CJ11: =$Q11 -> 5.3 | CK11: =$U11 -> 7.1 | CL11: =$Y11 -> 4.2 | CM11: =$AC11 | CN11: =$AG11 | CO11: =$AK11 | CP11: =$AO11 | CQ11: =$AS11 -> 5.6 | CR11: =$AW11 -> 7.5 | CS11: =$BA11 -> 6.8 | CT11: =IF(COUNT($CH11:$CS11)=0,"",ROUND(SUMPRODUCT($CH11:$CS11,$CH$7:$CS$7)/(SUM($CH$7:$CS$7)-SUMIF($CH11:$CS11,"",$CH$7:$CS$7)),2)) -> 6.42 | CU11: =IF($CH11<4,"",$CH11) -> 7.1 | CV11: =IF($CI11<4,"",$CI11) -> 8.5 | CW11: =IF($CJ11<4,"",$CJ11) -> 5.3 | CX11: =IF($CK11<4,"",$CK11) -> 7.1 | CY11: =IF($CL11<4,"",$CL11) -> 4.2 | CZ11: =IF($CM11<4,"",$CM11) | DA11: =IF($CN11<4,"",$CN11) | DB11: =IF($CO11<4,"",$CO11) | DC11: =IF($CP11<4,"",$CP11) | DD11: =IF($CQ11<4,"",$CQ11) -> 5.6 | DE11: =IF($CR11<4,"",$CR11) -> 7.5 | DF11: =IF($CS11<4,"",$CS11) -> 6.8 | DG11: =IF($B11="","",IF(COUNT($CU11:$DF11)=0,0,ROUND(SUMPRODUCT($CU11:$DF11,$CU$7:$DF$7)/SUMIF($CU11:$DF11,">=4",$CU$7:$DF$7),2))) -> 6.42 | DH11: =IF($K11="","",$K11) | DI11: =IF($O11="","",$O11) | DJ11: =IF($S11="","",$S11) | DK11: =IF($W11="","",$W11) | DL11: =IF($AA11="","",$AA11) | DM11: =IF($AE11="","",$AE11) | DN11: =IF($AI11="","",$AI11) | DO11: =IF($AM11="","",$AM11) | DP11: =IF($AQ11="","",$AQ11) | DQ11: =IF($AU11="","",$AU11) | DR11: =IF($AY11="","",$AY11) | DS11: =IF($BC11="","",$BC11) | DT11: =IF($H11>=$J11,$I11,$K11) -> 7.1 | DU11: =IF($L11>=$N11,$M11,$O11) -> 8.5 | DV11: =IF($P11>=$R11,$Q11,$S11) -> 5.3 | DW11: =IF($T11>=$V11,$U11,$W11) -> 7.1 | DX11: =IF($X11>=$Z11,$Y11,$AA11) -> 4.2 | DY11: =IF($AB11>=$AD11,$AC11,$AE11) | DZ11: =IF($AF11>=$AH11,$AG11,$AI11) | EA11: =IF($AJ11>=$AL11,$AK11,$AM11) | EB11: =IF($AN11>=$AP11,$AO11,$AQ11) | EC11: =IF($AR11>=$AT11,$AS11,$AU11) -> 5.6 | ED11: =IF($AV11>=$AX11,$AW11,$AY11) -> 7.5 | EE11: =IF($AZ11>=$BB11,$BA11,$BC11) -> 6.8 | EF11: =IF(COUNT($DH11:$DS11)=0,"",ROUND(SUMPRODUCT($DT11:$EE11,$DT$7:$EE$7)/(SUM($DT$7:$EE$7)-SUMIF($DT11:$EE11,"",$DT$7:$EE$7)),2)) | EG11: =IF($DT11<4,"",$DT11) -> 7.1 | EH11: =IF($DU11<4,"",$DU11) -> 8.5 | EI11: =IF($DV11<4,"",$DV11) -> 5.3 | EJ11: =IF($DW11<4,"",$DW11) -> 7.1 | EK11: =IF($DX11<4,"",$DX11) -> 4.2 | EL11: =IF($DY11<4,"",$DY11) | EM11: =IF($DZ11<4,"",$DZ11) | EN11: =IF($EA11<4,"",$EA11) | EO11: =IF($EB11<4,"",$EB11) | EP11: =IF($EC11<4,"",$EC11) -> 5.6 | EQ11: =IF($ED11<4,"",$ED11) -> 7.5 | ER11: =IF($EE11<4,"",$EE11) -> 6.8 | ES11: =IF($B11="","",IF(COUNT($EG11:$ER11)=0,0,ROUND(SUMPRODUCT($EG11:$ER11,$EG$7:$ER$7)/SUMIF($EG11:$ER11,">=4",$EG$7:$ER$7),2))) -> 6.42 | ET11: =IF($EF11="",$CT11,$EF11) -> 6.42
A12: =IF($B12="","",SUBTOTAL(3,$B$11:B12)) -> 2 | B12: 13D301Đ004 | C12: =IF($B12="","",VLOOKUP($B12,'DS LOP HKI'!$B$2:$D$951,2,0)) -> Đặng Thế | D12: =IF($B12="","",VLOOKUP($B12,'DS LOP HKI'!$B$2:$D$951,3,0)) -> Anh | G12: 3 | H12: =IF(OR($H$6="",$H$7=""),"",IF($B12="","",IF(ISNA(VLOOKUP($B12,'LT01'!$B$11:$M$80,12,FALSE)),"",IF(VLOOKUP($B12,'LT01'!$B$11:$M$80,12,FALSE)="","",VLOOKUP($B12,'LT01'!$B$11:$M$80,12,FALSE))))) -> 8.5 | I12: =IF(OR($H$6="",$H$7=""),"",IF($B12="","",IF(ISNA(VLOOKUP($B12,'LT01'!$B$11:$N$80,13,FALSE)),"",VLOOKUP($B12,'LT01'!$B$11:$N$80,13,FALSE)))) -> 7.4 | K12: =IF(OR($H$6="",$H$7=""),"",IF($B12="","",IF(ISNA(VLOOKUP($B12,'LT01'!$B$11:$Q$80,16,FALSE)),"",IF(VLOOKUP($B12,'LT01'!$B$11:$Q$80,16,FALSE)="","",VLOOKUP($B12,'LT01'!$B$11:$Q$80,16,FALSE))))) | L12: =IF(OR($L$6="",$L$7=""),"",IF($B12="","",IF(ISNA(VLOOKUP($B12,'LT02'!$B$11:$M$80,12,FALSE)),"",IF(VLOOKUP($B12,'LT02'!$B$11:$M$80,12,FALSE)="","",VLOOKUP($B12,'LT02'!$B$11:$M$80,12,FALSE))))) -> 7.8 | M12: =IF(OR($L$6="",$L$7=""),"",IF($B12="","",IF(ISNA(VLOOKUP($B12,'LT02'!$B$11:$N$80,13,FALSE)),"",VLOOKUP($B12,'LT02'!$B$11:$N$80,13,FALSE)))) -> 6.5 | O12: =IF(OR($L$6="",$L$7=""),"",IF($B12="","",IF(ISNA(VLOOKUP($B12,'LT02'!$B$11:$Q$80,16,FALSE)),"",VLOOKUP($B12,'LT02'!$B$11:$Q$80,16,FALSE)))) | P12: =IF(OR($P$6="",$P$7=""),"",IF($B12="","",IF(ISNA(VLOOKUP($B12,'LT03'!$B$11:$M$80,12,FALSE)),"",IF(VLOOKUP($B12,'LT03'!$B$11:$M$80,12,FALSE)="","",VLOOKUP($B12,'LT03'!$B$11:$M$80,12,FALSE))))) -> 5.8 | Q12: =IF(OR($P$6="",$P$7=""),"",IF($B12="","",IF(ISNA(VLOOKUP($B12,'LT03'!$B$11:$N$80,13,FALSE)),"",VLOOKUP($B12,'LT03'!$B$11:$N$80,13,FALSE)))) -> 5.8 | S12: =IF(OR($P$6="",$P$7=""),"",IF($B12="","",IF(ISNA(VLOOKUP($B12,'LT03'!$B$11:$Q$80,16,FALSE)),"",VLOOKUP($B12,'LT03'!$B$11:$Q$80,16,FALSE)))) | T12: =IF(OR($T$6="",$T$7=""),"",IF($B12="","",IF(ISNA(VLOOKUP($B12,'LT04'!$B$11:$M$80,12,FALSE)),"",IF(VLOOKUP($B12,'LT04'!$B$11:$M$80,12,FALSE)="","",VLOOKUP($B12,'LT04'!$B$11:$M$80,12,FALSE))))) -> 6.5 | U12: =IF(OR($T$6="",$T$7=""),"",IF($B12="","",IF(ISNA(VLOOKUP($B12,'LT04'!$B$11:$N$80,13,FALSE)),"",VLOOKUP($B12,'LT04'!$B$11:$N$80,13,FALSE)))) -> 7 | W12: =IF(OR($T$6="",$T$7=""),"",IF($B12="","",IF(ISNA(VLOOKUP($B12,'LT04'!$B$11:$Q$80,16,FALSE)),"",VLOOKUP($B12,'LT04'!$B$11:$Q$80,16,FALSE)))) | X12: =IF(OR($X$6="",$X$7=""),"",IF($B12="","",IF(ISNA(VLOOKUP($B12,'LT05'!$B$11:$M$80,12,FALSE)),"",IF(VLOOKUP($B12,'LT05'!$B$11:$M$80,12,FALSE)="","",VLOOKUP($B12,'LT05'!$B$11:$M$80,12,FALSE))))) -> 2 | Y12: =IF(OR($X$6="",$X$7=""),"",IF($B12="","",IF(ISNA(VLOOKUP($B12,'LT05'!$B$11:$N$80,13,FALSE)),"",VLOOKUP($B12,'LT05'!$B$11:$N$80,13,FALSE)))) -> 3 | AA12: =IF(OR($X$6="",$X$7=""),"",IF($B12="","",IF(ISNA(VLOOKUP($B12,'LT05'!$B$11:$Q$80,16,FALSE)),"",VLOOKUP($B12,'LT05'!$B$11:$Q$80,16,FALSE)))) | AB12: =IF(OR($AB$6="",$AB$7=""),"",IF($B12="","",IF(ISNA(VLOOKUP($B12,'LT06'!$B$11:$M$80,12,FALSE)),"",IF(VLOOKUP($B12,'LT06'!$B$11:$M$80,12,FALSE)="","",VLOOKUP($B12,'LT06'!$B$11:$M$80,12,FALSE))))) | AC12: =IF(OR($AB$6="",$AB$7=""),"",IF($B12="","",IF(ISNA(VLOOKUP($B12,'LT06'!$B$11:$N$80,13,FALSE)),"",VLOOKUP($B12,'LT06'!$B$11:$N$80,13,FALSE)))) | AE12: =IF(OR($AB$6="",$AB$7=""),"",IF($B12="","",IF(ISNA(VLOOKUP($B12,'LT06'!$B$11:$Q$80,16,FALSE)),"",VLOOKUP($B12,'LT06'!$B$11:$Q$80,16,FALSE)))) | AF12: =IF(OR($AF$6="",$AF$7=""),"",IF($B12="","",IF(ISNA(VLOOKUP($B12,'LT07'!$B$11:$M$80,12,FALSE)),"",IF(VLOOKUP($B12,'LT07'!$B$11:$M$80,12,FALSE)="","",VLOOKUP($B12,'LT07'!$B$11:$M$80,12,FALSE))))) | AG12: =IF(OR($AF$6="",$AF$7=""),"",IF($B12="","",IF(ISNA(VLOOKUP($B12,'LT07'!$B$11:$N$80,13,FALSE)),"",VLOOKUP($B12,'LT07'!$B$11:$N$80,13,FALSE)))) | AI12: =IF(OR($AF$6="",$AF$7=""),"",IF($B12="","",IF(ISNA(VLOOKUP($B12,'LT07'!$B$11:$Q$80,16,FALSE)),"",VLOOKUP($B12,'LT07'!$B$11:$Q$80,16,FALSE)))) | AK12: =IF(OR($AJ$6="",$AJ$7=""),"",IF($B12="","",IF(ISNA(VLOOKUP($B12,'DO AN'!$B$11:$L$80,11,FALSE)),"",IF(VLOOKUP($B12,'DO AN'!$B$11:$L$80,11,FALSE)="","",VLOOKUP($B12,'DO AN'!$B$11:$L$80,11,FALSE))))) | AO12: =IF(OR($AN$6="",$AN$7=""),"",IF($B12="","",IF(ISNA(VLOOKUP($B12,'DO AN 2'!$B$11:$L$80,11,FALSE)),"",IF(VLOOKUP($B12,'DO AN 2'!$B$11:$L$80,11,FALSE)="","",VLOOKUP($B12,'DO AN 2'!$B$11:$L$80,11,FALSE))))) | AS12: =IF(OR($AR$6="",$AR$7=""),"",IF($B12="","",IF(ISNA(VLOOKUP($B12,'TH01'!$B$11:$O$80,14,FALSE)),"",VLOOKUP($B12,'TH01'!$B$11:$O$80,14,FALSE)))) -> 5.2 | AW12: =IF(OR($AV$6="",$AV$7=""),"",IF($B12="","",IF(ISNA(VLOOKUP($B12,'TH02'!$B$11:$O$80,14,FALSE)),"",VLOOKUP($B12,'TH02'!$B$11:$O$80,14,FALSE)))) -> 4 | BA12: =IF(OR($AZ$6="",$AZ$7=""),"",IF($B12="","",IF(ISNA(VLOOKUP($B12,'TH03'!$B$11:$O$80,14,FALSE)),"",VLOOKUP($B12,'TH03'!$B$11:$O$80,14,FALSE)))) -> 6.3 | BD12: =$CT12 -> 5.6 | BE12: =$EF12 | BF12: 58 | BG12: =IF($BD12="","",IF($B12="","",IF($BD12<4,"Kém",IF($BD12<5.5,"TB Yếu",IF($BD12<7,"T.Bình",IF($BD12<8,"Khá",IF($BD12<9,"Giỏi","SX"))))))) -> T.Bình | BH12: =IF($BE12="","",IF($B12="","",IF($BE12<4,"Kém",IF($BE12<5.5,"TB Yếu",IF($BE12<7,"T.Bình",IF($BE12<8,"Khá",IF($BE12<9,"Giỏi","SX"))))))) | BJ12: =IF($BD12>=4,"",IF(AND($BD12<4,$BE12="",COUNT($DH12:$DS12)=0),"Cảnh Báo",IF($BE12<4,"Cảnh Báo",""))) | BK12: =IF($B12="","",IF(COUNT($CH12:$CS12)=0,"",SUMIF($CH12:$CS12,">=4",$CH$7:$CS$7))) -> 15 | BL12: =IF($B12="","",IF(COUNT($CH12:$CS12=0),"",SUMIF($CH12:$CS12,"<4",$CH$7:$CS$7))) -> 3 | BM12: =IF(AND($BE12="",$B12=""),"",SUMIF($DT12:$EE12,">=4",$DT$7:$EE$7)) -> 15 | BN12: =IF(AND($BE12="",$B12=""),"",SUMIF($DT12:$EE12,"<4",$DT$7:$EE$7)) -> 3 | BO12: =IF($DG12="","",$DG12) -> 6.12 | BP12: =IF($B12="","",IF($BO12>=5.5,"BT","Yếu")) -> BT | BQ12: =IF($ES12="","",$ES12) -> 6.12 | BR12: =IF($B12="","",IF($BQ12>=5.5,"BT","Yếu")) -> BT | BT12: =IF(COUNT($BU12:$CF12)=0,"",COUNTIF($BU12:$CF12,"<5")) -> 2 | BU12: =$H12 -> 8.5 | BV12: =$L12 -> 7.8 | BW12: =$P12 -> 5.8 | BX12: =$T12 -> 6.5 | BY12: =$X12 -> 2 | BZ12: =$AB12 | CA12: =$AF12 | CB12: =$AK12 | CC12: =$AO12 | CD12: =$AS12 -> 5.2 | CE12: =$AW12 -> 4 | CF12: =$BA12 -> 6.3 | CG12: =IF(COUNT($CH12:$CS12)=0,"",COUNTIF($CH12:$CS12,"<4")) -> 1 | CH12: =$I12 -> 7.4 | CI12: =$M12 -> 6.5 | CJ12: =$Q12 -> 5.8 | CK12: =$U12 -> 7 | CL12: =$Y12 -> 3 | CM12: =$AC12 | CN12: =$AG12 | CO12: =$AK12 | CP12: =$AO12 | CQ12: =$AS12 -> 5.2 | CR12: =$AW12 -> 4 | CS12: =$BA12 -> 6.3 | CT12: =IF(COUNT($CH12:$CS12)=0,"",ROUND(SUMPRODUCT($CH12:$CS12,$CH$7:$CS$7)/(SUM($CH$7:$CS$7)-SUMIF($CH12:$CS12,"",$CH$7:$CS$7)),2)) -> 5.6 | CU12: =IF($CH12<4,"",$CH12) -> 7.4 | CV12: =IF($CI12<4,"",$CI12) -> 6.5 | CW12: =IF($CJ12<4,"",$CJ12) -> 5.8 | CX12: =IF($CK12<4,"",$CK12) -> 7 | CY12: =IF($CL12<4,"",$CL12) | CZ12: =IF($CM12<4,"",$CM12) | DA12: =IF($CN12<4,"",$CN12) | DB12: =IF($CO12<4,"",$CO12) | DC12: =IF($CP12<4,"",$CP12) | DD12: =IF($CQ12<4,"",$CQ12) -> 5.2 | DE12: =IF($CR12<4,"",$CR12) -> 4 | DF12: =IF($CS12<4,"",$CS12) -> 6.3 | DG12: =IF($B12="","",IF(COUNT($CU12:$DF12)=0,0,ROUND(SUMPRODUCT($CU12:$DF12,$CU$7:$DF$7)/SUMIF($CU12:$DF12,">=4",$CU$7:$DF$7),2))) -> 6.12 | DH12: =IF($K12="","",$K12) | DI12: =IF($O12="","",$O12) | DJ12: =IF($S12="","",$S12) | DK12: =IF($W12="","",$W12) | DL12: =IF($AA12="","",$AA12) | DM12: =IF($AE12="","",$AE12) | DN12: =IF($AI12="","",$AI12) | DO12: =IF($AM12="","",$AM12) | DP12: =IF($AQ12="","",$AQ12) | DQ12: =IF($AU12="","",$AU12) | DR12: =IF($AY12="","",$AY12) | DS12: =IF($BC12="","",$BC12) | DT12: =IF($H12>=$J12,$I12,$K12) -> 7.4 | DU12: =IF($L12>=$N12,$M12,$O12) -> 6.5 | DV12: =IF($P12>=$R12,$Q12,$S12) -> 5.8 | DW12: =IF($T12>=$V12,$U12,$W12) -> 7 | DX12: =IF($X12>=$Z12,$Y12,$AA12) -> 3 | DY12: =IF($AB12>=$AD12,$AC12,$AE12) | DZ12: =IF($AF12>=$AH12,$AG12,$AI12) | EA12: =IF($AJ12>=$AL12,$AK12,$AM12) | EB12: =IF($AN12>=$AP12,$AO12,$AQ12) | EC12: =IF($AR12>=$AT12,$AS12,$AU12) -> 5.2 | ED12: =IF($AV12>=$AX12,$AW12,$AY12) -> 4 | EE12: =IF($AZ12>=$BB12,$BA12,$BC12) -> 6.3 | EF12: =IF(COUNT($DH12:$DS12)=0,"",ROUND(SUMPRODUCT($DT12:$EE12,$DT$7:$EE$7)/(SUM($DT$7:$EE$7)-SUMIF($DT12:$EE12,"",$DT$7:$EE$7)),2)) | EG12: =IF($DT12<4,"",$DT12) -> 7.4 | EH12: =IF($DU12<4,"",$DU12) -> 6.5 | EI12: =IF($DV12<4,"",$DV12) -> 5.8 | EJ12: =IF($DW12<4,"",$DW12) -> 7 | EK12: =IF($DX12<4,"",$DX12) | EL12: =IF($DY12<4,"",$DY12) | EM12: =IF($DZ12<4,"",$DZ12) | EN12: =IF($EA12<4,"",$EA12) | EO12: =IF($EB12<4,"",$EB12) | EP12: =IF($EC12<4,"",$EC12) -> 5.2 | EQ12: =IF($ED12<4,"",$ED12) -> 4 | ER12: =IF($EE12<4,"",$EE12) -> 6.3 | ES12: =IF($B12="","",IF(COUNT($EG12:$ER12)=0,0,ROUND(SUMPRODUCT($EG12:$ER12,$EG$7:$ER$7)/SUMIF($EG12:$ER12,">=4",$EG$7:$ER$7),2))) -> 6.12 | ET12: =IF($EF12="",$CT12,$EF12) -> 5.6
A13: =IF($B13="","",SUBTOTAL(3,$B$11:B13)) -> 3 | B13: 13D301Đ149 | C13: =IF($B13="","",VLOOKUP($B13,'DS LOP HKI'!$B$2:$D$951,2,0)) -> Đỗ Huỳnh | D13: =IF($B13="","",VLOOKUP($B13,'DS LOP HKI'!$B$2:$D$951,3,0)) -> Bảo | H13: =IF(OR($H$6="",$H$7=""),"",IF($B13="","",IF(ISNA(VLOOKUP($B13,'LT01'!$B$11:$M$80,12,FALSE)),"",IF(VLOOKUP($B13,'LT01'!$B$11:$M$80,12,FALSE)="","",VLOOKUP($B13,'LT01'!$B$11:$M$80,12,FALSE))))) -> 9 | I13: =IF(OR($H$6="",$H$7=""),"",IF($B13="","",IF(ISNA(VLOOKUP($B13,'LT01'!$B$11:$N$80,13,FALSE)),"",VLOOKUP($B13,'LT01'!$B$11:$N$80,13,FALSE)))) -> 7.7 | K13: =IF(OR($H$6="",$H$7=""),"",IF($B13="","",IF(ISNA(VLOOKUP($B13,'LT01'!$B$11:$Q$80,16,FALSE)),"",IF(VLOOKUP($B13,'LT01'!$B$11:$Q$80,16,FALSE)="","",VLOOKUP($B13,'LT01'!$B$11:$Q$80,16,FALSE))))) | L13: =IF(OR($L$6="",$L$7=""),"",IF($B13="","",IF(ISNA(VLOOKUP($B13,'LT02'!$B$11:$M$80,12,FALSE)),"",IF(VLOOKUP($B13,'LT02'!$B$11:$M$80,12,FALSE)="","",VLOOKUP($B13,'LT02'!$B$11:$M$80,12,FALSE))))) -> 7.8 | M13: =IF(OR($L$6="",$L$7=""),"",IF($B13="","",IF(ISNA(VLOOKUP($B13,'LT02'!$B$11:$N$80,13,FALSE)),"",VLOOKUP($B13,'LT02'!$B$11:$N$80,13,FALSE)))) -> 7.7 | O13: =IF(OR($L$6="",$L$7=""),"",IF($B13="","",IF(ISNA(VLOOKUP($B13,'LT02'!$B$11:$Q$80,16,FALSE)),"",VLOOKUP($B13,'LT02'!$B$11:$Q$80,16,FALSE)))) | P13: =IF(OR($P$6="",$P$7=""),"",IF($B13="","",IF(ISNA(VLOOKUP($B13,'LT03'!$B$11:$M$80,12,FALSE)),"",IF(VLOOKUP($B13,'LT03'!$B$11:$M$80,12,FALSE)="","",VLOOKUP($B13,'LT03'!$B$11:$M$80,12,FALSE))))) -> 5 | Q13: =IF(OR($P$6="",$P$7=""),"",IF($B13="","",IF(ISNA(VLOOKUP($B13,'LT03'!$B$11:$N$80,13,FALSE)),"",VLOOKUP($B13,'LT03'!$B$11:$N$80,13,FALSE)))) -> 5.9 | S13: =IF(OR($P$6="",$P$7=""),"",IF($B13="","",IF(ISNA(VLOOKUP($B13,'LT03'!$B$11:$Q$80,16,FALSE)),"",VLOOKUP($B13,'LT03'!$B$11:$Q$80,16,FALSE)))) | T13: =IF(OR($T$6="",$T$7=""),"",IF($B13="","",IF(ISNA(VLOOKUP($B13,'LT04'!$B$11:$M$80,12,FALSE)),"",IF(VLOOKUP($B13,'LT04'!$B$11:$M$80,12,FALSE)="","",VLOOKUP($B13,'LT04'!$B$11:$M$80,12,FALSE))))) -> 9 | U13: =IF(OR($T$6="",$T$7=""),"",IF($B13="","",IF(ISNA(VLOOKUP($B13,'LT04'!$B$11:$N$80,13,FALSE)),"",VLOOKUP($B13,'LT04'!$B$11:$N$80,13,FALSE)))) -> 8.7 | W13: =IF(OR($T$6="",$T$7=""),"",IF($B13="","",IF(ISNA(VLOOKUP($B13,'LT04'!$B$11:$Q$80,16,FALSE)),"",VLOOKUP($B13,'LT04'!$B$11:$Q$80,16,FALSE)))) | X13: =IF(OR($X$6="",$X$7=""),"",IF($B13="","",IF(ISNA(VLOOKUP($B13,'LT05'!$B$11:$M$80,12,FALSE)),"",IF(VLOOKUP($B13,'LT05'!$B$11:$M$80,12,FALSE)="","",VLOOKUP($B13,'LT05'!$B$11:$M$80,12,FALSE))))) -> 2.3 | Y13: =IF(OR($X$6="",$X$7=""),"",IF($B13="","",IF(ISNA(VLOOKUP($B13,'LT05'!$B$11:$N$80,13,FALSE)),"",VLOOKUP($B13,'LT05'!$B$11:$N$80,13,FALSE)))) -> 4.1 | AA13: =IF(OR($X$6="",$X$7=""),"",IF($B13="","",IF(ISNA(VLOOKUP($B13,'LT05'!$B$11:$Q$80,16,FALSE)),"",VLOOKUP($B13,'LT05'!$B$11:$Q$80,16,FALSE)))) | AB13: =IF(OR($AB$6="",$AB$7=""),"",IF($B13="","",IF(ISNA(VLOOKUP($B13,'LT06'!$B$11:$M$80,12,FALSE)),"",IF(VLOOKUP($B13,'LT06'!$B$11:$M$80,12,FALSE)="","",VLOOKUP($B13,'LT06'!$B$11:$M$80,12,FALSE))))) | AC13: =IF(OR($AB$6="",$AB$7=""),"",IF($B13="","",IF(ISNA(VLOOKUP($B13,'LT06'!$B$11:$N$80,13,FALSE)),"",VLOOKUP($B13,'LT06'!$B$11:$N$80,13,FALSE)))) | AE13: =IF(OR($AB$6="",$AB$7=""),"",IF($B13="","",IF(ISNA(VLOOKUP($B13,'LT06'!$B$11:$Q$80,16,FALSE)),"",VLOOKUP($B13,'LT06'!$B$11:$Q$80,16,FALSE)))) | AF13: =IF(OR($AF$6="",$AF$7=""),"",IF($B13="","",IF(ISNA(VLOOKUP($B13,'LT07'!$B$11:$M$80,12,FALSE)),"",IF(VLOOKUP($B13,'LT07'!$B$11:$M$80,12,FALSE)="","",VLOOKUP($B13,'LT07'!$B$11:$M$80,12,FALSE))))) | AG13: =IF(OR($AF$6="",$AF$7=""),"",IF($B13="","",IF(ISNA(VLOOKUP($B13,'LT07'!$B$11:$N$80,13,FALSE)),"",VLOOKUP($B13,'LT07'!$B$11:$N$80,13,FALSE)))) | AI13: =IF(OR($AF$6="",$AF$7=""),"",IF($B13="","",IF(ISNA(VLOOKUP($B13,'LT07'!$B$11:$Q$80,16,FALSE)),"",VLOOKUP($B13,'LT07'!$B$11:$Q$80,16,FALSE)))) | AK13: =IF(OR($AJ$6="",$AJ$7=""),"",IF($B13="","",IF(ISNA(VLOOKUP($B13,'DO AN'!$B$11:$L$80,11,FALSE)),"",IF(VLOOKUP($B13,'DO AN'!$B$11:$L$80,11,FALSE)="","",VLOOKUP($B13,'DO AN'!$B$11:$L$80,11,FALSE))))) | AO13: =IF(OR($AN$6="",$AN$7=""),"",IF($B13="","",IF(ISNA(VLOOKUP($B13,'DO AN 2'!$B$11:$L$80,11,FALSE)),"",IF(VLOOKUP($B13,'DO AN 2'!$B$11:$L$80,11,FALSE)="","",VLOOKUP($B13,'DO AN 2'!$B$11:$L$80,11,FALSE))))) | AS13: =IF(OR($AR$6="",$AR$7=""),"",IF($B13="","",IF(ISNA(VLOOKUP($B13,'TH01'!$B$11:$O$80,14,FALSE)),"",VLOOKUP($B13,'TH01'!$B$11:$O$80,14,FALSE)))) -> 7.2 | AW13: =IF(OR($AV$6="",$AV$7=""),"",IF($B13="","",IF(ISNA(VLOOKUP($B13,'TH02'!$B$11:$O$80,14,FALSE)),"",VLOOKUP($B13,'TH02'!$B$11:$O$80,14,FALSE)))) -> 6.5 | BA13: =IF(OR($AZ$6="",$AZ$7=""),"",IF($B13="","",IF(ISNA(VLOOKUP($B13,'TH03'!$B$11:$O$80,14,FALSE)),"",VLOOKUP($B13,'TH03'!$B$11:$O$80,14,FALSE)))) -> 7.5 | BD13: =$CT13 -> 6.8 | BE13: =$EF13 | BF13: 61 | BG13: =IF($BD13="","",IF($B13="","",IF($BD13<4,"Kém",IF($BD13<5.5,"TB Yếu",IF($BD13<7,"T.Bình",IF($BD13<8,"Khá",IF($BD13<9,"Giỏi","SX"))))))) -> T.Bình | BH13: =IF($BE13="","",IF($B13="","",IF($BE13<4,"Kém",IF($BE13<5.5,"TB Yếu",IF($BE13<7,"T.Bình",IF($BE13<8,"Khá",IF($BE13<9,"Giỏi","SX"))))))) | BJ13: =IF($BD13>=4,"",IF(AND($BD13<4,$BE13="",COUNT($DH13:$DS13)=0),"Cảnh Báo",IF($BE13<4,"Cảnh Báo",""))) | BK13: =IF($B13="","",IF(COUNT($CH13:$CS13)=0,"",SUMIF($CH13:$CS13,">=4",$CH$7:$CS$7))) -> 18 | BL13: =IF($B13="","",IF(COUNT($CH13:$CS13=0),"",SUMIF($CH13:$CS13,"<4",$CH$7:$CS$7))) -> 0 | BM13: =IF(AND($BE13="",$B13=""),"",SUMIF($DT13:$EE13,">=4",$DT$7:$EE$7)) -> 18 | BN13: =IF(AND($BE13="",$B13=""),"",SUMIF($DT13:$EE13,"<4",$DT$7:$EE$7)) -> 0 | BO13: =IF($DG13="","",$DG13) -> 6.8 | BP13: =IF($B13="","",IF($BO13>=5.5,"BT","Yếu")) -> BT | BQ13: =IF($ES13="","",$ES13) -> 6.8 | BR13: =IF($B13="","",IF($BQ13>=5.5,"BT","Yếu")) -> BT | BT13: =IF(COUNT($BU13:$CF13)=0,"",COUNTIF($BU13:$CF13,"<5")) -> 1 | BU13: =$H13 -> 9 | BV13: =$L13 -> 7.8 | BW13: =$P13 -> 5 | BX13: =$T13 -> 9 | BY13: =$X13 -> 2.3 | BZ13: =$AB13 | CA13: =$AF13 | CB13: =$AK13 | CC13: =$AO13 | CD13: =$AS13 -> 7.2 | CE13: =$AW13 -> 6.5 | CF13: =$BA13 -> 7.5 | CG13: =IF(COUNT($CH13:$CS13)=0,"",COUNTIF($CH13:$CS13,"<4")) -> 0 | CH13: =$I13 -> 7.7 | CI13: =$M13 -> 7.7 | CJ13: =$Q13 -> 5.9 | CK13: =$U13 -> 8.7 | CL13: =$Y13 -> 4.1 | CM13: =$AC13 | CN13: =$AG13 | CO13: =$AK13 | CP13: =$AO13 | CQ13: =$AS13 -> 7.2 | CR13: =$AW13 -> 6.5 | CS13: =$BA13 -> 7.5 | CT13: =IF(COUNT($CH13:$CS13)=0,"",ROUND(SUMPRODUCT($CH13:$CS13,$CH$7:$CS$7)/(SUM($CH$7:$CS$7)-SUMIF($CH13:$CS13,"",$CH$7:$CS$7)),2)) -> 6.8 | CU13: =IF($CH13<4,"",$CH13) -> 7.7 | CV13: =IF($CI13<4,"",$CI13) -> 7.7 | CW13: =IF($CJ13<4,"",$CJ13) -> 5.9 | CX13: =IF($CK13<4,"",$CK13) -> 8.7 | CY13: =IF($CL13<4,"",$CL13) -> 4.1 | CZ13: =IF($CM13<4,"",$CM13) | DA13: =IF($CN13<4,"",$CN13) | DB13: =IF($CO13<4,"",$CO13) | DC13: =IF($CP13<4,"",$CP13) | DD13: =IF($CQ13<4,"",$CQ13) -> 7.2 | DE13: =IF($CR13<4,"",$CR13) -> 6.5 | DF13: =IF($CS13<4,"",$CS13) -> 7.5 | DG13: =IF($B13="","",IF(COUNT($CU13:$DF13)=0,0,ROUND(SUMPRODUCT($CU13:$DF13,$CU$7:$DF$7)/SUMIF($CU13:$DF13,">=4",$CU$7:$DF$7),2))) -> 6.8 | DH13: =IF($K13="","",$K13) | DI13: =IF($O13="","",$O13) | DJ13: =IF($S13="","",$S13) | DK13: =IF($W13="","",$W13) | DL13: =IF($AA13="","",$AA13) | DM13: =IF($AE13="","",$AE13) | DN13: =IF($AI13="","",$AI13) | DO13: =IF($AM13="","",$AM13) | DP13: =IF($AQ13="","",$AQ13) | DQ13: =IF($AU13="","",$AU13) | DR13: =IF($AY13="","",$AY13) | DS13: =IF($BC13="","",$BC13) | DT13: =IF($H13>=$J13,$I13,$K13) -> 7.7 | DU13: =IF($L13>=$N13,$M13,$O13) -> 7.7 | DV13: =IF($P13>=$R13,$Q13,$S13) -> 5.9 | DW13: =IF($T13>=$V13,$U13,$W13) -> 8.7 | DX13: =IF($X13>=$Z13,$Y13,$AA13) -> 4.1 | DY13: =IF($AB13>=$AD13,$AC13,$AE13) | DZ13: =IF($AF13>=$AH13,$AG13,$AI13) | EA13: =IF($AJ13>=$AL13,$AK13,$AM13) | EB13: =IF($AN13>=$AP13,$AO13,$AQ13) | EC13: =IF($AR13>=$AT13,$AS13,$AU13) -> 7.2 | ED13: =IF($AV13>=$AX13,$AW13,$AY13) -> 6.5 | EE13: =IF($AZ13>=$BB13,$BA13,$BC13) -> 7.5 | EF13: =IF(COUNT($DH13:$DS13)=0,"",ROUND(SUMPRODUCT($DT13:$EE13,$DT$7:$EE$7)/(SUM($DT$7:$EE$7)-SUMIF($DT13:$EE13,"",$DT$7:$EE$7)),2)) | EG13: =IF($DT13<4,"",$DT13) -> 7.7 | EH13: =IF($DU13<4,"",$DU13) -> 7.7 | EI13: =IF($DV13<4,"",$DV13) -> 5.9 | EJ13: =IF($DW13<4,"",$DW13) -> 8.7 | EK13: =IF($DX13<4,"",$DX13) -> 4.1 | EL13: =IF($DY13<4,"",$DY13) | EM13: =IF($DZ13<4,"",$DZ13) | EN13: =IF($EA13<4,"",$EA13) | EO13: =IF($EB13<4,"",$EB13) | EP13: =IF($EC13<4,"",$EC13) -> 7.2 | EQ13: =IF($ED13<4,"",$ED13) -> 6.5 | ER13: =IF($EE13<4,"",$EE13) -> 7.5 | ES13: =IF($B13="","",IF(COUNT($EG13:$ER13)=0,0,ROUND(SUMPRODUCT($EG13:$ER13,$EG$7:$ER$7)/SUMIF($EG13:$ER13,">=4",$EG$7:$ER$7),2))) -> 6.8 | ET13: =IF($EF13="",$CT13,$EF13) -> 6.8
A14: =IF($B14="","",SUBTOTAL(3,$B$11:B14)) -> 4 | B14: 13D301Đ008 | C14: =IF($B14="","",VLOOKUP($B14,'DS LOP HKI'!$B$2:$D$951,2,0)) -> Trương Vũ | D14: =IF($B14="","",VLOOKUP($B14,'DS LOP HKI'!$B$2:$D$951,3,0)) -> Bảo | G14: 2 | H14: =IF(OR($H$6="",$H$7=""),"",IF($B14="","",IF(ISNA(VLOOKUP($B14,'LT01'!$B$11:$M$80,12,FALSE)),"",IF(VLOOKUP($B14,'LT01'!$B$11:$M$80,12,FALSE)="","",VLOOKUP($B14,'LT01'!$B$11:$M$80,12,FALSE))))) -> 8.8 | I14: =IF(OR($H$6="",$H$7=""),"",IF($B14="","",IF(ISNA(VLOOKUP($B14,'LT01'!$B$11:$N$80,13,FALSE)),"",VLOOKUP($B14,'LT01'!$B$11:$N$80,13,FALSE)))) -> 8 | K14: =IF(OR($H$6="",$H$7=""),"",IF($B14="","",IF(ISNA(VLOOKUP($B14,'LT01'!$B$11:$Q$80,16,FALSE)),"",IF(VLOOKUP($B14,'LT01'!$B$11:$Q$80,16,FALSE)="","",VLOOKUP($B14,'LT01'!$B$11:$Q$80,16,FALSE))))) | L14: =IF(OR($L$6="",$L$7=""),"",IF($B14="","",IF(ISNA(VLOOKUP($B14,'LT02'!$B$11:$M$80,12,FALSE)),"",IF(VLOOKUP($B14,'LT02'!$B$11:$M$80,12,FALSE)="","",VLOOKUP($B14,'LT02'!$B$11:$M$80,12,FALSE))))) -> 7.3 | M14: =IF(OR($L$6="",$L$7=""),"",IF($B14="","",IF(ISNA(VLOOKUP($B14,'LT02'!$B$11:$N$80,13,FALSE)),"",VLOOKUP($B14,'LT02'!$B$11:$N$80,13,FALSE)))) -> 7.2 | O14: =IF(OR($L$6="",$L$7=""),"",IF($B14="","",IF(ISNA(VLOOKUP($B14,'LT02'!$B$11:$Q$80,16,FALSE)),"",VLOOKUP($B14,'LT02'!$B$11:$Q$80,16,FALSE)))) | P14: =IF(OR($P$6="",$P$7=""),"",IF($B14="","",IF(ISNA(VLOOKUP($B14,'LT03'!$B$11:$M$80,12,FALSE)),"",IF(VLOOKUP($B14,'LT03'!$B$11:$M$80,12,FALSE)="","",VLOOKUP($B14,'LT03'!$B$11:$M$80,12,FALSE))))) -> 5 | Q14: =IF(OR($P$6="",$P$7=""),"",IF($B14="","",IF(ISNA(VLOOKUP($B14,'LT03'!$B$11:$N$80,13,FALSE)),"",VLOOKUP($B14,'LT03'!$B$11:$N$80,13,FALSE)))) -> 5.7 | S14: =IF(OR($P$6="",$P$7=""),"",IF($B14="","",IF(ISNA(VLOOKUP($B14,'LT03'!$B$11:$Q$80,16,FALSE)),"",VLOOKUP($B14,'LT03'!$B$11:$Q$80,16,FALSE)))) | T14: =IF(OR($T$6="",$T$7=""),"",IF($B14="","",IF(ISNA(VLOOKUP($B14,'LT04'!$B$11:$M$80,12,FALSE)),"",IF(VLOOKUP($B14,'LT04'!$B$11:$M$80,12,FALSE)="","",VLOOKUP($B14,'LT04'!$B$11:$M$80,12,FALSE))))) -> 9 | U14: =IF(OR($T$6="",$T$7=""),"",IF($B14="","",IF(ISNA(VLOOKUP($B14,'LT04'!$B$11:$N$80,13,FALSE)),"",VLOOKUP($B14,'LT04'!$B$11:$N$80,13,FALSE)))) -> 8.5 | W14: =IF(OR($T$6="",$T$7=""),"",IF($B14="","",IF(ISNA(VLOOKUP($B14,'LT04'!$B$11:$Q$80,16,FALSE)),"",VLOOKUP($B14,'LT04'!$B$11:$Q$80,16,FALSE)))) | X14: =IF(OR($X$6="",$X$7=""),"",IF($B14="","",IF(ISNA(VLOOKUP($B14,'LT05'!$B$11:$M$80,12,FALSE)),"",IF(VLOOKUP($B14,'LT05'!$B$11:$M$80,12,FALSE)="","",VLOOKUP($B14,'LT05'!$B$11:$M$80,12,FALSE))))) -> 3 | Y14: =IF(OR($X$6="",$X$7=""),"",IF($B14="","",IF(ISNA(VLOOKUP($B14,'LT05'!$B$11:$N$80,13,FALSE)),"",VLOOKUP($B14,'LT05'!$B$11:$N$80,13,FALSE)))) -> 4.5 | AA14: =IF(OR($X$6="",$X$7=""),"",IF($B14="","",IF(ISNA(VLOOKUP($B14,'LT05'!$B$11:$Q$80,16,FALSE)),"",VLOOKUP($B14,'LT05'!$B$11:$Q$80,16,FALSE)))) | AB14: =IF(OR($AB$6="",$AB$7=""),"",IF($B14="","",IF(ISNA(VLOOKUP($B14,'LT06'!$B$11:$M$80,12,FALSE)),"",IF(VLOOKUP($B14,'LT06'!$B$11:$M$80,12,FALSE)="","",VLOOKUP($B14,'LT06'!$B$11:$M$80,12,FALSE))))) | AC14: =IF(OR($AB$6="",$AB$7=""),"",IF($B14="","",IF(ISNA(VLOOKUP($B14,'LT06'!$B$11:$N$80,13,FALSE)),"",VLOOKUP($B14,'LT06'!$B$11:$N$80,13,FALSE)))) | AE14: =IF(OR($AB$6="",$AB$7=""),"",IF($B14="","",IF(ISNA(VLOOKUP($B14,'LT06'!$B$11:$Q$80,16,FALSE)),"",VLOOKUP($B14,'LT06'!$B$11:$Q$80,16,FALSE)))) | AF14: =IF(OR($AF$6="",$AF$7=""),"",IF($B14="","",IF(ISNA(VLOOKUP($B14,'LT07'!$B$11:$M$80,12,FALSE)),"",IF(VLOOKUP($B14,'LT07'!$B$11:$M$80,12,FALSE)="","",VLOOKUP($B14,'LT07'!$B$11:$M$80,12,FALSE))))) | AG14: =IF(OR($AF$6="",$AF$7=""),"",IF($B14="","",IF(ISNA(VLOOKUP($B14,'LT07'!$B$11:$N$80,13,FALSE)),"",VLOOKUP($B14,'LT07'!$B$11:$N$80,13,FALSE)))) | AI14: =IF(OR($AF$6="",$AF$7=""),"",IF($B14="","",IF(ISNA(VLOOKUP($B14,'LT07'!$B$11:$Q$80,16,FALSE)),"",VLOOKUP($B14,'LT07'!$B$11:$Q$80,16,FALSE)))) | AK14: =IF(OR($AJ$6="",$AJ$7=""),"",IF($B14="","",IF(ISNA(VLOOKUP($B14,'DO AN'!$B$11:$L$80,11,FALSE)),"",IF(VLOOKUP($B14,'DO AN'!$B$11:$L$80,11,FALSE)="","",VLOOKUP($B14,'DO AN'!$B$11:$L$80,11,FALSE))))) | AO14: =IF(OR($AN$6="",$AN$7=""),"",IF($B14="","",IF(ISNA(VLOOKUP($B14,'DO AN 2'!$B$11:$L$80,11,FALSE)),"",IF(VLOOKUP($B14,'DO AN 2'!$B$11:$L$80,11,FALSE)="","",VLOOKUP($B14,'DO AN 2'!$B$11:$L$80,11,FALSE))))) | AS14: =IF(OR($AR$6="",$AR$7=""),"",IF($B14="","",IF(ISNA(VLOOKUP($B14,'TH01'!$B$11:$O$80,14,FALSE)),"",VLOOKUP($B14,'TH01'!$B$11:$O$80,14,FALSE)))) -> 7.2 | AW14: =IF(OR($AV$6="",$AV$7=""),"",IF($B14="","",IF(ISNA(VLOOKUP($B14,'TH02'!$B$11:$O$80,14,FALSE)),"",VLOOKUP($B14,'TH02'!$B$11:$O$80,14,FALSE)))) -> 7 | BA14: =IF(OR($AZ$6="",$AZ$7=""),"",IF($B14="","",IF(ISNA(VLOOKUP($B14,'TH03'!$B$11:$O$80,14,FALSE)),"",VLOOKUP($B14,'TH03'!$B$11:$O$80,14,FALSE)))) -> 7.8 | BD14: =$CT14 -> 6.91 | BE14: =$EF14 | BF14: 59 | BG14: =IF($BD14="","",IF($B14="","",IF($BD14<4,"Kém",IF($BD14<5.5,"TB Yếu",IF($BD14<7,"T.Bình",IF($BD14<8,"Khá",IF($BD14<9,"Giỏi","SX"))))))) -> T.Bình | BH14: =IF($BE14="","",IF($B14="","",IF($BE14<4,"Kém",IF($BE14<5.5,"TB Yếu",IF($BE14<7,"T.Bình",IF($BE14<8,"Khá",IF($BE14<9,"Giỏi","SX"))))))) | BJ14: =IF($BD14>=4,"",IF(AND($BD14<4,$BE14="",COUNT($DH14:$DS14)=0),"Cảnh Báo",IF($BE14<4,"Cảnh Báo",""))) | BK14: =IF($B14="","",IF(COUNT($CH14:$CS14)=0,"",SUMIF($CH14:$CS14,">=4",$CH$7:$CS$7))) -> 18 | BL14: =IF($B14="","",IF(COUNT($CH14:$CS14=0),"",SUMIF($CH14:$CS14,"<4",$CH$7:$CS$7))) -> 0 | BM14: =IF(AND($BE14="",$B14=""),"",SUMIF($DT14:$EE14,">=4",$DT$7:$EE$7)) -> 18 | BN14: =IF(AND($BE14="",$B14=""),"",SUMIF($DT14:$EE14,"<4",$DT$7:$EE$7)) -> 0 | BO14: =IF($DG14="","",$DG14) -> 6.91 | BP14: =IF($B14="","",IF($BO14>=5.5,"BT","Yếu")) -> BT | BQ14: =IF($ES14="","",$ES14) -> 6.91 | BR14: =IF($B14="","",IF($BQ14>=5.5,"BT","Yếu")) -> BT | BT14: =IF(COUNT($BU14:$CF14)=0,"",COUNTIF($BU14:$CF14,"<5")) -> 1 | BU14: =$H14 -> 8.8 | BV14: =$L14 -> 7.3 | BW14: =$P14 -> 5 | BX14: =$T14 -> 9 | BY14: =$X14 -> 3 | BZ14: =$AB14 | CA14: =$AF14 | CB14: =$AK14 | CC14: =$AO14 | CD14: =$AS14 -> 7.2 | CE14: =$AW14 -> 7 | CF14: =$BA14 -> 7.8 | CG14: =IF(COUNT($CH14:$CS14)=0,"",COUNTIF($CH14:$CS14,"<4")) -> 0 | CH14: =$I14 -> 8 | CI14: =$M14 -> 7.2 | CJ14: =$Q14 -> 5.7 | CK14: =$U14 -> 8.5 | CL14: =$Y14 -> 4.5 | CM14: =$AC14 | CN14: =$AG14 | CO14: =$AK14 | CP14: =$AO14 | CQ14: =$AS14 -> 7.2 | CR14: =$AW14 -> 7 | CS14: =$BA14 -> 7.8 | CT14: =IF(COUNT($CH14:$CS14)=0,"",ROUND(SUMPRODUCT($CH14:$CS14,$CH$7:$CS$7)/(SUM($CH$7:$CS$7)-SUMIF($CH14:$CS14,"",$CH$7:$CS$7)),2)) -> 6.91 | CU14: =IF($CH14<4,"",$CH14) -> 8 | CV14: =IF($CI14<4,"",$CI14) -> 7.2 | CW14: =IF($CJ14<4,"",$CJ14) -> 5.7 | CX14: =IF($CK14<4,"",$CK14) -> 8.5 | CY14: =IF($CL14<4,"",$CL14) -> 4.5 | CZ14: =IF($CM14<4,"",$CM14) | DA14: =IF($CN14<4,"",$CN14) | DB14: =IF($CO14<4,"",$CO14) | DC14: =IF($CP14<4,"",$CP14) | DD14: =IF($CQ14<4,"",$CQ14) -> 7.2 | DE14: =IF($CR14<4,"",$CR14) -> 7 | DF14: =IF($CS14<4,"",$CS14) -> 7.8 | DG14: =IF($B14="","",IF(COUNT($CU14:$DF14)=0,0,ROUND(SUMPRODUCT($CU14:$DF14,$CU$7:$DF$7)/SUMIF($CU14:$DF14,">=4",$CU$7:$DF$7),2))) -> 6.91 | DH14: =IF($K14="","",$K14) | DI14: =IF($O14="","",$O14) | DJ14: =IF($S14="","",$S14) | DK14: =IF($W14="","",$W14) | DL14: =IF($AA14="","",$AA14) | DM14: =IF($AE14="","",$AE14) | DN14: =IF($AI14="","",$AI14) | DO14: =IF($AM14="","",$AM14) | DP14: =IF($AQ14="","",$AQ14) | DQ14: =IF($AU14="","",$AU14) | DR14: =IF($AY14="","",$AY14) | DS14: =IF($BC14="","",$BC14) | DT14: =IF($H14>=$J14,$I14,$K14) -> 8 | DU14: =IF($L14>=$N14,$M14,$O14) -> 7.2 | DV14: =IF($P14>=$R14,$Q14,$S14) -> 5.7 | DW14: =IF($T14>=$V14,$U14,$W14) -> 8.5 | DX14: =IF($X14>=$Z14,$Y14,$AA14) -> 4.5 | DY14: =IF($AB14>=$AD14,$AC14,$AE14) | DZ14: =IF($AF14>=$AH14,$AG14,$AI14) | EA14: =IF($AJ14>=$AL14,$AK14,$AM14) | EB14: =IF($AN14>=$AP14,$AO14,$AQ14) | EC14: =IF($AR14>=$AT14,$AS14,$AU14) -> 7.2 | ED14: =IF($AV14>=$AX14,$AW14,$AY14) -> 7 | EE14: =IF($AZ14>=$BB14,$BA14,$BC14) -> 7.8 | EF14: =IF(COUNT($DH14:$DS14)=0,"",ROUND(SUMPRODUCT($DT14:$EE14,$DT$7:$EE$7)/(SUM($DT$7:$EE$7)-SUMIF($DT14:$EE14,"",$DT$7:$EE$7)),2)) | EG14: =IF($DT14<4,"",$DT14) -> 8 | EH14: =IF($DU14<4,"",$DU14) -> 7.2 | EI14: =IF($DV14<4,"",$DV14) -> 5.7 | EJ14: =IF($DW14<4,"",$DW14) -> 8.5 | EK14: =IF($DX14<4,"",$DX14) -> 4.5 | EL14: =IF($DY14<4,"",$DY14) | EM14: =IF($DZ14<4,"",$DZ14) | EN14: =IF($EA14<4,"",$EA14) | EO14: =IF($EB14<4,"",$EB14) | EP14: =IF($EC14<4,"",$EC14) -> 7.2 | EQ14: =IF($ED14<4,"",$ED14) -> 7 | ER14: =IF($EE14<4,"",$EE14) -> 7.8 | ES14: =IF($B14="","",IF(COUNT($EG14:$ER14)=0,0,ROUND(SUMPRODUCT($EG14:$ER14,$EG$7:$ER$7)/SUMIF($EG14:$ER14,">=4",$EG$7:$ER$7),2))) -> 6.91 | ET14: =IF($EF14="",$CT14,$EF14) -> 6.91
A15: =IF($B15="","",SUBTOTAL(3,$B$11:B15)) -> 5 | B15: 13D301Đ009 | C15: =IF($B15="","",VLOOKUP($B15,'DS LOP HKI'!$B$2:$D$951,2,0)) -> Võ Thành | D15: =IF($B15="","",VLOOKUP($B15,'DS LOP HKI'!$B$2:$D$951,3,0)) -> Bảo | G15: 1 | H15: =IF(OR($H$6="",$H$7=""),"",IF($B15="","",IF(ISNA(VLOOKUP($B15,'LT01'!$B$11:$M$80,12,FALSE)),"",IF(VLOOKUP($B15,'LT01'!$B$11:$M$80,12,FALSE)="","",VLOOKUP($B15,'LT01'!$B$11:$M$80,12,FALSE))))) -> 7.3 | I15: =IF(OR($H$6="",$H$7=""),"",IF($B15="","",IF(ISNA(VLOOKUP($B15,'LT01'!$B$11:$N$80,13,FALSE)),"",VLOOKUP($B15,'LT01'!$B$11:$N$80,13,FALSE)))) -> 6.6 | K15: =IF(OR($H$6="",$H$7=""),"",IF($B15="","",IF(ISNA(VLOOKUP($B15,'LT01'!$B$11:$Q$80,16,FALSE)),"",IF(VLOOKUP($B15,'LT01'!$B$11:$Q$80,16,FALSE)="","",VLOOKUP($B15,'LT01'!$B$11:$Q$80,16,FALSE))))) | L15: =IF(OR($L$6="",$L$7=""),"",IF($B15="","",IF(ISNA(VLOOKUP($B15,'LT02'!$B$11:$M$80,12,FALSE)),"",IF(VLOOKUP($B15,'LT02'!$B$11:$M$80,12,FALSE)="","",VLOOKUP($B15,'LT02'!$B$11:$M$80,12,FALSE))))) -> 5 | M15: =IF(OR($L$6="",$L$7=""),"",IF($B15="","",IF(ISNA(VLOOKUP($B15,'LT02'!$B$11:$N$80,13,FALSE)),"",VLOOKUP($B15,'LT02'!$B$11:$N$80,13,FALSE)))) -> 5.1 | O15: =IF(OR($L$6="",$L$7=""),"",IF($B15="","",IF(ISNA(VLOOKUP($B15,'LT02'!$B$11:$Q$80,16,FALSE)),"",VLOOKUP($B15,'LT02'!$B$11:$Q$80,16,FALSE)))) | P15: =IF(OR($P$6="",$P$7=""),"",IF($B15="","",IF(ISNA(VLOOKUP($B15,'LT03'!$B$11:$M$80,12,FALSE)),"",IF(VLOOKUP($B15,'LT03'!$B$11:$M$80,12,FALSE)="","",VLOOKUP($B15,'LT03'!$B$11:$M$80,12,FALSE))))) -> 4 | Q15: =IF(OR($P$6="",$P$7=""),"",IF($B15="","",IF(ISNA(VLOOKUP($B15,'LT03'!$B$11:$N$80,13,FALSE)),"",VLOOKUP($B15,'LT03'!$B$11:$N$80,13,FALSE)))) -> 4.7 | S15: =IF(OR($P$6="",$P$7=""),"",IF($B15="","",IF(ISNA(VLOOKUP($B15,'LT03'!$B$11:$Q$80,16,FALSE)),"",VLOOKUP($B15,'LT03'!$B$11:$Q$80,16,FALSE)))) | T15: =IF(OR($T$6="",$T$7=""),"",IF($B15="","",IF(ISNA(VLOOKUP($B15,'LT04'!$B$11:$M$80,12,FALSE)),"",IF(VLOOKUP($B15,'LT04'!$B$11:$M$80,12,FALSE)="","",VLOOKUP($B15,'LT04'!$B$11:$M$80,12,FALSE))))) -> 7 | U15: =IF(OR($T$6="",$T$7=""),"",IF($B15="","",IF(ISNA(VLOOKUP($B15,'LT04'!$B$11:$N$80,13,FALSE)),"",VLOOKUP($B15,'LT04'!$B$11:$N$80,13,FALSE)))) -> 7 | W15: =IF(OR($T$6="",$T$7=""),"",IF($B15="","",IF(ISNA(VLOOKUP($B15,'LT04'!$B$11:$Q$80,16,FALSE)),"",VLOOKUP($B15,'LT04'!$B$11:$Q$80,16,FALSE)))) | X15: =IF(OR($X$6="",$X$7=""),"",IF($B15="","",IF(ISNA(VLOOKUP($B15,'LT05'!$B$11:$M$80,12,FALSE)),"",IF(VLOOKUP($B15,'LT05'!$B$11:$M$80,12,FALSE)="","",VLOOKUP($B15,'LT05'!$B$11:$M$80,12,FALSE))))) -> 2 | Y15: =IF(OR($X$6="",$X$7=""),"",IF($B15="","",IF(ISNA(VLOOKUP($B15,'LT05'!$B$11:$N$80,13,FALSE)),"",VLOOKUP($B15,'LT05'!$B$11:$N$80,13,FALSE)))) -> 3.2 | AA15: =IF(OR($X$6="",$X$7=""),"",IF($B15="","",IF(ISNA(VLOOKUP($B15,'LT05'!$B$11:$Q$80,16,FALSE)),"",VLOOKUP($B15,'LT05'!$B$11:$Q$80,16,FALSE)))) | AB15: =IF(OR($AB$6="",$AB$7=""),"",IF($B15="","",IF(ISNA(VLOOKUP($B15,'LT06'!$B$11:$M$80,12,FALSE)),"",IF(VLOOKUP($B15,'LT06'!$B$11:$M$80,12,FALSE)="","",VLOOKUP($B15,'LT06'!$B$11:$M$80,12,FALSE))))) | AC15: =IF(OR($AB$6="",$AB$7=""),"",IF($B15="","",IF(ISNA(VLOOKUP($B15,'LT06'!$B$11:$N$80,13,FALSE)),"",VLOOKUP($B15,'LT06'!$B$11:$N$80,13,FALSE)))) | AE15: =IF(OR($AB$6="",$AB$7=""),"",IF($B15="","",IF(ISNA(VLOOKUP($B15,'LT06'!$B$11:$Q$80,16,FALSE)),"",VLOOKUP($B15,'LT06'!$B$11:$Q$80,16,FALSE)))) | AF15: =IF(OR($AF$6="",$AF$7=""),"",IF($B15="","",IF(ISNA(VLOOKUP($B15,'LT07'!$B$11:$M$80,12,FALSE)),"",IF(VLOOKUP($B15,'LT07'!$B$11:$M$80,12,FALSE)="","",VLOOKUP($B15,'LT07'!$B$11:$M$80,12,FALSE))))) | AG15: =IF(OR($AF$6="",$AF$7=""),"",IF($B15="","",IF(ISNA(VLOOKUP($B15,'LT07'!$B$11:$N$80,13,FALSE)),"",VLOOKUP($B15,'LT07'!$B$11:$N$80,13,FALSE)))) | AI15: =IF(OR($AF$6="",$AF$7=""),"",IF($B15="","",IF(ISNA(VLOOKUP($B15,'LT07'!$B$11:$Q$80,16,FALSE)),"",VLOOKUP($B15,'LT07'!$B$11:$Q$80,16,FALSE)))) | AK15: =IF(OR($AJ$6="",$AJ$7=""),"",IF($B15="","",IF(ISNA(VLOOKUP($B15,'DO AN'!$B$11:$L$80,11,FALSE)),"",IF(VLOOKUP($B15,'DO AN'!$B$11:$L$80,11,FALSE)="","",VLOOKUP($B15,'DO AN'!$B$11:$L$80,11,FALSE))))) | AO15: =IF(OR($AN$6="",$AN$7=""),"",IF($B15="","",IF(ISNA(VLOOKUP($B15,'DO AN 2'!$B$11:$L$80,11,FALSE)),"",IF(VLOOKUP($B15,'DO AN 2'!$B$11:$L$80,11,FALSE)="","",VLOOKUP($B15,'DO AN 2'!$B$11:$L$80,11,FALSE))))) | AS15: =IF(OR($AR$6="",$AR$7=""),"",IF($B15="","",IF(ISNA(VLOOKUP($B15,'TH01'!$B$11:$O$80,14,FALSE)),"",VLOOKUP($B15,'TH01'!$B$11:$O$80,14,FALSE)))) -> 7.2 | AW15: =IF(OR($AV$6="",$AV$7=""),"",IF($B15="","",IF(ISNA(VLOOKUP($B15,'TH02'!$B$11:$O$80,14,FALSE)),"",VLOOKUP($B15,'TH02'!$B$11:$O$80,14,FALSE)))) -> 3.5 | BA15: =IF(OR($AZ$6="",$AZ$7=""),"",IF($B15="","",IF(ISNA(VLOOKUP($B15,'TH03'!$B$11:$O$80,14,FALSE)),"",VLOOKUP($B15,'TH03'!$B$11:$O$80,14,FALSE)))) -> 7 | BD15: =$CT15 -> 5.47 | BE15: =$EF15 | BF15: 59 | BG15: =IF($BD15="","",IF($B15="","",IF($BD15<4,"Kém",IF($BD15<5.5,"TB Yếu",IF($BD15<7,"T.Bình",IF($BD15<8,"Khá",IF($BD15<9,"Giỏi","SX"))))))) -> TB Yếu | BH15: =IF($BE15="","",IF($B15="","",IF($BE15<4,"Kém",IF($BE15<5.5,"TB Yếu",IF($BE15<7,"T.Bình",IF($BE15<8,"Khá",IF($BE15<9,"Giỏi","SX"))))))) | BJ15: =IF($BD15>=4,"",IF(AND($BD15<4,$BE15="",COUNT($DH15:$DS15)=0),"Cảnh Báo",IF($BE15<4,"Cảnh Báo",""))) | BK15: =IF($B15="","",IF(COUNT($CH15:$CS15)=0,"",SUMIF($CH15:$CS15,">=4",$CH$7:$CS$7))) -> 13 | BL15: =IF($B15="","",IF(COUNT($CH15:$CS15=0),"",SUMIF($CH15:$CS15,"<4",$CH$7:$CS$7))) -> 5 | BM15: =IF(AND($BE15="",$B15=""),"",SUMIF($DT15:$EE15,">=4",$DT$7:$EE$7)) -> 13 | BN15: =IF(AND($BE15="",$B15=""),"",SUMIF($DT15:$EE15,"<4",$DT$7:$EE$7)) -> 5 | BO15: =IF($DG15="","",$DG15) -> 6.29 | BP15: =IF($B15="","",IF($BO15>=5.5,"BT","Yếu")) -> BT | BQ15: =IF($ES15="","",$ES15) -> 6.29 | BR15: =IF($B15="","",IF($BQ15>=5.5,"BT","Yếu")) -> BT | BT15: =IF(COUNT($BU15:$CF15)=0,"",COUNTIF($BU15:$CF15,"<5")) -> 3 | BU15: =$H15 -> 7.3 | BV15: =$L15 -> 5 | BW15: =$P15 -> 4 | BX15: =$T15 -> 7 | BY15: =$X15 -> 2 | BZ15: =$AB15 | CA15: =$AF15 | CB15: =$AK15 | CC15: =$AO15 | CD15: =$AS15 -> 7.2 | CE15: =$AW15 -> 3.5 | CF15: =$BA15 -> 7 | CG15: =IF(COUNT($CH15:$CS15)=0,"",COUNTIF($CH15:$CS15,"<4")) -> 2 | CH15: =$I15 -> 6.6 | CI15: =$M15 -> 5.1 | CJ15: =$Q15 -> 4.7 | CK15: =$U15 -> 7 | CL15: =$Y15 -> 3.2 | CM15: =$AC15 | CN15: =$AG15 | CO15: =$AK15 | CP15: =$AO15 | CQ15: =$AS15 -> 7.2 | CR15: =$AW15 -> 3.5 | CS15: =$BA15 -> 7 | CT15: =IF(COUNT($CH15:$CS15)=0,"",ROUND(SUMPRODUCT($CH15:$CS15,$CH$7:$CS$7)/(SUM($CH$7:$CS$7)-SUMIF($CH15:$CS15,"",$CH$7:$CS$7)),2)) -> 5.47 | CU15: =IF($CH15<4,"",$CH15) -> 6.6 | CV15: =IF($CI15<4,"",$CI15) -> 5.1 | CW15: =IF($CJ15<4,"",$CJ15) -> 4.7 | CX15: =IF($CK15<4,"",$CK15) -> 7 | CY15: =IF($CL15<4,"",$CL15) | CZ15: =IF($CM15<4,"",$CM15) | DA15: =IF($CN15<4,"",$CN15) | DB15: =IF($CO15<4,"",$CO15) | DC15: =IF($CP15<4,"",$CP15) | DD15: =IF($CQ15<4,"",$CQ15) -> 7.2 | DE15: =IF($CR15<4,"",$CR15) | DF15: =IF($CS15<4,"",$CS15) -> 7 | DG15: =IF($B15="","",IF(COUNT($CU15:$DF15)=0,0,ROUND(SUMPRODUCT($CU15:$DF15,$CU$7:$DF$7)/SUMIF($CU15:$DF15,">=4",$CU$7:$DF$7),2))) -> 6.29 | DH15: =IF($K15="","",$K15) | DI15: =IF($O15="","",$O15) | DJ15: =IF($S15="","",$S15) | DK15: =IF($W15="","",$W15) | DL15: =IF($AA15="","",$AA15) | DM15: =IF($AE15="","",$AE15) | DN15: =IF($AI15="","",$AI15) | DO15: =IF($AM15="","",$AM15) | DP15: =IF($AQ15="","",$AQ15) | DQ15: =IF($AU15="","",$AU15) | DR15: =IF($AY15="","",$AY15) | DS15: =IF($BC15="","",$BC15) | DT15: =IF($H15>=$J15,$I15,$K15) -> 6.6 | DU15: =IF($L15>=$N15,$M15,$O15) -> 5.1 | DV15: =IF($P15>=$R15,$Q15,$S15) -> 4.7 | DW15: =IF($T15>=$V15,$U15,$W15) -> 7 | DX15: =IF($X15>=$Z15,$Y15,$AA15) -> 3.2 | DY15: =IF($AB15>=$AD15,$AC15,$AE15) | DZ15: =IF($AF15>=$AH15,$AG15,$AI15) | EA15: =IF($AJ15>=$AL15,$AK15,$AM15) | EB15: =IF($AN15>=$AP15,$AO15,$AQ15) | EC15: =IF($AR15>=$AT15,$AS15,$AU15) -> 7.2 | ED15: =IF($AV15>=$AX15,$AW15,$AY15) -> 3.5 | EE15: =IF($AZ15>=$BB15,$BA15,$BC15) -> 7 | EF15: =IF(COUNT($DH15:$DS15)=0,"",ROUND(SUMPRODUCT($DT15:$EE15,$DT$7:$EE$7)/(SUM($DT$7:$EE$7)-SUMIF($DT15:$EE15,"",$DT$7:$EE$7)),2)) | EG15: =IF($DT15<4,"",$DT15) -> 6.6 | EH15: =IF($DU15<4,"",$DU15) -> 5.1 | EI15: =IF($DV15<4,"",$DV15) -> 4.7 | EJ15: =IF($DW15<4,"",$DW15) -> 7 | EK15: =IF($DX15<4,"",$DX15) | EL15: =IF($DY15<4,"",$DY15) | EM15: =IF($DZ15<4,"",$DZ15) | EN15: =IF($EA15<4,"",$EA15) | EO15: =IF($EB15<4,"",$EB15) | EP15: =IF($EC15<4,"",$EC15) -> 7.2 | EQ15: =IF($ED15<4,"",$ED15) | ER15: =IF($EE15<4,"",$EE15) -> 7 | ES15: =IF($B15="","",IF(COUNT($EG15:$ER15)=0,0,ROUND(SUMPRODUCT($EG15:$ER15,$EG$7:$ER$7)/SUMIF($EG15:$ER15,">=4",$EG$7:$ER$7),2))) -> 6.29 | ET15: =IF($EF15="",$CT15,$EF15) -> 5.47
A16: =IF($B16="","",SUBTOTAL(3,$B$11:B16)) -> 6 | B16: 13D301Đ013 | C16: =IF($B16="","",VLOOKUP($B16,'DS LOP HKI'!$B$2:$D$951,2,0)) -> Nguyễn Chí | D16: =IF($B16="","",VLOOKUP($B16,'DS LOP HKI'!$B$2:$D$951,3,0)) -> Bình | G16: 2 | H16: =IF(OR($H$6="",$H$7=""),"",IF($B16="","",IF(ISNA(VLOOKUP($B16,'LT01'!$B$11:$M$80,12,FALSE)),"",IF(VLOOKUP($B16,'LT01'!$B$11:$M$80,12,FALSE)="","",VLOOKUP($B16,'LT01'!$B$11:$M$80,12,FALSE))))) -> 7 | I16: =IF(OR($H$6="",$H$7=""),"",IF($B16="","",IF(ISNA(VLOOKUP($B16,'LT01'!$B$11:$N$80,13,FALSE)),"",VLOOKUP($B16,'LT01'!$B$11:$N$80,13,FALSE)))) -> 6.7 | K16: =IF(OR($H$6="",$H$7=""),"",IF($B16="","",IF(ISNA(VLOOKUP($B16,'LT01'!$B$11:$Q$80,16,FALSE)),"",IF(VLOOKUP($B16,'LT01'!$B$11:$Q$80,16,FALSE)="","",VLOOKUP($B16,'LT01'!$B$11:$Q$80,16,FALSE))))) | L16: =IF(OR($L$6="",$L$7=""),"",IF($B16="","",IF(ISNA(VLOOKUP($B16,'LT02'!$B$11:$M$80,12,FALSE)),"",IF(VLOOKUP($B16,'LT02'!$B$11:$M$80,12,FALSE)="","",VLOOKUP($B16,'LT02'!$B$11:$M$80,12,FALSE))))) -> 4.5 | M16: =IF(OR($L$6="",$L$7=""),"",IF($B16="","",IF(ISNA(VLOOKUP($B16,'LT02'!$B$11:$N$80,13,FALSE)),"",VLOOKUP($B16,'LT02'!$B$11:$N$80,13,FALSE)))) -> 4.6 | O16: =IF(OR($L$6="",$L$7=""),"",IF($B16="","",IF(ISNA(VLOOKUP($B16,'LT02'!$B$11:$Q$80,16,FALSE)),"",VLOOKUP($B16,'LT02'!$B$11:$Q$80,16,FALSE)))) | P16: =IF(OR($P$6="",$P$7=""),"",IF($B16="","",IF(ISNA(VLOOKUP($B16,'LT03'!$B$11:$M$80,12,FALSE)),"",IF(VLOOKUP($B16,'LT03'!$B$11:$M$80,12,FALSE)="","",VLOOKUP($B16,'LT03'!$B$11:$M$80,12,FALSE))))) -> 4 | Q16: =IF(OR($P$6="",$P$7=""),"",IF($B16="","",IF(ISNA(VLOOKUP($B16,'LT03'!$B$11:$N$80,13,FALSE)),"",VLOOKUP($B16,'LT03'!$B$11:$N$80,13,FALSE)))) -> 4.9 | S16: =IF(OR($P$6="",$P$7=""),"",IF($B16="","",IF(ISNA(VLOOKUP($B16,'LT03'!$B$11:$Q$80,16,FALSE)),"",VLOOKUP($B16,'LT03'!$B$11:$Q$80,16,FALSE)))) | T16: =IF(OR($T$6="",$T$7=""),"",IF($B16="","",IF(ISNA(VLOOKUP($B16,'LT04'!$B$11:$M$80,12,FALSE)),"",IF(VLOOKUP($B16,'LT04'!$B$11:$M$80,12,FALSE)="","",VLOOKUP($B16,'LT04'!$B$11:$M$80,12,FALSE))))) -> 5.5 | U16: =IF(OR($T$6="",$T$7=""),"",IF($B16="","",IF(ISNA(VLOOKUP($B16,'LT04'!$B$11:$N$80,13,FALSE)),"",VLOOKUP($B16,'LT04'!$B$11:$N$80,13,FALSE)))) -> 6.4 | W16: =IF(OR($T$6="",$T$7=""),"",IF($B16="","",IF(ISNA(VLOOKUP($B16,'LT04'!$B$11:$Q$80,16,FALSE)),"",VLOOKUP($B16,'LT04'!$B$11:$Q$80,16,FALSE)))) | X16: =IF(OR($X$6="",$X$7=""),"",IF($B16="","",IF(ISNA(VLOOKUP($B16,'LT05'!$B$11:$M$80,12,FALSE)),"",IF(VLOOKUP($B16,'LT05'!$B$11:$M$80,12,FALSE)="","",VLOOKUP($B16,'LT05'!$B$11:$M$80,12,FALSE))))) -> 1.3 | Y16: =IF(OR($X$6="",$X$7=""),"",IF($B16="","",IF(ISNA(VLOOKUP($B16,'LT05'!$B$11:$N$80,13,FALSE)),"",VLOOKUP($B16,'LT05'!$B$11:$N$80,13,FALSE)))) -> 2.5 | AA16: =IF(OR($X$6="",$X$7=""),"",IF($B16="","",IF(ISNA(VLOOKUP($B16,'LT05'!$B$11:$Q$80,16,FALSE)),"",VLOOKUP($B16,'LT05'!$B$11:$Q$80,16,FALSE)))) | AB16: =IF(OR($AB$6="",$AB$7=""),"",IF($B16="","",IF(ISNA(VLOOKUP($B16,'LT06'!$B$11:$M$80,12,FALSE)),"",IF(VLOOKUP($B16,'LT06'!$B$11:$M$80,12,FALSE)="","",VLOOKUP($B16,'LT06'!$B$11:$M$80,12,FALSE))))) | AC16: =IF(OR($AB$6="",$AB$7=""),"",IF($B16="","",IF(ISNA(VLOOKUP($B16,'LT06'!$B$11:$N$80,13,FALSE)),"",VLOOKUP($B16,'LT06'!$B$11:$N$80,13,FALSE)))) | AE16: =IF(OR($AB$6="",$AB$7=""),"",IF($B16="","",IF(ISNA(VLOOKUP($B16,'LT06'!$B$11:$Q$80,16,FALSE)),"",VLOOKUP($B16,'LT06'!$B$11:$Q$80,16,FALSE)))) | AF16: =IF(OR($AF$6="",$AF$7=""),"",IF($B16="","",IF(ISNA(VLOOKUP($B16,'LT07'!$B$11:$M$80,12,FALSE)),"",IF(VLOOKUP($B16,'LT07'!$B$11:$M$80,12,FALSE)="","",VLOOKUP($B16,'LT07'!$B$11:$M$80,12,FALSE))))) | AG16: =IF(OR($AF$6="",$AF$7=""),"",IF($B16="","",IF(ISNA(VLOOKUP($B16,'LT07'!$B$11:$N$80,13,FALSE)),"",VLOOKUP($B16,'LT07'!$B$11:$N$80,13,FALSE)))) | AI16: =IF(OR($AF$6="",$AF$7=""),"",IF($B16="","",IF(ISNA(VLOOKUP($B16,'LT07'!$B$11:$Q$80,16,FALSE)),"",VLOOKUP($B16,'LT07'!$B$11:$Q$80,16,FALSE)))) | AK16: =IF(OR($AJ$6="",$AJ$7=""),"",IF($B16="","",IF(ISNA(VLOOKUP($B16,'DO AN'!$B$11:$L$80,11,FALSE)),"",IF(VLOOKUP($B16,'DO AN'!$B$11:$L$80,11,FALSE)="","",VLOOKUP($B16,'DO AN'!$B$11:$L$80,11,FALSE))))) | AO16: =IF(OR($AN$6="",$AN$7=""),"",IF($B16="","",IF(ISNA(VLOOKUP($B16,'DO AN 2'!$B$11:$L$80,11,FALSE)),"",IF(VLOOKUP($B16,'DO AN 2'!$B$11:$L$80,11,FALSE)="","",VLOOKUP($B16,'DO AN 2'!$B$11:$L$80,11,FALSE))))) | AS16: =IF(OR($AR$6="",$AR$7=""),"",IF($B16="","",IF(ISNA(VLOOKUP($B16,'TH01'!$B$11:$O$80,14,FALSE)),"",VLOOKUP($B16,'TH01'!$B$11:$O$80,14,FALSE)))) -> 5.4 | AW16: =IF(OR($AV$6="",$AV$7=""),"",IF($B16="","",IF(ISNA(VLOOKUP($B16,'TH02'!$B$11:$O$80,14,FALSE)),"",VLOOKUP($B16,'TH02'!$B$11:$O$80,14,FALSE)))) -> 5 | BA16: =IF(OR($AZ$6="",$AZ$7=""),"",IF($B16="","",IF(ISNA(VLOOKUP($B16,'TH03'!$B$11:$O$80,14,FALSE)),"",VLOOKUP($B16,'TH03'!$B$11:$O$80,14,FALSE)))) -> 7 | BD16: =$CT16 -> 5.23 | BE16: =$EF16 | BF16: 58 | BG16: =IF($BD16="","",IF($B16="","",IF($BD16<4,"Kém",IF($BD16<5.5,"TB Yếu",IF($BD16<7,"T.Bình",IF($BD16<8,"Khá",IF($BD16<9,"Giỏi","SX"))))))) -> TB Yếu | BH16: =IF($BE16="","",IF($B16="","",IF($BE16<4,"Kém",IF($BE16<5.5,"TB Yếu",IF($BE16<7,"T.Bình",IF($BE16<8,"Khá",IF($BE16<9,"Giỏi","SX"))))))) | BJ16: =IF($BD16>=4,"",IF(AND($BD16<4,$BE16="",COUNT($DH16:$DS16)=0),"Cảnh Báo",IF($BE16<4,"Cảnh Báo",""))) | BK16: =IF($B16="","",IF(COUNT($CH16:$CS16)=0,"",SUMIF($CH16:$CS16,">=4",$CH$7:$CS$7))) -> 15 | BL16: =IF($B16="","",IF(COUNT($CH16:$CS16=0),"",SUMIF($CH16:$CS16,"<4",$CH$7:$CS$7))) -> 3 | BM16: =IF(AND($BE16="",$B16=""),"",SUMIF($DT16:$EE16,">=4",$DT$7:$EE$7)) -> 15 | BN16: =IF(AND($BE16="",$B16=""),"",SUMIF($DT16:$EE16,"<4",$DT$7:$EE$7)) -> 3 | BO16: =IF($DG16="","",$DG16) -> 5.78 | BP16: =IF($B16="","",IF($BO16>=5.5,"BT","Yếu")) -> BT | BQ16: =IF($ES16="","",$ES16) -> 5.78 | BR16: =IF($B16="","",IF($BQ16>=5.5,"BT","Yếu")) -> BT | BT16: =IF(COUNT($BU16:$CF16)=0,"",COUNTIF($BU16:$CF16,"<5")) -> 3 | BU16: =$H16 -> 7 | BV16: =$L16 -> 4.5 | BW16: =$P16 -> 4 | BX16: =$T16 -> 5.5 | BY16: =$X16 -> 1.3 | BZ16: =$AB16 | CA16: =$AF16 | CB16: =$AK16 | CC16: =$AO16 | CD16: =$AS16 -> 5.4 | CE16: =$AW16 -> 5 | CF16: =$BA16 -> 7 | CG16: =IF(COUNT($CH16:$CS16)=0,"",COUNTIF($CH16:$CS16,"<4")) -> 1 | CH16: =$I16 -> 6.7 | CI16: =$M16 -> 4.6 | CJ16: =$Q16 -> 4.9 | CK16: =$U16 -> 6.4 | CL16: =$Y16 -> 2.5 | CM16: =$AC16 | CN16: =$AG16 | CO16: =$AK16 | CP16: =$AO16 | CQ16: =$AS16 -> 5.4 | CR16: =$AW16 -> 5 | CS16: =$BA16 -> 7 | CT16: =IF(COUNT($CH16:$CS16)=0,"",ROUND(SUMPRODUCT($CH16:$CS16,$CH$7:$CS$7)/(SUM($CH$7:$CS$7)-SUMIF($CH16:$CS16,"",$CH$7:$CS$7)),2)) -> 5.23 | CU16: =IF($CH16<4,"",$CH16) -> 6.7 | CV16: =IF($CI16<4,"",$CI16) -> 4.6 | CW16: =IF($CJ16<4,"",$CJ16) -> 4.9 | CX16: =IF($CK16<4,"",$CK16) -> 6.4 | CY16: =IF($CL16<4,"",$CL16) | CZ16: =IF($CM16<4,"",$CM16) | DA16: =IF($CN16<4,"",$CN16) | DB16: =IF($CO16<4,"",$CO16) | DC16: =IF($CP16<4,"",$CP16) | DD16: =IF($CQ16<4,"",$CQ16) -> 5.4 | DE16: =IF($CR16<4,"",$CR16) -> 5 | DF16: =IF($CS16<4,"",$CS16) -> 7 | DG16: =IF($B16="","",IF(COUNT($CU16:$DF16)=0,0,ROUND(SUMPRODUCT($CU16:$DF16,$CU$7:$DF$7)/SUMIF($CU16:$DF16,">=4",$CU$7:$DF$7),2))) -> 5.78 | DH16: =IF($K16="","",$K16) | DI16: =IF($O16="","",$O16) | DJ16: =IF($S16="","",$S16) | DK16: =IF($W16="","",$W16) | DL16: =IF($AA16="","",$AA16) | DM16: =IF($AE16="","",$AE16) | DN16: =IF($AI16="","",$AI16) | DO16: =IF($AM16="","",$AM16) | DP16: =IF($AQ16="","",$AQ16) | DQ16: =IF($AU16="","",$AU16) | DR16: =IF($AY16="","",$AY16) | DS16: =IF($BC16="","",$BC16) | DT16: =IF($H16>=$J16,$I16,$K16) -> 6.7 | DU16: =IF($L16>=$N16,$M16,$O16) -> 4.6 | DV16: =IF($P16>=$R16,$Q16,$S16) -> 4.9 | DW16: =IF($T16>=$V16,$U16,$W16) -> 6.4 | DX16: =IF($X16>=$Z16,$Y16,$AA16) -> 2.5 | DY16: =IF($AB16>=$AD16,$AC16,$AE16) | DZ16: =IF($AF16>=$AH16,$AG16,$AI16) | EA16: =IF($AJ16>=$AL16,$AK16,$AM16) | EB16: =IF($AN16>=$AP16,$AO16,$AQ16) | EC16: =IF($AR16>=$AT16,$AS16,$AU16) -> 5.4 | ED16: =IF($AV16>=$AX16,$AW16,$AY16) -> 5 | EE16: =IF($AZ16>=$BB16,$BA16,$BC16) -> 7 | EF16: =IF(COUNT($DH16:$DS16)=0,"",ROUND(SUMPRODUCT($DT16:$EE16,$DT$7:$EE$7)/(SUM($DT$7:$EE$7)-SUMIF($DT16:$EE16,"",$DT$7:$EE$7)),2)) | EG16: =IF($DT16<4,"",$DT16) -> 6.7 | EH16: =IF($DU16<4,"",$DU16) -> 4.6 | EI16: =IF($DV16<4,"",$DV16) -> 4.9 | EJ16: =IF($DW16<4,"",$DW16) -> 6.4 | EK16: =IF($DX16<4,"",$DX16) | EL16: =IF($DY16<4,"",$DY16) | EM16: =IF($DZ16<4,"",$DZ16) | EN16: =IF($EA16<4,"",$EA16) | EO16: =IF($EB16<4,"",$EB16) | EP16: =IF($EC16<4,"",$EC16) -> 5.4 | EQ16: =IF($ED16<4,"",$ED16) -> 5 | ER16: =IF($EE16<4,"",$EE16) -> 7 | ES16: =IF($B16="","",IF(COUNT($EG16:$ER16)=0,0,ROUND(SUMPRODUCT($EG16:$ER16,$EG$7:$ER$7)/SUMIF($EG16:$ER16,">=4",$EG$7:$ER$7),2))) -> 5.78 | ET16: =IF($EF16="",$CT16,$EF16) -> 5.23
A17: =IF($B17="","",SUBTOTAL(3,$B$11:B17)) -> 7 | B17: 13D301Đ016 | C17: =IF($B17="","",VLOOKUP($B17,'DS LOP HKI'!$B$2:$D$951,2,0)) -> Vũ Văn | D17: =IF($B17="","",VLOOKUP($B17,'DS LOP HKI'!$B$2:$D$951,3,0)) -> Chiến | H17: =IF(OR($H$6="",$H$7=""),"",IF($B17="","",IF(ISNA(VLOOKUP($B17,'LT01'!$B$11:$M$80,12,FALSE)),"",IF(VLOOKUP($B17,'LT01'!$B$11:$M$80,12,FALSE)="","",VLOOKUP($B17,'LT01'!$B$11:$M$80,12,FALSE))))) -> 7.3 | I17: =IF(OR($H$6="",$H$7=""),"",IF($B17="","",IF(ISNA(VLOOKUP($B17,'LT01'!$B$11:$N$80,13,FALSE)),"",VLOOKUP($B17,'LT01'!$B$11:$N$80,13,FALSE)))) -> 6.6 | K17: =IF(OR($H$6="",$H$7=""),"",IF($B17="","",IF(ISNA(VLOOKUP($B17,'LT01'!$B$11:$Q$80,16,FALSE)),"",IF(VLOOKUP($B17,'LT01'!$B$11:$Q$80,16,FALSE)="","",VLOOKUP($B17,'LT01'!$B$11:$Q$80,16,FALSE))))) | L17: =IF(OR($L$6="",$L$7=""),"",IF($B17="","",IF(ISNA(VLOOKUP($B17,'LT02'!$B$11:$M$80,12,FALSE)),"",IF(VLOOKUP($B17,'LT02'!$B$11:$M$80,12,FALSE)="","",VLOOKUP($B17,'LT02'!$B$11:$M$80,12,FALSE))))) -> 5.3 | M17: =IF(OR($L$6="",$L$7=""),"",IF($B17="","",IF(ISNA(VLOOKUP($B17,'LT02'!$B$11:$N$80,13,FALSE)),"",VLOOKUP($B17,'LT02'!$B$11:$N$80,13,FALSE)))) -> 5.9 | O17: =IF(OR($L$6="",$L$7=""),"",IF($B17="","",IF(ISNA(VLOOKUP($B17,'LT02'!$B$11:$Q$80,16,FALSE)),"",VLOOKUP($B17,'LT02'!$B$11:$Q$80,16,FALSE)))) | P17: =IF(OR($P$6="",$P$7=""),"",IF($B17="","",IF(ISNA(VLOOKUP($B17,'LT03'!$B$11:$M$80,12,FALSE)),"",IF(VLOOKUP($B17,'LT03'!$B$11:$M$80,12,FALSE)="","",VLOOKUP($B17,'LT03'!$B$11:$M$80,12,FALSE))))) -> 5.5 | Q17: =IF(OR($P$6="",$P$7=""),"",IF($B17="","",IF(ISNA(VLOOKUP($B17,'LT03'!$B$11:$N$80,13,FALSE)),"",VLOOKUP($B17,'LT03'!$B$11:$N$80,13,FALSE)))) -> 5.5 | S17: =IF(OR($P$6="",$P$7=""),"",IF($B17="","",IF(ISNA(VLOOKUP($B17,'LT03'!$B$11:$Q$80,16,FALSE)),"",VLOOKUP($B17,'LT03'!$B$11:$Q$80,16,FALSE)))) | T17: =IF(OR($T$6="",$T$7=""),"",IF($B17="","",IF(ISNA(VLOOKUP($B17,'LT04'!$B$11:$M$80,12,FALSE)),"",IF(VLOOKUP($B17,'LT04'!$B$11:$M$80,12,FALSE)="","",VLOOKUP($B17,'LT04'!$B$11:$M$80,12,FALSE))))) -> 5.5 | U17: =IF(OR($T$6="",$T$7=""),"",IF($B17="","",IF(ISNA(VLOOKUP($B17,'LT04'!$B$11:$N$80,13,FALSE)),"",VLOOKUP($B17,'LT04'!$B$11:$N$80,13,FALSE)))) -> 6.3 | W17: =IF(OR($T$6="",$T$7=""),"",IF($B17="","",IF(ISNA(VLOOKUP($B17,'LT04'!$B$11:$Q$80,16,FALSE)),"",VLOOKUP($B17,'LT04'!$B$11:$Q$80,16,FALSE)))) | X17: =IF(OR($X$6="",$X$7=""),"",IF($B17="","",IF(ISNA(VLOOKUP($B17,'LT05'!$B$11:$M$80,12,FALSE)),"",IF(VLOOKUP($B17,'LT05'!$B$11:$M$80,12,FALSE)="","",VLOOKUP($B17,'LT05'!$B$11:$M$80,12,FALSE))))) -> 2.3 | Y17: =IF(OR($X$6="",$X$7=""),"",IF($B17="","",IF(ISNA(VLOOKUP($B17,'LT05'!$B$11:$N$80,13,FALSE)),"",VLOOKUP($B17,'LT05'!$B$11:$N$80,13,FALSE)))) -> 3.1 | AA17: =IF(OR($X$6="",$X$7=""),"",IF($B17="","",IF(ISNA(VLOOKUP($B17,'LT05'!$B$11:$Q$80,16,FALSE)),"",VLOOKUP($B17,'LT05'!$B$11:$Q$80,16,FALSE)))) | AB17: =IF(OR($AB$6="",$AB$7=""),"",IF($B17="","",IF(ISNA(VLOOKUP($B17,'LT06'!$B$11:$M$80,12,FALSE)),"",IF(VLOOKUP($B17,'LT06'!$B$11:$M$80,12,FALSE)="","",VLOOKUP($B17,'LT06'!$B$11:$M$80,12,FALSE))))) | AC17: =IF(OR($AB$6="",$AB$7=""),"",IF($B17="","",IF(ISNA(VLOOKUP($B17,'LT06'!$B$11:$N$80,13,FALSE)),"",VLOOKUP($B17,'LT06'!$B$11:$N$80,13,FALSE)))) | AE17: =IF(OR($AB$6="",$AB$7=""),"",IF($B17="","",IF(ISNA(VLOOKUP($B17,'LT06'!$B$11:$Q$80,16,FALSE)),"",VLOOKUP($B17,'LT06'!$B$11:$Q$80,16,FALSE)))) | AF17: =IF(OR($AF$6="",$AF$7=""),"",IF($B17="","",IF(ISNA(VLOOKUP($B17,'LT07'!$B$11:$M$80,12,FALSE)),"",IF(VLOOKUP($B17,'LT07'!$B$11:$M$80,12,FALSE)="","",VLOOKUP($B17,'LT07'!$B$11:$M$80,12,FALSE))))) | AG17: =IF(OR($AF$6="",$AF$7=""),"",IF($B17="","",IF(ISNA(VLOOKUP($B17,'LT07'!$B$11:$N$80,13,FALSE)),"",VLOOKUP($B17,'LT07'!$B$11:$N$80,13,FALSE)))) | AI17: =IF(OR($AF$6="",$AF$7=""),"",IF($B17="","",IF(ISNA(VLOOKUP($B17,'LT07'!$B$11:$Q$80,16,FALSE)),"",VLOOKUP($B17,'LT07'!$B$11:$Q$80,16,FALSE)))) | AK17: =IF(OR($AJ$6="",$AJ$7=""),"",IF($B17="","",IF(ISNA(VLOOKUP($B17,'DO AN'!$B$11:$L$80,11,FALSE)),"",IF(VLOOKUP($B17,'DO AN'!$B$11:$L$80,11,FALSE)="","",VLOOKUP($B17,'DO AN'!$B$11:$L$80,11,FALSE))))) | AO17: =IF(OR($AN$6="",$AN$7=""),"",IF($B17="","",IF(ISNA(VLOOKUP($B17,'DO AN 2'!$B$11:$L$80,11,FALSE)),"",IF(VLOOKUP($B17,'DO AN 2'!$B$11:$L$80,11,FALSE)="","",VLOOKUP($B17,'DO AN 2'!$B$11:$L$80,11,FALSE))))) | AS17: =IF(OR($AR$6="",$AR$7=""),"",IF($B17="","",IF(ISNA(VLOOKUP($B17,'TH01'!$B$11:$O$80,14,FALSE)),"",VLOOKUP($B17,'TH01'!$B$11:$O$80,14,FALSE)))) -> 6.6 | AW17: =IF(OR($AV$6="",$AV$7=""),"",IF($B17="","",IF(ISNA(VLOOKUP($B17,'TH02'!$B$11:$O$80,14,FALSE)),"",VLOOKUP($B17,'TH02'!$B$11:$O$80,14,FALSE)))) -> 4.5 | BA17: =IF(OR($AZ$6="",$AZ$7=""),"",IF($B17="","",IF(ISNA(VLOOKUP($B17,'TH03'!$B$11:$O$80,14,FALSE)),"",VLOOKUP($B17,'TH03'!$B$11:$O$80,14,FALSE)))) -> 6.8 | BD17: =$CT17 -> 5.57 | BE17: =$EF17 | BF17: 60 | BG17: =IF($BD17="","",IF($B17="","",IF($BD17<4,"Kém",IF($BD17<5.5,"TB Yếu",IF($BD17<7,"T.Bình",IF($BD17<8,"Khá",IF($BD17<9,"Giỏi","SX"))))))) -> T.Bình | BH17: =IF($BE17="","",IF($B17="","",IF($BE17<4,"Kém",IF($BE17<5.5,"TB Yếu",IF($BE17<7,"T.Bình",IF($BE17<8,"Khá",IF($BE17<9,"Giỏi","SX"))))))) | BJ17: =IF($BD17>=4,"",IF(AND($BD17<4,$BE17="",COUNT($DH17:$DS17)=0),"Cảnh Báo",IF($BE17<4,"Cảnh Báo",""))) | BK17: =IF($B17="","",IF(COUNT($CH17:$CS17)=0,"",SUMIF($CH17:$CS17,">=4",$CH$7:$CS$7))) -> 15 | BL17: =IF($B17="","",IF(COUNT($CH17:$CS17=0),"",SUMIF($CH17:$CS17,"<4",$CH$7:$CS$7))) -> 3 | BM17: =IF(AND($BE17="",$B17=""),"",SUMIF($DT17:$EE17,">=4",$DT$7:$EE$7)) -> 15 | BN17: =IF(AND($BE17="",$B17=""),"",SUMIF($DT17:$EE17,"<4",$DT$7:$EE$7)) -> 3 | BO17: =IF($DG17="","",$DG17) -> 6.07 | BP17: =IF($B17="","",IF($BO17>=5.5,"BT","Yếu")) -> BT | BQ17: =IF($ES17="","",$ES17) -> 6.07 | BR17: =IF($B17="","",IF($BQ17>=5.5,"BT","Yếu")) -> BT | BT17: =IF(COUNT($BU17:$CF17)=0,"",COUNTIF($BU17:$CF17,"<5")) -> 2 | BU17: =$H17 -> 7.3 | BV17: =$L17 -> 5.3 | BW17: =$P17 -> 5.5 | BX17: =$T17 -> 5.5 | BY17: =$X17 -> 2.3 | BZ17: =$AB17 | CA17: =$AF17 | CB17: =$AK17 | CC17: =$AO17 | CD17: =$AS17 -> 6.6 | CE17: =$AW17 -> 4.5 | CF17: =$BA17 -> 6.8 | CG17: =IF(COUNT($CH17:$CS17)=0,"",COUNTIF($CH17:$CS17,"<4")) -> 1 | CH17: =$I17 -> 6.6 | CI17: =$M17 -> 5.9 | CJ17: =$Q17 -> 5.5 | CK17: =$U17 -> 6.3 | CL17: =$Y17 -> 3.1 | CM17: =$AC17 | CN17: =$AG17 | CO17: =$AK17 | CP17: =$AO17 | CQ17: =$AS17 -> 6.6 | CR17: =$AW17 -> 4.5 | CS17: =$BA17 -> 6.8 | CT17: =IF(COUNT($CH17:$CS17)=0,"",ROUND(SUMPRODUCT($CH17:$CS17,$CH$7:$CS$7)/(SUM($CH$7:$CS$7)-SUMIF($CH17:$CS17,"",$CH$7:$CS$7)),2)) -> 5.57 | CU17: =IF($CH17<4,"",$CH17) -> 6.6 | CV17: =IF($CI17<4,"",$CI17) -> 5.9 | CW17: =IF($CJ17<4,"",$CJ17) -> 5.5 | CX17: =IF($CK17<4,"",$CK17) -> 6.3 | CY17: =IF($CL17<4,"",$CL17) | CZ17: =IF($CM17<4,"",$CM17) | DA17: =IF($CN17<4,"",$CN17) | DB17: =IF($CO17<4,"",$CO17) | DC17: =IF($CP17<4,"",$CP17) | DD17: =IF($CQ17<4,"",$CQ17) -> 6.6 | DE17: =IF($CR17<4,"",$CR17) -> 4.5 | DF17: =IF($CS17<4,"",$CS17) -> 6.8 | DG17: =IF($B17="","",IF(COUNT($CU17:$DF17)=0,0,ROUND(SUMPRODUCT($CU17:$DF17,$CU$7:$DF$7)/SUMIF($CU17:$DF17,">=4",$CU$7:$DF$7),2))) -> 6.07 | DH17: =IF($K17="","",$K17) | DI17: =IF($O17="","",$O17) | DJ17: =IF($S17="","",$S17) | DK17: =IF($W17="","",$W17) | DL17: =IF($AA17="","",$AA17) | DM17: =IF($AE17="","",$AE17) | DN17: =IF($AI17="","",$AI17) | DO17: =IF($AM17="","",$AM17) | DP17: =IF($AQ17="","",$AQ17) | DQ17: =IF($AU17="","",$AU17) | DR17: =IF($AY17="","",$AY17) | DS17: =IF($BC17="","",$BC17) | DT17: =IF($H17>=$J17,$I17,$K17) -> 6.6 | DU17: =IF($L17>=$N17,$M17,$O17) -> 5.9 | DV17: =IF($P17>=$R17,$Q17,$S17) -> 5.5 | DW17: =IF($T17>=$V17,$U17,$W17) -> 6.3 | DX17: =IF($X17>=$Z17,$Y17,$AA17) -> 3.1 | DY17: =IF($AB17>=$AD17,$AC17,$AE17) | DZ17: =IF($AF17>=$AH17,$AG17,$AI17) | EA17: =IF($AJ17>=$AL17,$AK17,$AM17) | EB17: =IF($AN17>=$AP17,$AO17,$AQ17) | EC17: =IF($AR17>=$AT17,$AS17,$AU17) -> 6.6 | ED17: =IF($AV17>=$AX17,$AW17,$AY17) -> 4.5 | EE17: =IF($AZ17>=$BB17,$BA17,$BC17) -> 6.8 | EF17: =IF(COUNT($DH17:$DS17)=0,"",ROUND(SUMPRODUCT($DT17:$EE17,$DT$7:$EE$7)/(SUM($DT$7:$EE$7)-SUMIF($DT17:$EE17,"",$DT$7:$EE$7)),2)) | EG17: =IF($DT17<4,"",$DT17) -> 6.6 | EH17: =IF($DU17<4,"",$DU17) -> 5.9 | EI17: =IF($DV17<4,"",$DV17) -> 5.5 | EJ17: =IF($DW17<4,"",$DW17) -> 6.3 | EK17: =IF($DX17<4,"",$DX17) | EL17: =IF($DY17<4,"",$DY17) | EM17: =IF($DZ17<4,"",$DZ17) | EN17: =IF($EA17<4,"",$EA17) | EO17: =IF($EB17<4,"",$EB17) | EP17: =IF($EC17<4,"",$EC17) -> 6.6 | EQ17: =IF($ED17<4,"",$ED17) -> 4.5 | ER17: =IF($EE17<4,"",$EE17) -> 6.8 | ES17: =IF($B17="","",IF(COUNT($EG17:$ER17)=0,0,ROUND(SUMPRODUCT($EG17:$ER17,$EG$7:$ER$7)/SUMIF($EG17:$ER17,">=4",$EG$7:$ER$7),2))) -> 6.07 | ET17: =IF($EF17="",$CT17,$EF17) -> 5.57
A18: =IF($B18="","",SUBTOTAL(3,$B$11:B18)) -> 8 | B18: 13D301Đ017 | C18: =IF($B18="","",VLOOKUP($B18,'DS LOP HKI'!$B$2:$D$951,2,0)) -> Trần Văn | D18: =IF($B18="","",VLOOKUP($B18,'DS LOP HKI'!$B$2:$D$951,3,0)) -> Chinh | G18: 1 | H18: =IF(OR($H$6="",$H$7=""),"",IF($B18="","",IF(ISNA(VLOOKUP($B18,'LT01'!$B$11:$M$80,12,FALSE)),"",IF(VLOOKUP($B18,'LT01'!$B$11:$M$80,12,FALSE)="","",VLOOKUP($B18,'LT01'!$B$11:$M$80,12,FALSE))))) -> 5 | I18: =IF(OR($H$6="",$H$7=""),"",IF($B18="","",IF(ISNA(VLOOKUP($B18,'LT01'!$B$11:$N$80,13,FALSE)),"",VLOOKUP($B18,'LT01'!$B$11:$N$80,13,FALSE)))) -> 5.6 | K18: =IF(OR($H$6="",$H$7=""),"",IF($B18="","",IF(ISNA(VLOOKUP($B18,'LT01'!$B$11:$Q$80,16,FALSE)),"",IF(VLOOKUP($B18,'LT01'!$B$11:$Q$80,16,FALSE)="","",VLOOKUP($B18,'LT01'!$B$11:$Q$80,16,FALSE))))) | L18: =IF(OR($L$6="",$L$7=""),"",IF($B18="","",IF(ISNA(VLOOKUP($B18,'LT02'!$B$11:$M$80,12,FALSE)),"",IF(VLOOKUP($B18,'LT02'!$B$11:$M$80,12,FALSE)="","",VLOOKUP($B18,'LT02'!$B$11:$M$80,12,FALSE))))) -> 5 | M18: =IF(OR($L$6="",$L$7=""),"",IF($B18="","",IF(ISNA(VLOOKUP($B18,'LT02'!$B$11:$N$80,13,FALSE)),"",VLOOKUP($B18,'LT02'!$B$11:$N$80,13,FALSE)))) -> 5.1 | O18: =IF(OR($L$6="",$L$7=""),"",IF($B18="","",IF(ISNA(VLOOKUP($B18,'LT02'!$B$11:$Q$80,16,FALSE)),"",VLOOKUP($B18,'LT02'!$B$11:$Q$80,16,FALSE)))) | P18: =IF(OR($P$6="",$P$7=""),"",IF($B18="","",IF(ISNA(VLOOKUP($B18,'LT03'!$B$11:$M$80,12,FALSE)),"",IF(VLOOKUP($B18,'LT03'!$B$11:$M$80,12,FALSE)="","",VLOOKUP($B18,'LT03'!$B$11:$M$80,12,FALSE))))) -> 4 | Q18: =IF(OR($P$6="",$P$7=""),"",IF($B18="","",IF(ISNA(VLOOKUP($B18,'LT03'!$B$11:$N$80,13,FALSE)),"",VLOOKUP($B18,'LT03'!$B$11:$N$80,13,FALSE)))) -> 4.7 | S18: =IF(OR($P$6="",$P$7=""),"",IF($B18="","",IF(ISNA(VLOOKUP($B18,'LT03'!$B$11:$Q$80,16,FALSE)),"",VLOOKUP($B18,'LT03'!$B$11:$Q$80,16,FALSE)))) | T18: =IF(OR($T$6="",$T$7=""),"",IF($B18="","",IF(ISNA(VLOOKUP($B18,'LT04'!$B$11:$M$80,12,FALSE)),"",IF(VLOOKUP($B18,'LT04'!$B$11:$M$80,12,FALSE)="","",VLOOKUP($B18,'LT04'!$B$11:$M$80,12,FALSE))))) -> 6.3 | U18: =IF(OR($T$6="",$T$7=""),"",IF($B18="","",IF(ISNA(VLOOKUP($B18,'LT04'!$B$11:$N$80,13,FALSE)),"",VLOOKUP($B18,'LT04'!$B$11:$N$80,13,FALSE)))) -> 6.4 | W18: =IF(OR($T$6="",$T$7=""),"",IF($B18="","",IF(ISNA(VLOOKUP($B18,'LT04'!$B$11:$Q$80,16,FALSE)),"",VLOOKUP($B18,'LT04'!$B$11:$Q$80,16,FALSE)))) | X18: =IF(OR($X$6="",$X$7=""),"",IF($B18="","",IF(ISNA(VLOOKUP($B18,'LT05'!$B$11:$M$80,12,FALSE)),"",IF(VLOOKUP($B18,'LT05'!$B$11:$M$80,12,FALSE)="","",VLOOKUP($B18,'LT05'!$B$11:$M$80,12,FALSE))))) -> 3 | Y18: =IF(OR($X$6="",$X$7=""),"",IF($B18="","",IF(ISNA(VLOOKUP($B18,'LT05'!$B$11:$N$80,13,FALSE)),"",VLOOKUP($B18,'LT05'!$B$11:$N$80,13,FALSE)))) -> 4 | AA18: =IF(OR($X$6="",$X$7=""),"",IF($B18="","",IF(ISNA(VLOOKUP($B18,'LT05'!$B$11:$Q$80,16,FALSE)),"",VLOOKUP($B18,'LT05'!$B$11:$Q$80,16,FALSE)))) | AB18: =IF(OR($AB$6="",$AB$7=""),"",IF($B18="","",IF(ISNA(VLOOKUP($B18,'LT06'!$B$11:$M$80,12,FALSE)),"",IF(VLOOKUP($B18,'LT06'!$B$11:$M$80,12,FALSE)="","",VLOOKUP($B18,'LT06'!$B$11:$M$80,12,FALSE))))) | AC18: =IF(OR($AB$6="",$AB$7=""),"",IF($B18="","",IF(ISNA(VLOOKUP($B18,'LT06'!$B$11:$N$80,13,FALSE)),"",VLOOKUP($B18,'LT06'!$B$11:$N$80,13,FALSE)))) | AE18: =IF(OR($AB$6="",$AB$7=""),"",IF($B18="","",IF(ISNA(VLOOKUP($B18,'LT06'!$B$11:$Q$80,16,FALSE)),"",VLOOKUP($B18,'LT06'!$B$11:$Q$80,16,FALSE)))) | AF18: =IF(OR($AF$6="",$AF$7=""),"",IF($B18="","",IF(ISNA(VLOOKUP($B18,'LT07'!$B$11:$M$80,12,FALSE)),"",IF(VLOOKUP($B18,'LT07'!$B$11:$M$80,12,FALSE)="","",VLOOKUP($B18,'LT07'!$B$11:$M$80,12,FALSE))))) | AG18: =IF(OR($AF$6="",$AF$7=""),"",IF($B18="","",IF(ISNA(VLOOKUP($B18,'LT07'!$B$11:$N$80,13,FALSE)),"",VLOOKUP($B18,'LT07'!$B$11:$N$80,13,FALSE)))) | AI18: =IF(OR($AF$6="",$AF$7=""),"",IF($B18="","",IF(ISNA(VLOOKUP($B18,'LT07'!$B$11:$Q$80,16,FALSE)),"",VLOOKUP($B18,'LT07'!$B$11:$Q$80,16,FALSE)))) | AK18: =IF(OR($AJ$6="",$AJ$7=""),"",IF($B18="","",IF(ISNA(VLOOKUP($B18,'DO AN'!$B$11:$L$80,11,FALSE)),"",IF(VLOOKUP($B18,'DO AN'!$B$11:$L$80,11,FALSE)="","",VLOOKUP($B18,'DO AN'!$B$11:$L$80,11,FALSE))))) | AO18: =IF(OR($AN$6="",$AN$7=""),"",IF($B18="","",IF(ISNA(VLOOKUP($B18,'DO AN 2'!$B$11:$L$80,11,FALSE)),"",IF(VLOOKUP($B18,'DO AN 2'!$B$11:$L$80,11,FALSE)="","",VLOOKUP($B18,'DO AN 2'!$B$11:$L$80,11,FALSE))))) | AS18: =IF(OR($AR$6="",$AR$7=""),"",IF($B18="","",IF(ISNA(VLOOKUP($B18,'TH01'!$B$11:$O$80,14,FALSE)),"",VLOOKUP($B18,'TH01'!$B$11:$O$80,14,FALSE)))) -> 7.4 | AW18: =IF(OR($AV$6="",$AV$7=""),"",IF($B18="","",IF(ISNA(VLOOKUP($B18,'TH02'!$B$11:$O$80,14,FALSE)),"",VLOOKUP($B18,'TH02'!$B$11:$O$80,14,FALSE)))) -> 5.3 | BA18: =IF(OR($AZ$6="",$AZ$7=""),"",IF($B18="","",IF(ISNA(VLOOKUP($B18,'TH03'!$B$11:$O$80,14,FALSE)),"",VLOOKUP($B18,'TH03'!$B$11:$O$80,14,FALSE)))) -> 6.8 | BD18: =$CT18 -> 5.57 | BE18: =$EF18 | BF18: 59 | BG18: =IF($BD18="","",IF($B18="","",IF($BD18<4,"Kém",IF($BD18<5.5,"TB Yếu",IF($BD18<7,"T.Bình",IF($BD18<8,"Khá",IF($BD18<9,"Giỏi","SX"))))))) -> T.Bình | BH18: =IF($BE18="","",IF($B18="","",IF($BE18<4,"Kém",IF($BE18<5.5,"TB Yếu",IF($BE18<7,"T.Bình",IF($BE18<8,"Khá",IF($BE18<9,"Giỏi","SX"))))))) | BJ18: =IF($BD18>=4,"",IF(AND($BD18<4,$BE18="",COUNT($DH18:$DS18)=0),"Cảnh Báo",IF($BE18<4,"Cảnh Báo",""))) | BK18: =IF($B18="","",IF(COUNT($CH18:$CS18)=0,"",SUMIF($CH18:$CS18,">=4",$CH$7:$CS$7))) -> 18 | BL18: =IF($B18="","",IF(COUNT($CH18:$CS18=0),"",SUMIF($CH18:$CS18,"<4",$CH$7:$CS$7))) -> 0 | BM18: =IF(AND($BE18="",$B18=""),"",SUMIF($DT18:$EE18,">=4",$DT$7:$EE$7)) -> 18 | BN18: =IF(AND($BE18="",$B18=""),"",SUMIF($DT18:$EE18,"<4",$DT$7:$EE$7)) -> 0 | BO18: =IF($DG18="","",$DG18) -> 5.57 | BP18: =IF($B18="","",IF($BO18>=5.5,"BT","Yếu")) -> BT | BQ18: =IF($ES18="","",$ES18) -> 5.57 | BR18: =IF($B18="","",IF($BQ18>=5.5,"BT","Yếu")) -> BT | BT18: =IF(COUNT($BU18:$CF18)=0,"",COUNTIF($BU18:$CF18,"<5")) -> 2 | BU18: =$H18 -> 5 | BV18: =$L18 -> 5 | BW18: =$P18 -> 4 | BX18: =$T18 -> 6.3 | BY18: =$X18 -> 3 | BZ18: =$AB18 | CA18: =$AF18 | CB18: =$AK18 | CC18: =$AO18 | CD18: =$AS18 -> 7.4 | CE18: =$AW18 -> 5.3 | CF18: =$BA18 -> 6.8 | CG18: =IF(COUNT($CH18:$CS18)=0,"",COUNTIF($CH18:$CS18,"<4")) -> 0 | CH18: =$I18 -> 5.6 | CI18: =$M18 -> 5.1 | CJ18: =$Q18 -> 4.7 | CK18: =$U18 -> 6.4 | CL18: =$Y18 -> 4 | CM18: =$AC18 | CN18: =$AG18 | CO18: =$AK18 | CP18: =$AO18 | CQ18: =$AS18 -> 7.4 | CR18: =$AW18 -> 5.3 | CS18: =$BA18 -> 6.8 | CT18: =IF(COUNT($CH18:$CS18)=0,"",ROUND(SUMPRODUCT($CH18:$CS18,$CH$7:$CS$7)/(SUM($CH$7:$CS$7)-SUMIF($CH18:$CS18,"",$CH$7:$CS$7)),2)) -> 5.57 | CU18: =IF($CH18<4,"",$CH18) -> 5.6 | CV18: =IF($CI18<4,"",$CI18) -> 5.1 | CW18: =IF($CJ18<4,"",$CJ18) -> 4.7 | CX18: =IF($CK18<4,"",$CK18) -> 6.4 | CY18: =IF($CL18<4,"",$CL18) -> 4 | CZ18: =IF($CM18<4,"",$CM18) | DA18: =IF($CN18<4,"",$CN18) | DB18: =IF($CO18<4,"",$CO18) | DC18: =IF($CP18<4,"",$CP18) | DD18: =IF($CQ18<4,"",$CQ18) -> 7.4 | DE18: =IF($CR18<4,"",$CR18) -> 5.3 | DF18: =IF($CS18<4,"",$CS18) -> 6.8 | DG18: =IF($B18="","",IF(COUNT($CU18:$DF18)=0,0,ROUND(SUMPRODUCT($CU18:$DF18,$CU$7:$DF$7)/SUMIF($CU18:$DF18,">=4",$CU$7:$DF$7),2))) -> 5.57 | DH18: =IF($K18="","",$K18) | DI18: =IF($O18="","",$O18) | DJ18: =IF($S18="","",$S18) | DK18: =IF($W18="","",$W18) | DL18: =IF($AA18="","",$AA18) | DM18: =IF($AE18="","",$AE18) | DN18: =IF($AI18="","",$AI18) | DO18: =IF($AM18="","",$AM18) | DP18: =IF($AQ18="","",$AQ18) | DQ18: =IF($AU18="","",$AU18) | DR18: =IF($AY18="","",$AY18) | DS18: =IF($BC18="","",$BC18) | DT18: =IF($H18>=$J18,$I18,$K18) -> 5.6 | DU18: =IF($L18>=$N18,$M18,$O18) -> 5.1 | DV18: =IF($P18>=$R18,$Q18,$S18) -> 4.7 | DW18: =IF($T18>=$V18,$U18,$W18) -> 6.4 | DX18: =IF($X18>=$Z18,$Y18,$AA18) -> 4 | DY18: =IF($AB18>=$AD18,$AC18,$AE18) | DZ18: =IF($AF18>=$AH18,$AG18,$AI18) | EA18: =IF($AJ18>=$AL18,$AK18,$AM18) | EB18: =IF($AN18>=$AP18,$AO18,$AQ18) | EC18: =IF($AR18>=$AT18,$AS18,$AU18) -> 7.4 | ED18: =IF($AV18>=$AX18,$AW18,$AY18) -> 5.3 | EE18: =IF($AZ18>=$BB18,$BA18,$BC18) -> 6.8 | EF18: =IF(COUNT($DH18:$DS18)=0,"",ROUND(SUMPRODUCT($DT18:$EE18,$DT$7:$EE$7)/(SUM($DT$7:$EE$7)-SUMIF($DT18:$EE18,"",$DT$7:$EE$7)),2)) | EG18: =IF($DT18<4,"",$DT18) -> 5.6 | EH18: =IF($DU18<4,"",$DU18) -> 5.1 | EI18: =IF($DV18<4,"",$DV18) -> 4.7 | EJ18: =IF($DW18<4,"",$DW18) -> 6.4 | EK18: =IF($DX18<4,"",$DX18) -> 4 | EL18: =IF($DY18<4,"",$DY18) | EM18: =IF($DZ18<4,"",$DZ18) | EN18: =IF($EA18<4,"",$EA18) | EO18: =IF($EB18<4,"",$EB18) | EP18: =IF($EC18<4,"",$EC18) -> 7.4 | EQ18: =IF($ED18<4,"",$ED18) -> 5.3 | ER18: =IF($EE18<4,"",$EE18) -> 6.8 | ES18: =IF($B18="","",IF(COUNT($EG18:$ER18)=0,0,ROUND(SUMPRODUCT($EG18:$ER18,$EG$7:$ER$7)/SUMIF($EG18:$ER18,">=4",$EG$7:$ER$7),2))) -> 5.57 | ET18: =IF($EF18="",$CT18,$EF18) -> 5.57
A19: =IF($B19="","",SUBTOTAL(3,$B$11:B19)) -> 9 | B19: 13D301Đ193 | C19: =IF($B19="","",VLOOKUP($B19,'DS LOP HKI'!$B$2:$D$951,2,0)) -> Phạm Công | D19: =IF($B19="","",VLOOKUP($B19,'DS LOP HKI'!$B$2:$D$951,3,0)) -> Chính | G19: 3 | H19: =IF(OR($H$6="",$H$7=""),"",IF($B19="","",IF(ISNA(VLOOKUP($B19,'LT01'!$B$11:$M$80,12,FALSE)),"",IF(VLOOKUP($B19,'LT01'!$B$11:$M$80,12,FALSE)="","",VLOOKUP($B19,'LT01'!$B$11:$M$80,12,FALSE))))) -> 3.5 | I19: =IF(OR($H$6="",$H$7=""),"",IF($B19="","",IF(ISNA(VLOOKUP($B19,'LT01'!$B$11:$N$80,13,FALSE)),"",VLOOKUP($B19,'LT01'!$B$11:$N$80,13,FALSE)))) -> 5.3 | K19: =IF(OR($H$6="",$H$7=""),"",IF($B19="","",IF(ISNA(VLOOKUP($B19,'LT01'!$B$11:$Q$80,16,FALSE)),"",IF(VLOOKUP($B19,'LT01'!$B$11:$Q$80,16,FALSE)="","",VLOOKUP($B19,'LT01'!$B$11:$Q$80,16,FALSE))))) | L19: =IF(OR($L$6="",$L$7=""),"",IF($B19="","",IF(ISNA(VLOOKUP($B19,'LT02'!$B$11:$M$80,12,FALSE)),"",IF(VLOOKUP($B19,'LT02'!$B$11:$M$80,12,FALSE)="","",VLOOKUP($B19,'LT02'!$B$11:$M$80,12,FALSE))))) -> 4.8 | M19: =IF(OR($L$6="",$L$7=""),"",IF($B19="","",IF(ISNA(VLOOKUP($B19,'LT02'!$B$11:$N$80,13,FALSE)),"",VLOOKUP($B19,'LT02'!$B$11:$N$80,13,FALSE)))) -> 4.7 | O19: =IF(OR($L$6="",$L$7=""),"",IF($B19="","",IF(ISNA(VLOOKUP($B19,'LT02'!$B$11:$Q$80,16,FALSE)),"",VLOOKUP($B19,'LT02'!$B$11:$Q$80,16,FALSE)))) | P19: =IF(OR($P$6="",$P$7=""),"",IF($B19="","",IF(ISNA(VLOOKUP($B19,'LT03'!$B$11:$M$80,12,FALSE)),"",IF(VLOOKUP($B19,'LT03'!$B$11:$M$80,12,FALSE)="","",VLOOKUP($B19,'LT03'!$B$11:$M$80,12,FALSE))))) -> 2 | Q19: =IF(OR($P$6="",$P$7=""),"",IF($B19="","",IF(ISNA(VLOOKUP($B19,'LT03'!$B$11:$N$80,13,FALSE)),"",VLOOKUP($B19,'LT03'!$B$11:$N$80,13,FALSE)))) -> 3.8 | S19: =IF(OR($P$6="",$P$7=""),"",IF($B19="","",IF(ISNA(VLOOKUP($B19,'LT03'!$B$11:$Q$80,16,FALSE)),"",VLOOKUP($B19,'LT03'!$B$11:$Q$80,16,FALSE)))) | T19: =IF(OR($T$6="",$T$7=""),"",IF($B19="","",IF(ISNA(VLOOKUP($B19,'LT04'!$B$11:$M$80,12,FALSE)),"",IF(VLOOKUP($B19,'LT04'!$B$11:$M$80,12,FALSE)="","",VLOOKUP($B19,'LT04'!$B$11:$M$80,12,FALSE))))) -> 6.3 | U19: =IF(OR($T$6="",$T$7=""),"",IF($B19="","",IF(ISNA(VLOOKUP($B19,'LT04'!$B$11:$N$80,13,FALSE)),"",VLOOKUP($B19,'LT04'!$B$11:$N$80,13,FALSE)))) -> 6.4 | W19: =IF(OR($T$6="",$T$7=""),"",IF($B19="","",IF(ISNA(VLOOKUP($B19,'LT04'!$B$11:$Q$80,16,FALSE)),"",VLOOKUP($B19,'LT04'!$B$11:$Q$80,16,FALSE)))) | X19: =IF(OR($X$6="",$X$7=""),"",IF($B19="","",IF(ISNA(VLOOKUP($B19,'LT05'!$B$11:$M$80,12,FALSE)),"",IF(VLOOKUP($B19,'LT05'!$B$11:$M$80,12,FALSE)="","",VLOOKUP($B19,'LT05'!$B$11:$M$80,12,FALSE))))) -> 2.8 | Y19: =IF(OR($X$6="",$X$7=""),"",IF($B19="","",IF(ISNA(VLOOKUP($B19,'LT05'!$B$11:$N$80,13,FALSE)),"",VLOOKUP($B19,'LT05'!$B$11:$N$80,13,FALSE)))) -> 3.3 | AA19: =IF(OR($X$6="",$X$7=""),"",IF($B19="","",IF(ISNA(VLOOKUP($B19,'LT05'!$B$11:$Q$80,16,FALSE)),"",VLOOKUP($B19,'LT05'!$B$11:$Q$80,16,FALSE)))) | AB19: =IF(OR($AB$6="",$AB$7=""),"",IF($B19="","",IF(ISNA(VLOOKUP($B19,'LT06'!$B$11:$M$80,12,FALSE)),"",IF(VLOOKUP($B19,'LT06'!$B$11:$M$80,12,FALSE)="","",VLOOKUP($B19,'LT06'!$B$11:$M$80,12,FALSE))))) | AC19: =IF(OR($AB$6="",$AB$7=""),"",IF($B19="","",IF(ISNA(VLOOKUP($B19,'LT06'!$B$11:$N$80,13,FALSE)),"",VLOOKUP($B19,'LT06'!$B$11:$N$80,13,FALSE)))) | AE19: =IF(OR($AB$6="",$AB$7=""),"",IF($B19="","",IF(ISNA(VLOOKUP($B19,'LT06'!$B$11:$Q$80,16,FALSE)),"",VLOOKUP($B19,'LT06'!$B$11:$Q$80,16,FALSE)))) | AF19: =IF(OR($AF$6="",$AF$7=""),"",IF($B19="","",IF(ISNA(VLOOKUP($B19,'LT07'!$B$11:$M$80,12,FALSE)),"",IF(VLOOKUP($B19,'LT07'!$B$11:$M$80,12,FALSE)="","",VLOOKUP($B19,'LT07'!$B$11:$M$80,12,FALSE))))) | AG19: =IF(OR($AF$6="",$AF$7=""),"",IF($B19="","",IF(ISNA(VLOOKUP($B19,'LT07'!$B$11:$N$80,13,FALSE)),"",VLOOKUP($B19,'LT07'!$B$11:$N$80,13,FALSE)))) | AI19: =IF(OR($AF$6="",$AF$7=""),"",IF($B19="","",IF(ISNA(VLOOKUP($B19,'LT07'!$B$11:$Q$80,16,FALSE)),"",VLOOKUP($B19,'LT07'!$B$11:$Q$80,16,FALSE)))) | AK19: =IF(OR($AJ$6="",$AJ$7=""),"",IF($B19="","",IF(ISNA(VLOOKUP($B19,'DO AN'!$B$11:$L$80,11,FALSE)),"",IF(VLOOKUP($B19,'DO AN'!$B$11:$L$80,11,FALSE)="","",VLOOKUP($B19,'DO AN'!$B$11:$L$80,11,FALSE))))) | AO19: =IF(OR($AN$6="",$AN$7=""),"",IF($B19="","",IF(ISNA(VLOOKUP($B19,'DO AN 2'!$B$11:$L$80,11,FALSE)),"",IF(VLOOKUP($B19,'DO AN 2'!$B$11:$L$80,11,FALSE)="","",VLOOKUP($B19,'DO AN 2'!$B$11:$L$80,11,FALSE))))) | AS19: =IF(OR($AR$6="",$AR$7=""),"",IF($B19="","",IF(ISNA(VLOOKUP($B19,'TH01'!$B$11:$O$80,14,FALSE)),"",VLOOKUP($B19,'TH01'!$B$11:$O$80,14,FALSE)))) -> 5.2 | AW19: =IF(OR($AV$6="",$AV$7=""),"",IF($B19="","",IF(ISNA(VLOOKUP($B19,'TH02'!$B$11:$O$80,14,FALSE)),"",VLOOKUP($B19,'TH02'!$B$11:$O$80,14,FALSE)))) -> 1.5 | BA19: =IF(OR($AZ$6="",$AZ$7=""),"",IF($B19="","",IF(ISNA(VLOOKUP($B19,'TH03'!$B$11:$O$80,14,FALSE)),"",VLOOKUP($B19,'TH03'!$B$11:$O$80,14,FALSE)))) -> 6.5 | BD19: =$CT19 -> 4.56 | BE19: =$EF19 | BF19: 55 | BG19: =IF($BD19="","",IF($B19="","",IF($BD19<4,"Kém",IF($BD19<5.5,"TB Yếu",IF($BD19<7,"T.Bình",IF($BD19<8,"Khá",IF($BD19<9,"Giỏi","SX"))))))) -> TB Yếu | BH19: =IF($BE19="","",IF($B19="","",IF($BE19<4,"Kém",IF($BE19<5.5,"TB Yếu",IF($BE19<7,"T.Bình",IF($BE19<8,"Khá",IF($BE19<9,"Giỏi","SX"))))))) | BJ19: =IF($BD19>=4,"",IF(AND($BD19<4,$BE19="",COUNT($DH19:$DS19)=0),"Cảnh Báo",IF($BE19<4,"Cảnh Báo",""))) | BK19: =IF($B19="","",IF(COUNT($CH19:$CS19)=0,"",SUMIF($CH19:$CS19,">=4",$CH$7:$CS$7))) -> 11 | BL19: =IF($B19="","",IF(COUNT($CH19:$CS19=0),"",SUMIF($CH19:$CS19,"<4",$CH$7:$CS$7))) -> 7 | BM19: =IF(AND($BE19="",$B19=""),"",SUMIF($DT19:$EE19,">=4",$DT$7:$EE$7)) -> 11 | BN19: =IF(AND($BE19="",$B19=""),"",SUMIF($DT19:$EE19,"<4",$DT$7:$EE$7)) -> 7 | BO19: =IF($DG19="","",$DG19) -> 5.59 | BP19: =IF($B19="","",IF($BO19>=5.5,"BT","Yếu")) -> BT | BQ19: =IF($ES19="","",$ES19) -> 5.59 | BR19: =IF($B19="","",IF($BQ19>=5.5,"BT","Yếu")) -> BT | BT19: =IF(COUNT($BU19:$CF19)=0,"",COUNTIF($BU19:$CF19,"<5")) -> 5 | BU19: =$H19 -> 3.5 | BV19: =$L19 -> 4.8 | BW19: =$P19 -> 2 | BX19: =$T19 -> 6.3 | BY19: =$X19 -> 2.8 | BZ19: =$AB19 | CA19: =$AF19 | CB19: =$AK19 | CC19: =$AO19 | CD19: =$AS19 -> 5.2 | CE19: =$AW19 -> 1.5 | CF19: =$BA19 -> 6.5 | CG19: =IF(COUNT($CH19:$CS19)=0,"",COUNTIF($CH19:$CS19,"<4")) -> 3 | CH19: =$I19 -> 5.3 | CI19: =$M19 -> 4.7 | CJ19: =$Q19 -> 3.8 | CK19: =$U19 -> 6.4 | CL19: =$Y19 -> 3.3 | CM19: =$AC19 | CN19: =$AG19 | CO19: =$AK19 | CP19: =$AO19 | CQ19: =$AS19 -> 5.2 | CR19: =$AW19 -> 1.5 | CS19: =$BA19 -> 6.5 | CT19: =IF(COUNT($CH19:$CS19)=0,"",ROUND(SUMPRODUCT($CH19:$CS19,$CH$7:$CS$7)/(SUM($CH$7:$CS$7)-SUMIF($CH19:$CS19,"",$CH$7:$CS$7)),2)) -> 4.56 | CU19: =IF($CH19<4,"",$CH19) -> 5.3 | CV19: =IF($CI19<4,"",$CI19) -> 4.7 | CW19: =IF($CJ19<4,"",$CJ19) | CX19: =IF($CK19<4,"",$CK19) -> 6.4 | CY19: =IF($CL19<4,"",$CL19) | CZ19: =IF($CM19<4,"",$CM19) | DA19: =IF($CN19<4,"",$CN19) | DB19: =IF($CO19<4,"",$CO19) | DC19: =IF($CP19<4,"",$CP19) | DD19: =IF($CQ19<4,"",$CQ19) -> 5.2 | DE19: =IF($CR19<4,"",$CR19) | DF19: =IF($CS19<4,"",$CS19) -> 6.5 | DG19: =IF($B19="","",IF(COUNT($CU19:$DF19)=0,0,ROUND(SUMPRODUCT($CU19:$DF19,$CU$7:$DF$7)/SUMIF($CU19:$DF19,">=4",$CU$7:$DF$7),2))) -> 5.59 | DH19: =IF($K19="","",$K19) | DI19: =IF($O19="","",$O19) | DJ19: =IF($S19="","",$S19) | DK19: =IF($W19="","",$W19) | DL19: =IF($AA19="","",$AA19) | DM19: =IF($AE19="","",$AE19) | DN19: =IF($AI19="","",$AI19) | DO19: =IF($AM19="","",$AM19) | DP19: =IF($AQ19="","",$AQ19) | DQ19: =IF($AU19="","",$AU19) | DR19: =IF($AY19="","",$AY19) | DS19: =IF($BC19="","",$BC19) | DT19: =IF($H19>=$J19,$I19,$K19) -> 5.3 | DU19: =IF($L19>=$N19,$M19,$O19) -> 4.7 | DV19: =IF($P19>=$R19,$Q19,$S19) -> 3.8 | DW19: =IF($T19>=$V19,$U19,$W19) -> 6.4 | DX19: =IF($X19>=$Z19,$Y19,$AA19) -> 3.3 | DY19: =IF($AB19>=$AD19,$AC19,$AE19) | DZ19: =IF($AF19>=$AH19,$AG19,$AI19) | EA19: =IF($AJ19>=$AL19,$AK19,$AM19) | EB19: =IF($AN19>=$AP19,$AO19,$AQ19) | EC19: =IF($AR19>=$AT19,$AS19,$AU19) -> 5.2 | ED19: =IF($AV19>=$AX19,$AW19,$AY19) -> 1.5 | EE19: =IF($AZ19>=$BB19,$BA19,$BC19) -> 6.5 | EF19: =IF(COUNT($DH19:$DS19)=0,"",ROUND(SUMPRODUCT($DT19:$EE19,$DT$7:$EE$7)/(SUM($DT$7:$EE$7)-SUMIF($DT19:$EE19,"",$DT$7:$EE$7)),2)) | EG19: =IF($DT19<4,"",$DT19) -> 5.3 | EH19: =IF($DU19<4,"",$DU19) -> 4.7 | EI19: =IF($DV19<4,"",$DV19) | EJ19: =IF($DW19<4,"",$DW19) -> 6.4 | EK19: =IF($DX19<4,"",$DX19) | EL19: =IF($DY19<4,"",$DY19) | EM19: =IF($DZ19<4,"",$DZ19) | EN19: =IF($EA19<4,"",$EA19) | EO19: =IF($EB19<4,"",$EB19) | EP19: =IF($EC19<4,"",$EC19) -> 5.2 | EQ19: =IF($ED19<4,"",$ED19) | ER19: =IF($EE19<4,"",$EE19) -> 6.5 | ES19: =IF($B19="","",IF(COUNT($EG19:$ER19)=0,0,ROUND(SUMPRODUCT($EG19:$ER19,$EG$7:$ER$7)/SUMIF($EG19:$ER19,">=4",$EG$7:$ER$7),2))) -> 5.59 | ET19: =IF($EF19="",$CT19,$EF19) -> 4.56
A20: =IF($B20="","",SUBTOTAL(3,$B$11:B20)) -> 10 | B20: 13D301Đ020 | C20: =IF($B20="","",VLOOKUP($B20,'DS LOP HKI'!$B$2:$D$951,2,0)) -> Trịnh Lê | D20: =IF($B20="","",VLOOKUP($B20,'DS LOP HKI'!$B$2:$D$951,3,0)) -> Cung | G20: 1 | H20: =IF(OR($H$6="",$H$7=""),"",IF($B20="","",IF(ISNA(VLOOKUP($B20,'LT01'!$B$11:$M$80,12,FALSE)),"",IF(VLOOKUP($B20,'LT01'!$B$11:$M$80,12,FALSE)="","",VLOOKUP($B20,'LT01'!$B$11:$M$80,12,FALSE))))) -> 7.5 | I20: =IF(OR($H$6="",$H$7=""),"",IF($B20="","",IF(ISNA(VLOOKUP($B20,'LT01'!$B$11:$N$80,13,FALSE)),"",VLOOKUP($B20,'LT01'!$B$11:$N$80,13,FALSE)))) -> 7 | K20: =IF(OR($H$6="",$H$7=""),"",IF($B20="","",IF(ISNA(VLOOKUP($B20,'LT01'!$B$11:$Q$80,16,FALSE)),"",IF(VLOOKUP($B20,'LT01'!$B$11:$Q$80,16,FALSE)="","",VLOOKUP($B20,'LT01'!$B$11:$Q$80,16,FALSE))))) | L20: =IF(OR($L$6="",$L$7=""),"",IF($B20="","",IF(ISNA(VLOOKUP($B20,'LT02'!$B$11:$M$80,12,FALSE)),"",IF(VLOOKUP($B20,'LT02'!$B$11:$M$80,12,FALSE)="","",VLOOKUP($B20,'LT02'!$B$11:$M$80,12,FALSE))))) -> 7 | M20: =IF(OR($L$6="",$L$7=""),"",IF($B20="","",IF(ISNA(VLOOKUP($B20,'LT02'!$B$11:$N$80,13,FALSE)),"",VLOOKUP($B20,'LT02'!$B$11:$N$80,13,FALSE)))) -> 7 | O20: =IF(OR($L$6="",$L$7=""),"",IF($B20="","",IF(ISNA(VLOOKUP($B20,'LT02'!$B$11:$Q$80,16,FALSE)),"",VLOOKUP($B20,'LT02'!$B$11:$Q$80,16,FALSE)))) | P20: =IF(OR($P$6="",$P$7=""),"",IF($B20="","",IF(ISNA(VLOOKUP($B20,'LT03'!$B$11:$M$80,12,FALSE)),"",IF(VLOOKUP($B20,'LT03'!$B$11:$M$80,12,FALSE)="","",VLOOKUP($B20,'LT03'!$B$11:$M$80,12,FALSE))))) -> 4.8 | Q20: =IF(OR($P$6="",$P$7=""),"",IF($B20="","",IF(ISNA(VLOOKUP($B20,'LT03'!$B$11:$N$80,13,FALSE)),"",VLOOKUP($B20,'LT03'!$B$11:$N$80,13,FALSE)))) -> 5.8 | S20: =IF(OR($P$6="",$P$7=""),"",IF($B20="","",IF(ISNA(VLOOKUP($B20,'LT03'!$B$11:$Q$80,16,FALSE)),"",VLOOKUP($B20,'LT03'!$B$11:$Q$80,16,FALSE)))) | T20: =IF(OR($T$6="",$T$7=""),"",IF($B20="","",IF(ISNA(VLOOKUP($B20,'LT04'!$B$11:$M$80,12,FALSE)),"",IF(VLOOKUP($B20,'LT04'!$B$11:$M$80,12,FALSE)="","",VLOOKUP($B20,'LT04'!$B$11:$M$80,12,FALSE))))) -> 8.3 | U20: =IF(OR($T$6="",$T$7=""),"",IF($B20="","",IF(ISNA(VLOOKUP($B20,'LT04'!$B$11:$N$80,13,FALSE)),"",VLOOKUP($B20,'LT04'!$B$11:$N$80,13,FALSE)))) -> 8 | W20: =IF(OR($T$6="",$T$7=""),"",IF($B20="","",IF(ISNA(VLOOKUP($B20,'LT04'!$B$11:$Q$80,16,FALSE)),"",VLOOKUP($B20,'LT04'!$B$11:$Q$80,16,FALSE)))) | X20: =IF(OR($X$6="",$X$7=""),"",IF($B20="","",IF(ISNA(VLOOKUP($B20,'LT05'!$B$11:$M$80,12,FALSE)),"",IF(VLOOKUP($B20,'LT05'!$B$11:$M$80,12,FALSE)="","",VLOOKUP($B20,'LT05'!$B$11:$M$80,12,FALSE))))) -> 2.5 | Y20: =IF(OR($X$6="",$X$7=""),"",IF($B20="","",IF(ISNA(VLOOKUP($B20,'LT05'!$B$11:$N$80,13,FALSE)),"",VLOOKUP($B20,'LT05'!$B$11:$N$80,13,FALSE)))) -> 3.2 | AA20: =IF(OR($X$6="",$X$7=""),"",IF($B20="","",IF(ISNA(VLOOKUP($B20,'LT05'!$B$11:$Q$80,16,FALSE)),"",VLOOKUP($B20,'LT05'!$B$11:$Q$80,16,FALSE)))) | AB20: =IF(OR($AB$6="",$AB$7=""),"",IF($B20="","",IF(ISNA(VLOOKUP($B20,'LT06'!$B$11:$M$80,12,FALSE)),"",IF(VLOOKUP($B20,'LT06'!$B$11:$M$80,12,FALSE)="","",VLOOKUP($B20,'LT06'!$B$11:$M$80,12,FALSE))))) | AC20: =IF(OR($AB$6="",$AB$7=""),"",IF($B20="","",IF(ISNA(VLOOKUP($B20,'LT06'!$B$11:$N$80,13,FALSE)),"",VLOOKUP($B20,'LT06'!$B$11:$N$80,13,FALSE)))) | AE20: =IF(OR($AB$6="",$AB$7=""),"",IF($B20="","",IF(ISNA(VLOOKUP($B20,'LT06'!$B$11:$Q$80,16,FALSE)),"",VLOOKUP($B20,'LT06'!$B$11:$Q$80,16,FALSE)))) | AF20: =IF(OR($AF$6="",$AF$7=""),"",IF($B20="","",IF(ISNA(VLOOKUP($B20,'LT07'!$B$11:$M$80,12,FALSE)),"",IF(VLOOKUP($B20,'LT07'!$B$11:$M$80,12,FALSE)="","",VLOOKUP($B20,'LT07'!$B$11:$M$80,12,FALSE))))) | AG20: =IF(OR($AF$6="",$AF$7=""),"",IF($B20="","",IF(ISNA(VLOOKUP($B20,'LT07'!$B$11:$N$80,13,FALSE)),"",VLOOKUP($B20,'LT07'!$B$11:$N$80,13,FALSE)))) | AI20: =IF(OR($AF$6="",$AF$7=""),"",IF($B20="","",IF(ISNA(VLOOKUP($B20,'LT07'!$B$11:$Q$80,16,FALSE)),"",VLOOKUP($B20,'LT07'!$B$11:$Q$80,16,FALSE)))) | AK20: =IF(OR($AJ$6="",$AJ$7=""),"",IF($B20="","",IF(ISNA(VLOOKUP($B20,'DO AN'!$B$11:$L$80,11,FALSE)),"",IF(VLOOKUP($B20,'DO AN'!$B$11:$L$80,11,FALSE)="","",VLOOKUP($B20,'DO AN'!$B$11:$L$80,11,FALSE))))) | AO20: =IF(OR($AN$6="",$AN$7=""),"",IF($B20="","",IF(ISNA(VLOOKUP($B20,'DO AN 2'!$B$11:$L$80,11,FALSE)),"",IF(VLOOKUP($B20,'DO AN 2'!$B$11:$L$80,11,FALSE)="","",VLOOKUP($B20,'DO AN 2'!$B$11:$L$80,11,FALSE))))) | AS20: =IF(OR($AR$6="",$AR$7=""),"",IF($B20="","",IF(ISNA(VLOOKUP($B20,'TH01'!$B$11:$O$80,14,FALSE)),"",VLOOKUP($B20,'TH01'!$B$11:$O$80,14,FALSE)))) -> 7.2 | AW20: =IF(OR($AV$6="",$AV$7=""),"",IF($B20="","",IF(ISNA(VLOOKUP($B20,'TH02'!$B$11:$O$80,14,FALSE)),"",VLOOKUP($B20,'TH02'!$B$11:$O$80,14,FALSE)))) -> 6 | BA20: =IF(OR($AZ$6="",$AZ$7=""),"",IF($B20="","",IF(ISNA(VLOOKUP($B20,'TH03'!$B$11:$O$80,14,FALSE)),"",VLOOKUP($B20,'TH03'!$B$11:$O$80,14,FALSE)))) -> 7.3 | BD20: =$CT20 -> 6.29 | BE20: =$EF20 | BF20: 61 | BG20: =IF($BD20="","",IF($B20="","",IF($BD20<4,"Kém",IF($BD20<5.5,"TB Yếu",IF($BD20<7,"T.Bình",IF($BD20<8,"Khá",IF($BD20<9,"Giỏi","SX"))))))) -> T.Bình | BH20: =IF($BE20="","",IF($B20="","",IF($BE20<4,"Kém",IF($BE20<5.5,"TB Yếu",IF($BE20<7,"T.Bình",IF($BE20<8,"Khá",IF($BE20<9,"Giỏi","SX"))))))) | BJ20: =IF($BD20>=4,"",IF(AND($BD20<4,$BE20="",COUNT($DH20:$DS20)=0),"Cảnh Báo",IF($BE20<4,"Cảnh Báo",""))) | BK20: =IF($B20="","",IF(COUNT($CH20:$CS20)=0,"",SUMIF($CH20:$CS20,">=4",$CH$7:$CS$7))) -> 15 | BL20: =IF($B20="","",IF(COUNT($CH20:$CS20=0),"",SUMIF($CH20:$CS20,"<4",$CH$7:$CS$7))) -> 3 | BM20: =IF(AND($BE20="",$B20=""),"",SUMIF($DT20:$EE20,">=4",$DT$7:$EE$7)) -> 15 | BN20: =IF(AND($BE20="",$B20=""),"",SUMIF($DT20:$EE20,"<4",$DT$7:$EE$7)) -> 3 | BO20: =IF($DG20="","",$DG20) -> 6.91 | BP20: =IF($B20="","",IF($BO20>=5.5,"BT","Yếu")) -> BT | BQ20: =IF($ES20="","",$ES20) -> 6.91 | BR20: =IF($B20="","",IF($BQ20>=5.5,"BT","Yếu")) -> BT | BT20: =IF(COUNT($BU20:$CF20)=0,"",COUNTIF($BU20:$CF20,"<5")) -> 2 | BU20: =$H20 -> 7.5 | BV20: =$L20 -> 7 | BW20: =$P20 -> 4.8 | BX20: =$T20 -> 8.3 | BY20: =$X20 -> 2.5 | BZ20: =$AB20 | CA20: =$AF20 | CB20: =$AK20 | CC20: =$AO20 | CD20: =$AS20 -> 7.2 | CE20: =$AW20 -> 6 | CF20: =$BA20 -> 7.3 | CG20: =IF(COUNT($CH20:$CS20)=0,"",COUNTIF($CH20:$CS20,"<4")) -> 1 | CH20: =$I20 -> 7 | CI20: =$M20 -> 7 | CJ20: =$Q20 -> 5.8 | CK20: =$U20 -> 8 | CL20: =$Y20 -> 3.2 | CM20: =$AC20 | CN20: =$AG20 | CO20: =$AK20 | CP20: =$AO20 | CQ20: =$AS20 -> 7.2 | CR20: =$AW20 -> 6 | CS20: =$BA20 -> 7.3 | CT20: =IF(COUNT($CH20:$CS20)=0,"",ROUND(SUMPRODUCT($CH20:$CS20,$CH$7:$CS$7)/(SUM($CH$7:$CS$7)-SUMIF($CH20:$CS20,"",$CH$7:$CS$7)),2)) -> 6.29 | CU20: =IF($CH20<4,"",$CH20) -> 7 | CV20: =IF($CI20<4,"",$CI20) -> 7 | CW20: =IF($CJ20<4,"",$CJ20) -> 5.8 | CX20: =IF($CK20<4,"",$CK20) -> 8 | CY20: =IF($CL20<4,"",$CL20) | CZ20: =IF($CM20<4,"",$CM20) | DA20: =IF($CN20<4,"",$CN20) | DB20: =IF($CO20<4,"",$CO20) | DC20: =IF($CP20<4,"",$CP20) | DD20: =IF($CQ20<4,"",$CQ20) -> 7.2 | DE20: =IF($CR20<4,"",$CR20) -> 6 | DF20: =IF($CS20<4,"",$CS20) -> 7.3 | DG20: =IF($B20="","",IF(COUNT($CU20:$DF20)=0,0,ROUND(SUMPRODUCT($CU20:$DF20,$CU$7:$DF$7)/SUMIF($CU20:$DF20,">=4",$CU$7:$DF$7),2))) -> 6.91 | DH20: =IF($K20="","",$K20) | DI20: =IF($O20="","",$O20) | DJ20: =IF($S20="","",$S20) | DK20: =IF($W20="","",$W20) | DL20: =IF($AA20="","",$AA20) | DM20: =IF($AE20="","",$AE20) | DN20: =IF($AI20="","",$AI20) | DO20: =IF($AM20="","",$AM20) | DP20: =IF($AQ20="","",$AQ20) | DQ20: =IF($AU20="","",$AU20) | DR20: =IF($AY20="","",$AY20) | DS20: =IF($BC20="","",$BC20) | DT20: =IF($H20>=$J20,$I20,$K20) -> 7 | DU20: =IF($L20>=$N20,$M20,$O20) -> 7 | DV20: =IF($P20>=$R20,$Q20,$S20) -> 5.8 | DW20: =IF($T20>=$V20,$U20,$W20) -> 8 | DX20: =IF($X20>=$Z20,$Y20,$AA20) -> 3.2 | DY20: =IF($AB20>=$AD20,$AC20,$AE20) | DZ20: =IF($AF20>=$AH20,$AG20,$AI20) | EA20: =IF($AJ20>=$AL20,$AK20,$AM20) | EB20: =IF($AN20>=$AP20,$AO20,$AQ20) | EC20: =IF($AR20>=$AT20,$AS20,$AU20) -> 7.2 | ED20: =IF($AV20>=$AX20,$AW20,$AY20) -> 6 | EE20: =IF($AZ20>=$BB20,$BA20,$BC20) -> 7.3 | EF20: =IF(COUNT($DH20:$DS20)=0,"",ROUND(SUMPRODUCT($DT20:$EE20,$DT$7:$EE$7)/(SUM($DT$7:$EE$7)-SUMIF($DT20:$EE20,"",$DT$7:$EE$7)),2)) | EG20: =IF($DT20<4,"",$DT20) -> 7 | EH20: =IF($DU20<4,"",$DU20) -> 7 | EI20: =IF($DV20<4,"",$DV20) -> 5.8 | EJ20: =IF($DW20<4,"",$DW20) -> 8 | EK20: =IF($DX20<4,"",$DX20) | EL20: =IF($DY20<4,"",$DY20) | EM20: =IF($DZ20<4,"",$DZ20) | EN20: =IF($EA20<4,"",$EA20) | EO20: =IF($EB20<4,"",$EB20) | EP20: =IF($EC20<4,"",$EC20) -> 7.2 | EQ20: =IF($ED20<4,"",$ED20) -> 6 | ER20: =IF($EE20<4,"",$EE20) -> 7.3 | ES20: =IF($B20="","",IF(COUNT($EG20:$ER20)=0,0,ROUND(SUMPRODUCT($EG20:$ER20,$EG$7:$ER$7)/SUMIF($EG20:$ER20,">=4",$EG$7:$ER$7),2))) -> 6.91 | ET20: =IF($EF20="",$CT20,$EF20) -> 6.29
A21: =IF($B21="","",SUBTOTAL(3,$B$11:B21)) -> 11 | B21: 13D301Đ021 | C21: =IF($B21="","",VLOOKUP($B21,'DS LOP HKI'!$B$2:$D$951,2,0)) -> Nguyễn Chí | D21: =IF($B21="","",VLOOKUP($B21,'DS LOP HKI'!$B$2:$D$951,3,0)) -> Cường | H21: =IF(OR($H$6="",$H$7=""),"",IF($B21="","",IF(ISNA(VLOOKUP($B21,'LT01'!$B$11:$M$80,12,FALSE)),"",IF(VLOOKUP($B21,'LT01'!$B$11:$M$80,12,FALSE)="","",VLOOKUP($B21,'LT01'!$B$11:$M$80,12,FALSE))))) -> 7.5 | I21: =IF(OR($H$6="",$H$7=""),"",IF($B21="","",IF(ISNA(VLOOKUP($B21,'LT01'!$B$11:$N$80,13,FALSE)),"",VLOOKUP($B21,'LT01'!$B$11:$N$80,13,FALSE)))) -> 7.6 | K21: =IF(OR($H$6="",$H$7=""),"",IF($B21="","",IF(ISNA(VLOOKUP($B21,'LT01'!$B$11:$Q$80,16,FALSE)),"",IF(VLOOKUP($B21,'LT01'!$B$11:$Q$80,16,FALSE)="","",VLOOKUP($B21,'LT01'!$B$11:$Q$80,16,FALSE))))) | L21: =IF(OR($L$6="",$L$7=""),"",IF($B21="","",IF(ISNA(VLOOKUP($B21,'LT02'!$B$11:$M$80,12,FALSE)),"",IF(VLOOKUP($B21,'LT02'!$B$11:$M$80,12,FALSE)="","",VLOOKUP($B21,'LT02'!$B$11:$M$80,12,FALSE))))) -> 6 | M21: =IF(OR($L$6="",$L$7=""),"",IF($B21="","",IF(ISNA(VLOOKUP($B21,'LT02'!$B$11:$N$80,13,FALSE)),"",VLOOKUP($B21,'LT02'!$B$11:$N$80,13,FALSE)))) -> 5.6 | O21: =IF(OR($L$6="",$L$7=""),"",IF($B21="","",IF(ISNA(VLOOKUP($B21,'LT02'!$B$11:$Q$80,16,FALSE)),"",VLOOKUP($B21,'LT02'!$B$11:$Q$80,16,FALSE)))) | P21: =IF(OR($P$6="",$P$7=""),"",IF($B21="","",IF(ISNA(VLOOKUP($B21,'LT03'!$B$11:$M$80,12,FALSE)),"",IF(VLOOKUP($B21,'LT03'!$B$11:$M$80,12,FALSE)="","",VLOOKUP($B21,'LT03'!$B$11:$M$80,12,FALSE))))) -> 6.5 | Q21: =IF(OR($P$6="",$P$7=""),"",IF($B21="","",IF(ISNA(VLOOKUP($B21,'LT03'!$B$11:$N$80,13,FALSE)),"",VLOOKUP($B21,'LT03'!$B$11:$N$80,13,FALSE)))) -> 6 | S21: =IF(OR($P$6="",$P$7=""),"",IF($B21="","",IF(ISNA(VLOOKUP($B21,'LT03'!$B$11:$Q$80,16,FALSE)),"",VLOOKUP($B21,'LT03'!$B$11:$Q$80,16,FALSE)))) | T21: =IF(OR($T$6="",$T$7=""),"",IF($B21="","",IF(ISNA(VLOOKUP($B21,'LT04'!$B$11:$M$80,12,FALSE)),"",IF(VLOOKUP($B21,'LT04'!$B$11:$M$80,12,FALSE)="","",VLOOKUP($B21,'LT04'!$B$11:$M$80,12,FALSE))))) -> 7.5 | U21: =IF(OR($T$6="",$T$7=""),"",IF($B21="","",IF(ISNA(VLOOKUP($B21,'LT04'!$B$11:$N$80,13,FALSE)),"",VLOOKUP($B21,'LT04'!$B$11:$N$80,13,FALSE)))) -> 7.4 | W21: =IF(OR($T$6="",$T$7=""),"",IF($B21="","",IF(ISNA(VLOOKUP($B21,'LT04'!$B$11:$Q$80,16,FALSE)),"",VLOOKUP($B21,'LT04'!$B$11:$Q$80,16,FALSE)))) | X21: =IF(OR($X$6="",$X$7=""),"",IF($B21="","",IF(ISNA(VLOOKUP($B21,'LT05'!$B$11:$M$80,12,FALSE)),"",IF(VLOOKUP($B21,'LT05'!$B$11:$M$80,12,FALSE)="","",VLOOKUP($B21,'LT05'!$B$11:$M$80,12,FALSE))))) -> 3.3 | Y21: =IF(OR($X$6="",$X$7=""),"",IF($B21="","",IF(ISNA(VLOOKUP($B21,'LT05'!$B$11:$N$80,13,FALSE)),"",VLOOKUP($B21,'LT05'!$B$11:$N$80,13,FALSE)))) -> 4.2 | AA21: =IF(OR($X$6="",$X$7=""),"",IF($B21="","",IF(ISNA(VLOOKUP($B21,'LT05'!$B$11:$Q$80,16,FALSE)),"",VLOOKUP($B21,'LT05'!$B$11:$Q$80,16,FALSE)))) | AB21: =IF(OR($AB$6="",$AB$7=""),"",IF($B21="","",IF(ISNA(VLOOKUP($B21,'LT06'!$B$11:$M$80,12,FALSE)),"",IF(VLOOKUP($B21,'LT06'!$B$11:$M$80,12,FALSE)="","",VLOOKUP($B21,'LT06'!$B$11:$M$80,12,FALSE))))) | AC21: =IF(OR($AB$6="",$AB$7=""),"",IF($B21="","",IF(ISNA(VLOOKUP($B21,'LT06'!$B$11:$N$80,13,FALSE)),"",VLOOKUP($B21,'LT06'!$B$11:$N$80,13,FALSE)))) | AE21: =IF(OR($AB$6="",$AB$7=""),"",IF($B21="","",IF(ISNA(VLOOKUP($B21,'LT06'!$B$11:$Q$80,16,FALSE)),"",VLOOKUP($B21,'LT06'!$B$11:$Q$80,16,FALSE)))) | AF21: =IF(OR($AF$6="",$AF$7=""),"",IF($B21="","",IF(ISNA(VLOOKUP($B21,'LT07'!$B$11:$M$80,12,FALSE)),"",IF(VLOOKUP($B21,'LT07'!$B$11:$M$80,12,FALSE)="","",VLOOKUP($B21,'LT07'!$B$11:$M$80,12,FALSE))))) | AG21: =IF(OR($AF$6="",$AF$7=""),"",IF($B21="","",IF(ISNA(VLOOKUP($B21,'LT07'!$B$11:$N$80,13,FALSE)),"",VLOOKUP($B21,'LT07'!$B$11:$N$80,13,FALSE)))) | AI21: =IF(OR($AF$6="",$AF$7=""),"",IF($B21="","",IF(ISNA(VLOOKUP($B21,'LT07'!$B$11:$Q$80,16,FALSE)),"",VLOOKUP($B21,'LT07'!$B$11:$Q$80,16,FALSE)))) | AK21: =IF(OR($AJ$6="",$AJ$7=""),"",IF($B21="","",IF(ISNA(VLOOKUP($B21,'DO AN'!$B$11:$L$80,11,FALSE)),"",IF(VLOOKUP($B21,'DO AN'!$B$11:$L$80,11,FALSE)="","",VLOOKUP($B21,'DO AN'!$B$11:$L$80,11,FALSE))))) | AO21: =IF(OR($AN$6="",$AN$7=""),"",IF($B21="","",IF(ISNA(VLOOKUP($B21,'DO AN 2'!$B$11:$L$80,11,FALSE)),"",IF(VLOOKUP($B21,'DO AN 2'!$B$11:$L$80,11,FALSE)="","",VLOOKUP($B21,'DO AN 2'!$B$11:$L$80,11,FALSE))))) | AS21: =IF(OR($AR$6="",$AR$7=""),"",IF($B21="","",IF(ISNA(VLOOKUP($B21,'TH01'!$B$11:$O$80,14,FALSE)),"",VLOOKUP($B21,'TH01'!$B$11:$O$80,14,FALSE)))) -> 6.4 | AW21: =IF(OR($AV$6="",$AV$7=""),"",IF($B21="","",IF(ISNA(VLOOKUP($B21,'TH02'!$B$11:$O$80,14,FALSE)),"",VLOOKUP($B21,'TH02'!$B$11:$O$80,14,FALSE)))) -> 4.5 | BA21: =IF(OR($AZ$6="",$AZ$7=""),"",IF($B21="","",IF(ISNA(VLOOKUP($B21,'TH03'!$B$11:$O$80,14,FALSE)),"",VLOOKUP($B21,'TH03'!$B$11:$O$80,14,FALSE)))) -> 6.8 | BD21: =$CT21 -> 6.04 | BE21: =$EF21 | BF21: 62 | BG21: =IF($BD21="","",IF($B21="","",IF($BD21<4,"Kém",IF($BD21<5.5,"TB Yếu",IF($BD21<7,"T.Bình",IF($BD21<8,"Khá",IF($BD21<9,"Giỏi","SX"))))))) -> T.Bình | BH21: =IF($BE21="","",IF($B21="","",IF($BE21<4,"Kém",IF($BE21<5.5,"TB Yếu",IF($BE21<7,"T.Bình",IF($BE21<8,"Khá",IF($BE21<9,"Giỏi","SX"))))))) | BJ21: =IF($BD21>=4,"",IF(AND($BD21<4,$BE21="",COUNT($DH21:$DS21)=0),"Cảnh Báo",IF($BE21<4,"Cảnh Báo",""))) | BK21: =IF($B21="","",IF(COUNT($CH21:$CS21)=0,"",SUMIF($CH21:$CS21,">=4",$CH$7:$CS$7))) -> 18 | BL21: =IF($B21="","",IF(COUNT($CH21:$CS21=0),"",SUMIF($CH21:$CS21,"<4",$CH$7:$CS$7))) -> 0 | BM21: =IF(AND($BE21="",$B21=""),"",SUMIF($DT21:$EE21,">=4",$DT$7:$EE$7)) -> 18 | BN21: =IF(AND($BE21="",$B21=""),"",SUMIF($DT21:$EE21,"<4",$DT$7:$EE$7)) -> 0 | BO21: =IF($DG21="","",$DG21) -> 6.04 | BP21: =IF($B21="","",IF($BO21>=5.5,"BT","Yếu")) -> BT | BQ21: =IF($ES21="","",$ES21) -> 6.04 | BR21: =IF($B21="","",IF($BQ21>=5.5,"BT","Yếu")) -> BT | BT21: =IF(COUNT($BU21:$CF21)=0,"",COUNTIF($BU21:$CF21,"<5")) -> 2 | BU21: =$H21 -> 7.5 | BV21: =$L21 -> 6 | BW21: =$P21 -> 6.5 | BX21: =$T21 -> 7.5 | BY21: =$X21 -> 3.3 | BZ21: =$AB21 | CA21: =$AF21 | CB21: =$AK21 | CC21: =$AO21 | CD21: =$AS21 -> 6.4 | CE21: =$AW21 -> 4.5 | CF21: =$BA21 -> 6.8 | CG21: =IF(COUNT($CH21:$CS21)=0,"",COUNTIF($CH21:$CS21,"<4")) -> 0 | CH21: =$I21 -> 7.6 | CI21: =$M21 -> 5.6 | CJ21: =$Q21 -> 6 | CK21: =$U21 -> 7.4 | CL21: =$Y21 -> 4.2 | CM21: =$AC21 | CN21: =$AG21 | CO21: =$AK21 | CP21: =$AO21 | CQ21: =$AS21 -> 6.4 | CR21: =$AW21 -> 4.5 | CS21: =$BA21 -> 6.8 | CT21: =IF(COUNT($CH21:$CS21)=0,"",ROUND(SUMPRODUCT($CH21:$CS21,$CH$7:$CS$7)/(SUM($CH$7:$CS$7)-SUMIF($CH21:$CS21,"",$CH$7:$CS$7)),2)) -> 6.04 | CU21: =IF($CH21<4,"",$CH21) -> 7.6 | CV21: =IF($CI21<4,"",$CI21) -> 5.6 | CW21: =IF($CJ21<4,"",$CJ21) -> 6 | CX21: =IF($CK21<4,"",$CK21) -> 7.4 | CY21: =IF($CL21<4,"",$CL21) -> 4.2 | CZ21: =IF($CM21<4,"",$CM21) | DA21: =IF($CN21<4,"",$CN21) | DB21: =IF($CO21<4,"",$CO21) | DC21: =IF($CP21<4,"",$CP21) | DD21: =IF($CQ21<4,"",$CQ21) -> 6.4 | DE21: =IF($CR21<4,"",$CR21) -> 4.5 | DF21: =IF($CS21<4,"",$CS21) -> 6.8 | DG21: =IF($B21="","",IF(COUNT($CU21:$DF21)=0,0,ROUND(SUMPRODUCT($CU21:$DF21,$CU$7:$DF$7)/SUMIF($CU21:$DF21,">=4",$CU$7:$DF$7),2))) -> 6.04 | DH21: =IF($K21="","",$K21) | DI21: =IF($O21="","",$O21) | DJ21: =IF($S21="","",$S21) | DK21: =IF($W21="","",$W21) | DL21: =IF($AA21="","",$AA21) | DM21: =IF($AE21="","",$AE21) | DN21: =IF($AI21="","",$AI21) | DO21: =IF($AM21="","",$AM21) | DP21: =IF($AQ21="","",$AQ21) | DQ21: =IF($AU21="","",$AU21) | DR21: =IF($AY21="","",$AY21) | DS21: =IF($BC21="","",$BC21) | DT21: =IF($H21>=$J21,$I21,$K21) -> 7.6 | DU21: =IF($L21>=$N21,$M21,$O21) -> 5.6 | DV21: =IF($P21>=$R21,$Q21,$S21) -> 6 | DW21: =IF($T21>=$V21,$U21,$W21) -> 7.4 | DX21: =IF($X21>=$Z21,$Y21,$AA21) -> 4.2 | DY21: =IF($AB21>=$AD21,$AC21,$AE21) | DZ21: =IF($AF21>=$AH21,$AG21,$AI21) | EA21: =IF($AJ21>=$AL21,$AK21,$AM21) | EB21: =IF($AN21>=$AP21,$AO21,$AQ21) | EC21: =IF($AR21>=$AT21,$AS21,$AU21) -> 6.4 | ED21: =IF($AV21>=$AX21,$AW21,$AY21) -> 4.5 | EE21: =IF($AZ21>=$BB21,$BA21,$BC21) -> 6.8 | EF21: =IF(COUNT($DH21:$DS21)=0,"",ROUND(SUMPRODUCT($DT21:$EE21,$DT$7:$EE$7)/(SUM($DT$7:$EE$7)-SUMIF($DT21:$EE21,"",$DT$7:$EE$7)),2)) | EG21: =IF($DT21<4,"",$DT21) -> 7.6 | EH21: =IF($DU21<4,"",$DU21) -> 5.6 | EI21: =IF($DV21<4,"",$DV21) -> 6 | EJ21: =IF($DW21<4,"",$DW21) -> 7.4 | EK21: =IF($DX21<4,"",$DX21) -> 4.2 | EL21: =IF($DY21<4,"",$DY21) | EM21: =IF($DZ21<4,"",$DZ21) | EN21: =IF($EA21<4,"",$EA21) | EO21: =IF($EB21<4,"",$EB21) | EP21: =IF($EC21<4,"",$EC21) -> 6.4 | EQ21: =IF($ED21<4,"",$ED21) -> 4.5 | ER21: =IF($EE21<4,"",$EE21) -> 6.8 | ES21: =IF($B21="","",IF(COUNT($EG21:$ER21)=0,0,ROUND(SUMPRODUCT($EG21:$ER21,$EG$7:$ER$7)/SUMIF($EG21:$ER21,">=4",$EG$7:$ER$7),2))) -> 6.04 | ET21: =IF($EF21="",$CT21,$EF21) -> 6.04
A22: =IF($B22="","",SUBTOTAL(3,$B$11:B22)) -> 12 | B22: 13D301Đ033 | C22: =IF($B22="","",VLOOKUP($B22,'DS LOP HKI'!$B$2:$D$951,2,0)) -> Trương Văn | D22: =IF($B22="","",VLOOKUP($B22,'DS LOP HKI'!$B$2:$D$951,3,0)) -> Đạt | G22: 1 | H22: =IF(OR($H$6="",$H$7=""),"",IF($B22="","",IF(ISNA(VLOOKUP($B22,'LT01'!$B$11:$M$80,12,FALSE)),"",IF(VLOOKUP($B22,'LT01'!$B$11:$M$80,12,FALSE)="","",VLOOKUP($B22,'LT01'!$B$11:$M$80,12,FALSE))))) -> 7 | I22: =IF(OR($H$6="",$H$7=""),"",IF($B22="","",IF(ISNA(VLOOKUP($B22,'LT01'!$B$11:$N$80,13,FALSE)),"",VLOOKUP($B22,'LT01'!$B$11:$N$80,13,FALSE)))) -> 7.3 | K22: =IF(OR($H$6="",$H$7=""),"",IF($B22="","",IF(ISNA(VLOOKUP($B22,'LT01'!$B$11:$Q$80,16,FALSE)),"",IF(VLOOKUP($B22,'LT01'!$B$11:$Q$80,16,FALSE)="","",VLOOKUP($B22,'LT01'!$B$11:$Q$80,16,FALSE))))) | L22: =IF(OR($L$6="",$L$7=""),"",IF($B22="","",IF(ISNA(VLOOKUP($B22,'LT02'!$B$11:$M$80,12,FALSE)),"",IF(VLOOKUP($B22,'LT02'!$B$11:$M$80,12,FALSE)="","",VLOOKUP($B22,'LT02'!$B$11:$M$80,12,FALSE))))) -> 6.8 | M22: =IF(OR($L$6="",$L$7=""),"",IF($B22="","",IF(ISNA(VLOOKUP($B22,'LT02'!$B$11:$N$80,13,FALSE)),"",VLOOKUP($B22,'LT02'!$B$11:$N$80,13,FALSE)))) -> 6 | O22: =IF(OR($L$6="",$L$7=""),"",IF($B22="","",IF(ISNA(VLOOKUP($B22,'LT02'!$B$11:$Q$80,16,FALSE)),"",VLOOKUP($B22,'LT02'!$B$11:$Q$80,16,FALSE)))) | P22: =IF(OR($P$6="",$P$7=""),"",IF($B22="","",IF(ISNA(VLOOKUP($B22,'LT03'!$B$11:$M$80,12,FALSE)),"",IF(VLOOKUP($B22,'LT03'!$B$11:$M$80,12,FALSE)="","",VLOOKUP($B22,'LT03'!$B$11:$M$80,12,FALSE))))) -> 5.3 | Q22: =IF(OR($P$6="",$P$7=""),"",IF($B22="","",IF(ISNA(VLOOKUP($B22,'LT03'!$B$11:$N$80,13,FALSE)),"",VLOOKUP($B22,'LT03'!$B$11:$N$80,13,FALSE)))) -> 5.7 | S22: =IF(OR($P$6="",$P$7=""),"",IF($B22="","",IF(ISNA(VLOOKUP($B22,'LT03'!$B$11:$Q$80,16,FALSE)),"",VLOOKUP($B22,'LT03'!$B$11:$Q$80,16,FALSE)))) | T22: =IF(OR($T$6="",$T$7=""),"",IF($B22="","",IF(ISNA(VLOOKUP($B22,'LT04'!$B$11:$M$80,12,FALSE)),"",IF(VLOOKUP($B22,'LT04'!$B$11:$M$80,12,FALSE)="","",VLOOKUP($B22,'LT04'!$B$11:$M$80,12,FALSE))))) -> 9 | U22: =IF(OR($T$6="",$T$7=""),"",IF($B22="","",IF(ISNA(VLOOKUP($B22,'LT04'!$B$11:$N$80,13,FALSE)),"",VLOOKUP($B22,'LT04'!$B$11:$N$80,13,FALSE)))) -> 8.1 | W22: =IF(OR($T$6="",$T$7=""),"",IF($B22="","",IF(ISNA(VLOOKUP($B22,'LT04'!$B$11:$Q$80,16,FALSE)),"",VLOOKUP($B22,'LT04'!$B$11:$Q$80,16,FALSE)))) | X22: =IF(OR($X$6="",$X$7=""),"",IF($B22="","",IF(ISNA(VLOOKUP($B22,'LT05'!$B$11:$M$80,12,FALSE)),"",IF(VLOOKUP($B22,'LT05'!$B$11:$M$80,12,FALSE)="","",VLOOKUP($B22,'LT05'!$B$11:$M$80,12,FALSE))))) -> 4.3 | Y22: =IF(OR($X$6="",$X$7=""),"",IF($B22="","",IF(ISNA(VLOOKUP($B22,'LT05'!$B$11:$N$80,13,FALSE)),"",VLOOKUP($B22,'LT05'!$B$11:$N$80,13,FALSE)))) -> 5.2 | AA22: =IF(OR($X$6="",$X$7=""),"",IF($B22="","",IF(ISNA(VLOOKUP($B22,'LT05'!$B$11:$Q$80,16,FALSE)),"",VLOOKUP($B22,'LT05'!$B$11:$Q$80,16,FALSE)))) | AB22: =IF(OR($AB$6="",$AB$7=""),"",IF($B22="","",IF(ISNA(VLOOKUP($B22,'LT06'!$B$11:$M$80,12,FALSE)),"",IF(VLOOKUP($B22,'LT06'!$B$11:$M$80,12,FALSE)="","",VLOOKUP($B22,'LT06'!$B$11:$M$80,12,FALSE))))) | AC22: =IF(OR($AB$6="",$AB$7=""),"",IF($B22="","",IF(ISNA(VLOOKUP($B22,'LT06'!$B$11:$N$80,13,FALSE)),"",VLOOKUP($B22,'LT06'!$B$11:$N$80,13,FALSE)))) | AE22: =IF(OR($AB$6="",$AB$7=""),"",IF($B22="","",IF(ISNA(VLOOKUP($B22,'LT06'!$B$11:$Q$80,16,FALSE)),"",VLOOKUP($B22,'LT06'!$B$11:$Q$80,16,FALSE)))) | AF22: =IF(OR($AF$6="",$AF$7=""),"",IF($B22="","",IF(ISNA(VLOOKUP($B22,'LT07'!$B$11:$M$80,12,FALSE)),"",IF(VLOOKUP($B22,'LT07'!$B$11:$M$80,12,FALSE)="","",VLOOKUP($B22,'LT07'!$B$11:$M$80,12,FALSE))))) | AG22: =IF(OR($AF$6="",$AF$7=""),"",IF($B22="","",IF(ISNA(VLOOKUP($B22,'LT07'!$B$11:$N$80,13,FALSE)),"",VLOOKUP($B22,'LT07'!$B$11:$N$80,13,FALSE)))) | AI22: =IF(OR($AF$6="",$AF$7=""),"",IF($B22="","",IF(ISNA(VLOOKUP($B22,'LT07'!$B$11:$Q$80,16,FALSE)),"",VLOOKUP($B22,'LT07'!$B$11:$Q$80,16,FALSE)))) | AK22: =IF(OR($AJ$6="",$AJ$7=""),"",IF($B22="","",IF(ISNA(VLOOKUP($B22,'DO AN'!$B$11:$L$80,11,FALSE)),"",IF(VLOOKUP($B22,'DO AN'!$B$11:$L$80,11,FALSE)="","",VLOOKUP($B22,'DO AN'!$B$11:$L$80,11,FALSE))))) | AO22: =IF(OR($AN$6="",$AN$7=""),"",IF($B22="","",IF(ISNA(VLOOKUP($B22,'DO AN 2'!$B$11:$L$80,11,FALSE)),"",IF(VLOOKUP($B22,'DO AN 2'!$B$11:$L$80,11,FALSE)="","",VLOOKUP($B22,'DO AN 2'!$B$11:$L$80,11,FALSE))))) | AS22: =IF(OR($AR$6="",$AR$7=""),"",IF($B22="","",IF(ISNA(VLOOKUP($B22,'TH01'!$B$11:$O$80,14,FALSE)),"",VLOOKUP($B22,'TH01'!$B$11:$O$80,14,FALSE)))) -> 5.6 | AW22: =IF(OR($AV$6="",$AV$7=""),"",IF($B22="","",IF(ISNA(VLOOKUP($B22,'TH02'!$B$11:$O$80,14,FALSE)),"",VLOOKUP($B22,'TH02'!$B$11:$O$80,14,FALSE)))) -> 5.5 | BA22: =IF(OR($AZ$6="",$AZ$7=""),"",IF($B22="","",IF(ISNA(VLOOKUP($B22,'TH03'!$B$11:$O$80,14,FALSE)),"",VLOOKUP($B22,'TH03'!$B$11:$O$80,14,FALSE)))) -> 6.5 | BD22: =$CT22 -> 6.24 | BE22: =$EF22 | BF22: 60 | BG22: =IF($BD22="","",IF($B22="","",IF($BD22<4,"Kém",IF($BD22<5.5,"TB Yếu",IF($BD22<7,"T.Bình",IF($BD22<8,"Khá",IF($BD22<9,"Giỏi","SX"))))))) -> T.Bình | BH22: =IF($BE22="","",IF($B22="","",IF($BE22<4,"Kém",IF($BE22<5.5,"TB Yếu",IF($BE22<7,"T.Bình",IF($BE22<8,"Khá",IF($BE22<9,"Giỏi","SX"))))))) | BJ22: =IF($BD22>=4,"",IF(AND($BD22<4,$BE22="",COUNT($DH22:$DS22)=0),"Cảnh Báo",IF($BE22<4,"Cảnh Báo",""))) | BK22: =IF($B22="","",IF(COUNT($CH22:$CS22)=0,"",SUMIF($CH22:$CS22,">=4",$CH$7:$CS$7))) -> 18 | BL22: =IF($B22="","",IF(COUNT($CH22:$CS22=0),"",SUMIF($CH22:$CS22,"<4",$CH$7:$CS$7))) -> 0 | BM22: =IF(AND($BE22="",$B22=""),"",SUMIF($DT22:$EE22,">=4",$DT$7:$EE$7)) -> 18 | BN22: =IF(AND($BE22="",$B22=""),"",SUMIF($DT22:$EE22,"<4",$DT$7:$EE$7)) -> 0 | BO22: =IF($DG22="","",$DG22) -> 6.24 | BP22: =IF($B22="","",IF($BO22>=5.5,"BT","Yếu")) -> BT | BQ22: =IF($ES22="","",$ES22) -> 6.24 | BR22: =IF($B22="","",IF($BQ22>=5.5,"BT","Yếu")) -> BT | BT22: =IF(COUNT($BU22:$CF22)=0,"",COUNTIF($BU22:$CF22,"<5")) -> 1 | BU22: =$H22 -> 7 | BV22: =$L22 -> 6.8 | BW22: =$P22 -> 5.3 | BX22: =$T22 -> 9 | BY22: =$X22 -> 4.3 | BZ22: =$AB22 | CA22: =$AF22 | CB22: =$AK22 | CC22: =$AO22 | CD22: =$AS22 -> 5.6 | CE22: =$AW22 -> 5.5 | CF22: =$BA22 -> 6.5 | CG22: =IF(COUNT($CH22:$CS22)=0,"",COUNTIF($CH22:$CS22,"<4")) -> 0 | CH22: =$I22 -> 7.3 | CI22: =$M22 -> 6 | CJ22: =$Q22 -> 5.7 | CK22: =$U22 -> 8.1 | CL22: =$Y22 -> 5.2 | CM22: =$AC22 | CN22: =$AG22 | CO22: =$AK22 | CP22: =$AO22 | CQ22: =$AS22 -> 5.6 | CR22: =$AW22 -> 5.5 | CS22: =$BA22 -> 6.5 | CT22: =IF(COUNT($CH22:$CS22)=0,"",ROUND(SUMPRODUCT($CH22:$CS22,$CH$7:$CS$7)/(SUM($CH$7:$CS$7)-SUMIF($CH22:$CS22,"",$CH$7:$CS$7)),2)) -> 6.24 | CU22: =IF($CH22<4,"",$CH22) -> 7.3 | CV22: =IF($CI22<4,"",$CI22) -> 6 | CW22: =IF($CJ22<4,"",$CJ22) -> 5.7 | CX22: =IF($CK22<4,"",$CK22) -> 8.1 | CY22: =IF($CL22<4,"",$CL22) -> 5.2 | CZ22: =IF($CM22<4,"",$CM22) | DA22: =IF($CN22<4,"",$CN22) | DB22: =IF($CO22<4,"",$CO22) | DC22: =IF($CP22<4,"",$CP22) | DD22: =IF($CQ22<4,"",$CQ22) -> 5.6 | DE22: =IF($CR22<4,"",$CR22) -> 5.5 | DF22: =IF($CS22<4,"",$CS22) -> 6.5 | DG22: =IF($B22="","",IF(COUNT($CU22:$DF22)=0,0,ROUND(SUMPRODUCT($CU22:$DF22,$CU$7:$DF$7)/SUMIF($CU22:$DF22,">=4",$CU$7:$DF$7),2))) -> 6.24 | DH22: =IF($K22="","",$K22) | DI22: =IF($O22="","",$O22) | DJ22: =IF($S22="","",$S22) | DK22: =IF($W22="","",$W22) | DL22: =IF($AA22="","",$AA22) | DM22: =IF($AE22="","",$AE22) | DN22: =IF($AI22="","",$AI22) | DO22: =IF($AM22="","",$AM22) | DP22: =IF($AQ22="","",$AQ22) | DQ22: =IF($AU22="","",$AU22) | DR22: =IF($AY22="","",$AY22) | DS22: =IF($BC22="","",$BC22) | DT22: =IF($H22>=$J22,$I22,$K22) -> 7.3 | DU22: =IF($L22>=$N22,$M22,$O22) -> 6 | DV22: =IF($P22>=$R22,$Q22,$S22) -> 5.7 | DW22: =IF($T22>=$V22,$U22,$W22) -> 8.1 | DX22: =IF($X22>=$Z22,$Y22,$AA22) -> 5.2 | DY22: =IF($AB22>=$AD22,$AC22,$AE22) | DZ22: =IF($AF22>=$AH22,$AG22,$AI22) | EA22: =IF($AJ22>=$AL22,$AK22,$AM22) | EB22: =IF($AN22>=$AP22,$AO22,$AQ22) | EC22: =IF($AR22>=$AT22,$AS22,$AU22) -> 5.6 | ED22: =IF($AV22>=$AX22,$AW22,$AY22) -> 5.5 | EE22: =IF($AZ22>=$BB22,$BA22,$BC22) -> 6.5 | EF22: =IF(COUNT($DH22:$DS22)=0,"",ROUND(SUMPRODUCT($DT22:$EE22,$DT$7:$EE$7)/(SUM($DT$7:$EE$7)-SUMIF($DT22:$EE22,"",$DT$7:$EE$7)),2)) | EG22: =IF($DT22<4,"",$DT22) -> 7.3 | EH22: =IF($DU22<4,"",$DU22) -> 6 | EI22: =IF($DV22<4,"",$DV22) -> 5.7 | EJ22: =IF($DW22<4,"",$DW22) -> 8.1 | EK22: =IF($DX22<4,"",$DX22) -> 5.2 | EL22: =IF($DY22<4,"",$DY22) | EM22: =IF($DZ22<4,"",$DZ22) | EN22: =IF($EA22<4,"",$EA22) | EO22: =IF($EB22<4,"",$EB22) | EP22: =IF($EC22<4,"",$EC22) -> 5.6 | EQ22: =IF($ED22<4,"",$ED22) -> 5.5 | ER22: =IF($EE22<4,"",$EE22) -> 6.5 | ES22: =IF($B22="","",IF(COUNT($EG22:$ER22)=0,0,ROUND(SUMPRODUCT($EG22:$ER22,$EG$7:$ER$7)/SUMIF($EG22:$ER22,">=4",$EG$7:$ER$7),2))) -> 6.24 | ET22: =IF($EF22="",$CT22,$EF22) -> 6.24
A23: =IF($B23="","",SUBTOTAL(3,$B$11:B23)) -> 13 | B23: 13D301Đ037 | C23: =IF($B23="","",VLOOKUP($B23,'DS LOP HKI'!$B$2:$D$951,2,0)) -> Nguyễn Thành | D23: =IF($B23="","",VLOOKUP($B23,'DS LOP HKI'!$B$2:$D$951,3,0)) -> Đông | H23: =IF(OR($H$6="",$H$7=""),"",IF($B23="","",IF(ISNA(VLOOKUP($B23,'LT01'!$B$11:$M$80,12,FALSE)),"",IF(VLOOKUP($B23,'LT01'!$B$11:$M$80,12,FALSE)="","",VLOOKUP($B23,'LT01'!$B$11:$M$80,12,FALSE))))) -> 7 | I23: =IF(OR($H$6="",$H$7=""),"",IF($B23="","",IF(ISNA(VLOOKUP($B23,'LT01'!$B$11:$N$80,13,FALSE)),"",VLOOKUP($B23,'LT01'!$B$11:$N$80,13,FALSE)))) -> 6.6 | K23: =IF(OR($H$6="",$H$7=""),"",IF($B23="","",IF(ISNA(VLOOKUP($B23,'LT01'!$B$11:$Q$80,16,FALSE)),"",IF(VLOOKUP($B23,'LT01'!$B$11:$Q$80,16,FALSE)="","",VLOOKUP($B23,'LT01'!$B$11:$Q$80,16,FALSE))))) | L23: =IF(OR($L$6="",$L$7=""),"",IF($B23="","",IF(ISNA(VLOOKUP($B23,'LT02'!$B$11:$M$80,12,FALSE)),"",IF(VLOOKUP($B23,'LT02'!$B$11:$M$80,12,FALSE)="","",VLOOKUP($B23,'LT02'!$B$11:$M$80,12,FALSE))))) -> 7 | M23: =IF(OR($L$6="",$L$7=""),"",IF($B23="","",IF(ISNA(VLOOKUP($B23,'LT02'!$B$11:$N$80,13,FALSE)),"",VLOOKUP($B23,'LT02'!$B$11:$N$80,13,FALSE)))) -> 6.4 | O23: =IF(OR($L$6="",$L$7=""),"",IF($B23="","",IF(ISNA(VLOOKUP($B23,'LT02'!$B$11:$Q$80,16,FALSE)),"",VLOOKUP($B23,'LT02'!$B$11:$Q$80,16,FALSE)))) | P23: =IF(OR($P$6="",$P$7=""),"",IF($B23="","",IF(ISNA(VLOOKUP($B23,'LT03'!$B$11:$M$80,12,FALSE)),"",IF(VLOOKUP($B23,'LT03'!$B$11:$M$80,12,FALSE)="","",VLOOKUP($B23,'LT03'!$B$11:$M$80,12,FALSE))))) -> 4.8 | Q23: =IF(OR($P$6="",$P$7=""),"",IF($B23="","",IF(ISNA(VLOOKUP($B23,'LT03'!$B$11:$N$80,13,FALSE)),"",VLOOKUP($B23,'LT03'!$B$11:$N$80,13,FALSE)))) -> 5.1 | S23: =IF(OR($P$6="",$P$7=""),"",IF($B23="","",IF(ISNA(VLOOKUP($B23,'LT03'!$B$11:$Q$80,16,FALSE)),"",VLOOKUP($B23,'LT03'!$B$11:$Q$80,16,FALSE)))) | T23: =IF(OR($T$6="",$T$7=""),"",IF($B23="","",IF(ISNA(VLOOKUP($B23,'LT04'!$B$11:$M$80,12,FALSE)),"",IF(VLOOKUP($B23,'LT04'!$B$11:$M$80,12,FALSE)="","",VLOOKUP($B23,'LT04'!$B$11:$M$80,12,FALSE))))) -> 7.8 | U23: =IF(OR($T$6="",$T$7=""),"",IF($B23="","",IF(ISNA(VLOOKUP($B23,'LT04'!$B$11:$N$80,13,FALSE)),"",VLOOKUP($B23,'LT04'!$B$11:$N$80,13,FALSE)))) -> 7.4 | W23: =IF(OR($T$6="",$T$7=""),"",IF($B23="","",IF(ISNA(VLOOKUP($B23,'LT04'!$B$11:$Q$80,16,FALSE)),"",VLOOKUP($B23,'LT04'!$B$11:$Q$80,16,FALSE)))) | X23: =IF(OR($X$6="",$X$7=""),"",IF($B23="","",IF(ISNA(VLOOKUP($B23,'LT05'!$B$11:$M$80,12,FALSE)),"",IF(VLOOKUP($B23,'LT05'!$B$11:$M$80,12,FALSE)="","",VLOOKUP($B23,'LT05'!$B$11:$M$80,12,FALSE))))) -> 3.3 | Y23: =IF(OR($X$6="",$X$7=""),"",IF($B23="","",IF(ISNA(VLOOKUP($B23,'LT05'!$B$11:$N$80,13,FALSE)),"",VLOOKUP($B23,'LT05'!$B$11:$N$80,13,FALSE)))) -> 4.1 | AA23: =IF(OR($X$6="",$X$7=""),"",IF($B23="","",IF(ISNA(VLOOKUP($B23,'LT05'!$B$11:$Q$80,16,FALSE)),"",VLOOKUP($B23,'LT05'!$B$11:$Q$80,16,FALSE)))) | AB23: =IF(OR($AB$6="",$AB$7=""),"",IF($B23="","",IF(ISNA(VLOOKUP($B23,'LT06'!$B$11:$M$80,12,FALSE)),"",IF(VLOOKUP($B23,'LT06'!$B$11:$M$80,12,FALSE)="","",VLOOKUP($B23,'LT06'!$B$11:$M$80,12,FALSE))))) | AC23: =IF(OR($AB$6="",$AB$7=""),"",IF($B23="","",IF(ISNA(VLOOKUP($B23,'LT06'!$B$11:$N$80,13,FALSE)),"",VLOOKUP($B23,'LT06'!$B$11:$N$80,13,FALSE)))) | AE23: =IF(OR($AB$6="",$AB$7=""),"",IF($B23="","",IF(ISNA(VLOOKUP($B23,'LT06'!$B$11:$Q$80,16,FALSE)),"",VLOOKUP($B23,'LT06'!$B$11:$Q$80,16,FALSE)))) | AF23: =IF(OR($AF$6="",$AF$7=""),"",IF($B23="","",IF(ISNA(VLOOKUP($B23,'LT07'!$B$11:$M$80,12,FALSE)),"",IF(VLOOKUP($B23,'LT07'!$B$11:$M$80,12,FALSE)="","",VLOOKUP($B23,'LT07'!$B$11:$M$80,12,FALSE))))) | AG23: =IF(OR($AF$6="",$AF$7=""),"",IF($B23="","",IF(ISNA(VLOOKUP($B23,'LT07'!$B$11:$N$80,13,FALSE)),"",VLOOKUP($B23,'LT07'!$B$11:$N$80,13,FALSE)))) | AI23: =IF(OR($AF$6="",$AF$7=""),"",IF($B23="","",IF(ISNA(VLOOKUP($B23,'LT07'!$B$11:$Q$80,16,FALSE)),"",VLOOKUP($B23,'LT07'!$B$11:$Q$80,16,FALSE)))) | AK23: =IF(OR($AJ$6="",$AJ$7=""),"",IF($B23="","",IF(ISNA(VLOOKUP($B23,'DO AN'!$B$11:$L$80,11,FALSE)),"",IF(VLOOKUP($B23,'DO AN'!$B$11:$L$80,11,FALSE)="","",VLOOKUP($B23,'DO AN'!$B$11:$L$80,11,FALSE))))) | AO23: =IF(OR($AN$6="",$AN$7=""),"",IF($B23="","",IF(ISNA(VLOOKUP($B23,'DO AN 2'!$B$11:$L$80,11,FALSE)),"",IF(VLOOKUP($B23,'DO AN 2'!$B$11:$L$80,11,FALSE)="","",VLOOKUP($B23,'DO AN 2'!$B$11:$L$80,11,FALSE))))) | AS23: =IF(OR($AR$6="",$AR$7=""),"",IF($B23="","",IF(ISNA(VLOOKUP($B23,'TH01'!$B$11:$O$80,14,FALSE)),"",VLOOKUP($B23,'TH01'!$B$11:$O$80,14,FALSE)))) -> 6.2 | AW23: =IF(OR($AV$6="",$AV$7=""),"",IF($B23="","",IF(ISNA(VLOOKUP($B23,'TH02'!$B$11:$O$80,14,FALSE)),"",VLOOKUP($B23,'TH02'!$B$11:$O$80,14,FALSE)))) -> 5 | BA23: =IF(OR($AZ$6="",$AZ$7=""),"",IF($B23="","",IF(ISNA(VLOOKUP($B23,'TH03'!$B$11:$O$80,14,FALSE)),"",VLOOKUP($B23,'TH03'!$B$11:$O$80,14,FALSE)))) -> 6.8 | BD23: =$CT23 -> 5.88 | BE23: =$EF23 | BF23: 60 | BG23: =IF($BD23="","",IF($B23="","",IF($BD23<4,"Kém",IF($BD23<5.5,"TB Yếu",IF($BD23<7,"T.Bình",IF($BD23<8,"Khá",IF($BD23<9,"Giỏi","SX"))))))) -> T.Bình | BH23: =IF($BE23="","",IF($B23="","",IF($BE23<4,"Kém",IF($BE23<5.5,"TB Yếu",IF($BE23<7,"T.Bình",IF($BE23<8,"Khá",IF($BE23<9,"Giỏi","SX"))))))) | BJ23: =IF($BD23>=4,"",IF(AND($BD23<4,$BE23="",COUNT($DH23:$DS23)=0),"Cảnh Báo",IF($BE23<4,"Cảnh Báo",""))) | BK23: =IF($B23="","",IF(COUNT($CH23:$CS23)=0,"",SUMIF($CH23:$CS23,">=4",$CH$7:$CS$7))) -> 18 | BL23: =IF($B23="","",IF(COUNT($CH23:$CS23=0),"",SUMIF($CH23:$CS23,"<4",$CH$7:$CS$7))) -> 0 | BM23: =IF(AND($BE23="",$B23=""),"",SUMIF($DT23:$EE23,">=4",$DT$7:$EE$7)) -> 18 | BN23: =IF(AND($BE23="",$B23=""),"",SUMIF($DT23:$EE23,"<4",$DT$7:$EE$7)) -> 0 | BO23: =IF($DG23="","",$DG23) -> 5.88 | BP23: =IF($B23="","",IF($BO23>=5.5,"BT","Yếu")) -> BT | BQ23: =IF($ES23="","",$ES23) -> 5.88 | BR23: =IF($B23="","",IF($BQ23>=5.5,"BT","Yếu")) -> BT | BT23: =IF(COUNT($BU23:$CF23)=0,"",COUNTIF($BU23:$CF23,"<5")) -> 2 | BU23: =$H23 -> 7 | BV23: =$L23 -> 7 | BW23: =$P23 -> 4.8 | BX23: =$T23 -> 7.8 | BY23: =$X23 -> 3.3 | BZ23: =$AB23 | CA23: =$AF23 | CB23: =$AK23 | CC23: =$AO23 | CD23: =$AS23 -> 6.2 | CE23: =$AW23 -> 5 | CF23: =$BA23 -> 6.8 | CG23: =IF(COUNT($CH23:$CS23)=0,"",COUNTIF($CH23:$CS23,"<4")) -> 0 | CH23: =$I23 -> 6.6 | CI23: =$M23 -> 6.4 | CJ23: =$Q23 -> 5.1 | CK23: =$U23 -> 7.4 | CL23: =$Y23 -> 4.1 | CM23: =$AC23 | CN23: =$AG23 | CO23: =$AK23 | CP23: =$AO23 | CQ23: =$AS23 -> 6.2 | CR23: =$AW23 -> 5 | CS23: =$BA23 -> 6.8 | CT23: =IF(COUNT($CH23:$CS23)=0,"",ROUND(SUMPRODUCT($CH23:$CS23,$CH$7:$CS$7)/(SUM($CH$7:$CS$7)-SUMIF($CH23:$CS23,"",$CH$7:$CS$7)),2)) -> 5.88 | CU23: =IF($CH23<4,"",$CH23) -> 6.6 | CV23: =IF($CI23<4,"",$CI23) -> 6.4 | CW23: =IF($CJ23<4,"",$CJ23) -> 5.1 | CX23: =IF($CK23<4,"",$CK23) -> 7.4 | CY23: =IF($CL23<4,"",$CL23) -> 4.1 | CZ23: =IF($CM23<4,"",$CM23) | DA23: =IF($CN23<4,"",$CN23) | DB23: =IF($CO23<4,"",$CO23) | DC23: =IF($CP23<4,"",$CP23) | DD23: =IF($CQ23<4,"",$CQ23) -> 6.2 | DE23: =IF($CR23<4,"",$CR23) -> 5 | DF23: =IF($CS23<4,"",$CS23) -> 6.8 | DG23: =IF($B23="","",IF(COUNT($CU23:$DF23)=0,0,ROUND(SUMPRODUCT($CU23:$DF23,$CU$7:$DF$7)/SUMIF($CU23:$DF23,">=4",$CU$7:$DF$7),2))) -> 5.88 | DH23: =IF($K23="","",$K23) | DI23: =IF($O23="","",$O23) | DJ23: =IF($S23="","",$S23) | DK23: =IF($W23="","",$W23) | DL23: =IF($AA23="","",$AA23) | DM23: =IF($AE23="","",$AE23) | DN23: =IF($AI23="","",$AI23) | DO23: =IF($AM23="","",$AM23) | DP23: =IF($AQ23="","",$AQ23) | DQ23: =IF($AU23="","",$AU23) | DR23: =IF($AY23="","",$AY23) | DS23: =IF($BC23="","",$BC23) | DT23: =IF($H23>=$J23,$I23,$K23) -> 6.6 | DU23: =IF($L23>=$N23,$M23,$O23) -> 6.4 | DV23: =IF($P23>=$R23,$Q23,$S23) -> 5.1 | DW23: =IF($T23>=$V23,$U23,$W23) -> 7.4 | DX23: =IF($X23>=$Z23,$Y23,$AA23) -> 4.1 | DY23: =IF($AB23>=$AD23,$AC23,$AE23) | DZ23: =IF($AF23>=$AH23,$AG23,$AI23) | EA23: =IF($AJ23>=$AL23,$AK23,$AM23) | EB23: =IF($AN23>=$AP23,$AO23,$AQ23) | EC23: =IF($AR23>=$AT23,$AS23,$AU23) -> 6.2 | ED23: =IF($AV23>=$AX23,$AW23,$AY23) -> 5 | EE23: =IF($AZ23>=$BB23,$BA23,$BC23) -> 6.8 | EF23: =IF(COUNT($DH23:$DS23)=0,"",ROUND(SUMPRODUCT($DT23:$EE23,$DT$7:$EE$7)/(SUM($DT$7:$EE$7)-SUMIF($DT23:$EE23,"",$DT$7:$EE$7)),2)) | EG23: =IF($DT23<4,"",$DT23) -> 6.6 | EH23: =IF($DU23<4,"",$DU23) -> 6.4 | EI23: =IF($DV23<4,"",$DV23) -> 5.1 | EJ23: =IF($DW23<4,"",$DW23) -> 7.4 | EK23: =IF($DX23<4,"",$DX23) -> 4.1 | EL23: =IF($DY23<4,"",$DY23) | EM23: =IF($DZ23<4,"",$DZ23) | EN23: =IF($EA23<4,"",$EA23) | EO23: =IF($EB23<4,"",$EB23) | EP23: =IF($EC23<4,"",$EC23) -> 6.2 | EQ23: =IF($ED23<4,"",$ED23) -> 5 | ER23: =IF($EE23<4,"",$EE23) -> 6.8 | ES23: =IF($B23="","",IF(COUNT($EG23:$ER23)=0,0,ROUND(SUMPRODUCT($EG23:$ER23,$EG$7:$ER$7)/SUMIF($EG23:$ER23,">=4",$EG$7:$ER$7),2))) -> 5.88 | ET23: =IF($EF23="",$CT23,$EF23) -> 5.88
A24: =IF($B24="","",SUBTOTAL(3,$B$11:B24)) -> 14 | B24: 13D301Đ024 | C24: =IF($B24="","",VLOOKUP($B24,'DS LOP HKI'!$B$2:$D$951,2,0)) -> Trương Công | D24: =IF($B24="","",VLOOKUP($B24,'DS LOP HKI'!$B$2:$D$951,3,0)) -> Duẩn | G24: 2 | H24: =IF(OR($H$6="",$H$7=""),"",IF($B24="","",IF(ISNA(VLOOKUP($B24,'LT01'!$B$11:$M$80,12,FALSE)),"",IF(VLOOKUP($B24,'LT01'!$B$11:$M$80,12,FALSE)="","",VLOOKUP($B24,'LT01'!$B$11:$M$80,12,FALSE))))) -> 8.5 | I24: =IF(OR($H$6="",$H$7=""),"",IF($B24="","",IF(ISNA(VLOOKUP($B24,'LT01'!$B$11:$N$80,13,FALSE)),"",VLOOKUP($B24,'LT01'!$B$11:$N$80,13,FALSE)))) -> 7.5 | K24: =IF(OR($H$6="",$H$7=""),"",IF($B24="","",IF(ISNA(VLOOKUP($B24,'LT01'!$B$11:$Q$80,16,FALSE)),"",IF(VLOOKUP($B24,'LT01'!$B$11:$Q$80,16,FALSE)="","",VLOOKUP($B24,'LT01'!$B$11:$Q$80,16,FALSE))))) | L24: =IF(OR($L$6="",$L$7=""),"",IF($B24="","",IF(ISNA(VLOOKUP($B24,'LT02'!$B$11:$M$80,12,FALSE)),"",IF(VLOOKUP($B24,'LT02'!$B$11:$M$80,12,FALSE)="","",VLOOKUP($B24,'LT02'!$B$11:$M$80,12,FALSE))))) -> 9 | M24: =IF(OR($L$6="",$L$7=""),"",IF($B24="","",IF(ISNA(VLOOKUP($B24,'LT02'!$B$11:$N$80,13,FALSE)),"",VLOOKUP($B24,'LT02'!$B$11:$N$80,13,FALSE)))) -> 8.4 | O24: =IF(OR($L$6="",$L$7=""),"",IF($B24="","",IF(ISNA(VLOOKUP($B24,'LT02'!$B$11:$Q$80,16,FALSE)),"",VLOOKUP($B24,'LT02'!$B$11:$Q$80,16,FALSE)))) | P24: =IF(OR($P$6="",$P$7=""),"",IF($B24="","",IF(ISNA(VLOOKUP($B24,'LT03'!$B$11:$M$80,12,FALSE)),"",IF(VLOOKUP($B24,'LT03'!$B$11:$M$80,12,FALSE)="","",VLOOKUP($B24,'LT03'!$B$11:$M$80,12,FALSE))))) -> 6.3 | Q24: =IF(OR($P$6="",$P$7=""),"",IF($B24="","",IF(ISNA(VLOOKUP($B24,'LT03'!$B$11:$N$80,13,FALSE)),"",VLOOKUP($B24,'LT03'!$B$11:$N$80,13,FALSE)))) -> 6.4 | S24: =IF(OR($P$6="",$P$7=""),"",IF($B24="","",IF(ISNA(VLOOKUP($B24,'LT03'!$B$11:$Q$80,16,FALSE)),"",VLOOKUP($B24,'LT03'!$B$11:$Q$80,16,FALSE)))) | T24: =IF(OR($T$6="",$T$7=""),"",IF($B24="","",IF(ISNA(VLOOKUP($B24,'LT04'!$B$11:$M$80,12,FALSE)),"",IF(VLOOKUP($B24,'LT04'!$B$11:$M$80,12,FALSE)="","",VLOOKUP($B24,'LT04'!$B$11:$M$80,12,FALSE))))) -> 7 | U24: =IF(OR($T$6="",$T$7=""),"",IF($B24="","",IF(ISNA(VLOOKUP($B24,'LT04'!$B$11:$N$80,13,FALSE)),"",VLOOKUP($B24,'LT04'!$B$11:$N$80,13,FALSE)))) -> 7.2 | W24: =IF(OR($T$6="",$T$7=""),"",IF($B24="","",IF(ISNA(VLOOKUP($B24,'LT04'!$B$11:$Q$80,16,FALSE)),"",VLOOKUP($B24,'LT04'!$B$11:$Q$80,16,FALSE)))) | X24: =IF(OR($X$6="",$X$7=""),"",IF($B24="","",IF(ISNA(VLOOKUP($B24,'LT05'!$B$11:$M$80,12,FALSE)),"",IF(VLOOKUP($B24,'LT05'!$B$11:$M$80,12,FALSE)="","",VLOOKUP($B24,'LT05'!$B$11:$M$80,12,FALSE))))) -> 2.8 | Y24: =IF(OR($X$6="",$X$7=""),"",IF($B24="","",IF(ISNA(VLOOKUP($B24,'LT05'!$B$11:$N$80,13,FALSE)),"",VLOOKUP($B24,'LT05'!$B$11:$N$80,13,FALSE)))) -> 4.5 | AA24: =IF(OR($X$6="",$X$7=""),"",IF($B24="","",IF(ISNA(VLOOKUP($B24,'LT05'!$B$11:$Q$80,16,FALSE)),"",VLOOKUP($B24,'LT05'!$B$11:$Q$80,16,FALSE)))) | AB24: =IF(OR($AB$6="",$AB$7=""),"",IF($B24="","",IF(ISNA(VLOOKUP($B24,'LT06'!$B$11:$M$80,12,FALSE)),"",IF(VLOOKUP($B24,'LT06'!$B$11:$M$80,12,FALSE)="","",VLOOKUP($B24,'LT06'!$B$11:$M$80,12,FALSE))))) | AC24: =IF(OR($AB$6="",$AB$7=""),"",IF($B24="","",IF(ISNA(VLOOKUP($B24,'LT06'!$B$11:$N$80,13,FALSE)),"",VLOOKUP($B24,'LT06'!$B$11:$N$80,13,FALSE)))) | AE24: =IF(OR($AB$6="",$AB$7=""),"",IF($B24="","",IF(ISNA(VLOOKUP($B24,'LT06'!$B$11:$Q$80,16,FALSE)),"",VLOOKUP($B24,'LT06'!$B$11:$Q$80,16,FALSE)))) | AF24: =IF(OR($AF$6="",$AF$7=""),"",IF($B24="","",IF(ISNA(VLOOKUP($B24,'LT07'!$B$11:$M$80,12,FALSE)),"",IF(VLOOKUP($B24,'LT07'!$B$11:$M$80,12,FALSE)="","",VLOOKUP($B24,'LT07'!$B$11:$M$80,12,FALSE))))) | AG24: =IF(OR($AF$6="",$AF$7=""),"",IF($B24="","",IF(ISNA(VLOOKUP($B24,'LT07'!$B$11:$N$80,13,FALSE)),"",VLOOKUP($B24,'LT07'!$B$11:$N$80,13,FALSE)))) | AI24: =IF(OR($AF$6="",$AF$7=""),"",IF($B24="","",IF(ISNA(VLOOKUP($B24,'LT07'!$B$11:$Q$80,16,FALSE)),"",VLOOKUP($B24,'LT07'!$B$11:$Q$80,16,FALSE)))) | AK24: =IF(OR($AJ$6="",$AJ$7=""),"",IF($B24="","",IF(ISNA(VLOOKUP($B24,'DO AN'!$B$11:$L$80,11,FALSE)),"",IF(VLOOKUP($B24,'DO AN'!$B$11:$L$80,11,FALSE)="","",VLOOKUP($B24,'DO AN'!$B$11:$L$80,11,FALSE))))) | AO24: =IF(OR($AN$6="",$AN$7=""),"",IF($B24="","",IF(ISNA(VLOOKUP($B24,'DO AN 2'!$B$11:$L$80,11,FALSE)),"",IF(VLOOKUP($B24,'DO AN 2'!$B$11:$L$80,11,FALSE)="","",VLOOKUP($B24,'DO AN 2'!$B$11:$L$80,11,FALSE))))) | AS24: =IF(OR($AR$6="",$AR$7=""),"",IF($B24="","",IF(ISNA(VLOOKUP($B24,'TH01'!$B$11:$O$80,14,FALSE)),"",VLOOKUP($B24,'TH01'!$B$11:$O$80,14,FALSE)))) -> 8 | AW24: =IF(OR($AV$6="",$AV$7=""),"",IF($B24="","",IF(ISNA(VLOOKUP($B24,'TH02'!$B$11:$O$80,14,FALSE)),"",VLOOKUP($B24,'TH02'!$B$11:$O$80,14,FALSE)))) -> 7.5 | BA24: =IF(OR($AZ$6="",$AZ$7=""),"",IF($B24="","",IF(ISNA(VLOOKUP($B24,'TH03'!$B$11:$O$80,14,FALSE)),"",VLOOKUP($B24,'TH03'!$B$11:$O$80,14,FALSE)))) -> 7.8 | BD24: =$CT24 -> 7.03 | BE24: =$EF24 | BF24: 61 | BG24: =IF($BD24="","",IF($B24="","",IF($BD24<4,"Kém",IF($BD24<5.5,"TB Yếu",IF($BD24<7,"T.Bình",IF($BD24<8,"Khá",IF($BD24<9,"Giỏi","SX"))))))) -> Khá | BH24: =IF($BE24="","",IF($B24="","",IF($BE24<4,"Kém",IF($BE24<5.5,"TB Yếu",IF($BE24<7,"T.Bình",IF($BE24<8,"Khá",IF($BE24<9,"Giỏi","SX"))))))) | BJ24: =IF($BD24>=4,"",IF(AND($BD24<4,$BE24="",COUNT($DH24:$DS24)=0),"Cảnh Báo",IF($BE24<4,"Cảnh Báo",""))) | BK24: =IF($B24="","",IF(COUNT($CH24:$CS24)=0,"",SUMIF($CH24:$CS24,">=4",$CH$7:$CS$7))) -> 18 | BL24: =IF($B24="","",IF(COUNT($CH24:$CS24=0),"",SUMIF($CH24:$CS24,"<4",$CH$7:$CS$7))) -> 0 | BM24: =IF(AND($BE24="",$B24=""),"",SUMIF($DT24:$EE24,">=4",$DT$7:$EE$7)) -> 18 | BN24: =IF(AND($BE24="",$B24=""),"",SUMIF($DT24:$EE24,"<4",$DT$7:$EE$7)) -> 0 | BO24: =IF($DG24="","",$DG24) -> 7.03 | BP24: =IF($B24="","",IF($BO24>=5.5,"BT","Yếu")) -> BT | BQ24: =IF($ES24="","",$ES24) -> 7.03 | BR24: =IF($B24="","",IF($BQ24>=5.5,"BT","Yếu")) -> BT | BT24: =IF(COUNT($BU24:$CF24)=0,"",COUNTIF($BU24:$CF24,"<5")) -> 1 | BU24: =$H24 -> 8.5 | BV24: =$L24 -> 9 | BW24: =$P24 -> 6.3 | BX24: =$T24 -> 7 | BY24: =$X24 -> 2.8 | BZ24: =$AB24 | CA24: =$AF24 | CB24: =$AK24 | CC24: =$AO24 | CD24: =$AS24 -> 8 | CE24: =$AW24 -> 7.5 | CF24: =$BA24 -> 7.8 | CG24: =IF(COUNT($CH24:$CS24)=0,"",COUNTIF($CH24:$CS24,"<4")) -> 0 | CH24: =$I24 -> 7.5 | CI24: =$M24 -> 8.4 | CJ24: =$Q24 -> 6.4 | CK24: =$U24 -> 7.2 | CL24: =$Y24 -> 4.5 | CM24: =$AC24 | CN24: =$AG24 | CO24: =$AK24 | CP24: =$AO24 | CQ24: =$AS24 -> 8 | CR24: =$AW24 -> 7.5 | CS24: =$BA24 -> 7.8 | CT24: =IF(COUNT($CH24:$CS24)=0,"",ROUND(SUMPRODUCT($CH24:$CS24,$CH$7:$CS$7)/(SUM($CH$7:$CS$7)-SUMIF($CH24:$CS24,"",$CH$7:$CS$7)),2)) -> 7.03 | CU24: =IF($CH24<4,"",$CH24) -> 7.5 | CV24: =IF($CI24<4,"",$CI24) -> 8.4 | CW24: =IF($CJ24<4,"",$CJ24) -> 6.4 | CX24: =IF($CK24<4,"",$CK24) -> 7.2 | CY24: =IF($CL24<4,"",$CL24) -> 4.5 | CZ24: =IF($CM24<4,"",$CM24) | DA24: =IF($CN24<4,"",$CN24) | DB24: =IF($CO24<4,"",$CO24) | DC24: =IF($CP24<4,"",$CP24) | DD24: =IF($CQ24<4,"",$CQ24) -> 8 | DE24: =IF($CR24<4,"",$CR24) -> 7.5 | DF24: =IF($CS24<4,"",$CS24) -> 7.8 | DG24: =IF($B24="","",IF(COUNT($CU24:$DF24)=0,0,ROUND(SUMPRODUCT($CU24:$DF24,$CU$7:$DF$7)/SUMIF($CU24:$DF24,">=4",$CU$7:$DF$7),2))) -> 7.03 | DH24: =IF($K24="","",$K24) | DI24: =IF($O24="","",$O24) | DJ24: =IF($S24="","",$S24) | DK24: =IF($W24="","",$W24) | DL24: =IF($AA24="","",$AA24) | DM24: =IF($AE24="","",$AE24) | DN24: =IF($AI24="","",$AI24) | DO24: =IF($AM24="","",$AM24) | DP24: =IF($AQ24="","",$AQ24) | DQ24: =IF($AU24="","",$AU24) | DR24: =IF($AY24="","",$AY24) | DS24: =IF($BC24="","",$BC24) | DT24: =IF($H24>=$J24,$I24,$K24) -> 7.5 | DU24: =IF($L24>=$N24,$M24,$O24) -> 8.4 | DV24: =IF($P24>=$R24,$Q24,$S24) -> 6.4 | DW24: =IF($T24>=$V24,$U24,$W24) -> 7.2 | DX24: =IF($X24>=$Z24,$Y24,$AA24) -> 4.5 | DY24: =IF($AB24>=$AD24,$AC24,$AE24) | DZ24: =IF($AF24>=$AH24,$AG24,$AI24) | EA24: =IF($AJ24>=$AL24,$AK24,$AM24) | EB24: =IF($AN24>=$AP24,$AO24,$AQ24) | EC24: =IF($AR24>=$AT24,$AS24,$AU24) -> 8 | ED24: =IF($AV24>=$AX24,$AW24,$AY24) -> 7.5 | EE24: =IF($AZ24>=$BB24,$BA24,$BC24) -> 7.8 | EF24: =IF(COUNT($DH24:$DS24)=0,"",ROUND(SUMPRODUCT($DT24:$EE24,$DT$7:$EE$7)/(SUM($DT$7:$EE$7)-SUMIF($DT24:$EE24,"",$DT$7:$EE$7)),2)) | EG24: =IF($DT24<4,"",$DT24) -> 7.5 | EH24: =IF($DU24<4,"",$DU24) -> 8.4 | EI24: =IF($DV24<4,"",$DV24) -> 6.4 | EJ24: =IF($DW24<4,"",$DW24) -> 7.2 | EK24: =IF($DX24<4,"",$DX24) -> 4.5 | EL24: =IF($DY24<4,"",$DY24) | EM24: =IF($DZ24<4,"",$DZ24) | EN24: =IF($EA24<4,"",$EA24) | EO24: =IF($EB24<4,"",$EB24) | EP24: =IF($EC24<4,"",$EC24) -> 8 | EQ24: =IF($ED24<4,"",$ED24) -> 7.5 | ER24: =IF($EE24<4,"",$EE24) -> 7.8 | ES24: =IF($B24="","",IF(COUNT($EG24:$ER24)=0,0,ROUND(SUMPRODUCT($EG24:$ER24,$EG$7:$ER$7)/SUMIF($EG24:$ER24,">=4",$EG$7:$ER$7),2))) -> 7.03 | ET24: =IF($EF24="",$CT24,$EF24) -> 7.03
A25: =IF($B25="","",SUBTOTAL(3,$B$11:B25)) -> 15 | B25: 13D301Đ191 | C25: =IF($B25="","",VLOOKUP($B25,'DS LOP HKI'!$B$2:$D$951,2,0)) -> Nguyễn Hiền | D25: =IF($B25="","",VLOOKUP($B25,'DS LOP HKI'!$B$2:$D$951,3,0)) -> Đức | G25: 3 | H25: =IF(OR($H$6="",$H$7=""),"",IF($B25="","",IF(ISNA(VLOOKUP($B25,'LT01'!$B$11:$M$80,12,FALSE)),"",IF(VLOOKUP($B25,'LT01'!$B$11:$M$80,12,FALSE)="","",VLOOKUP($B25,'LT01'!$B$11:$M$80,12,FALSE))))) -> 6.5 | I25: =IF(OR($H$6="",$H$7=""),"",IF($B25="","",IF(ISNA(VLOOKUP($B25,'LT01'!$B$11:$N$80,13,FALSE)),"",VLOOKUP($B25,'LT01'!$B$11:$N$80,13,FALSE)))) -> 6.7 | K25: =IF(OR($H$6="",$H$7=""),"",IF($B25="","",IF(ISNA(VLOOKUP($B25,'LT01'!$B$11:$Q$80,16,FALSE)),"",IF(VLOOKUP($B25,'LT01'!$B$11:$Q$80,16,FALSE)="","",VLOOKUP($B25,'LT01'!$B$11:$Q$80,16,FALSE))))) | L25: =IF(OR($L$6="",$L$7=""),"",IF($B25="","",IF(ISNA(VLOOKUP($B25,'LT02'!$B$11:$M$80,12,FALSE)),"",IF(VLOOKUP($B25,'LT02'!$B$11:$M$80,12,FALSE)="","",VLOOKUP($B25,'LT02'!$B$11:$M$80,12,FALSE))))) -> 7.5 | M25: =IF(OR($L$6="",$L$7=""),"",IF($B25="","",IF(ISNA(VLOOKUP($B25,'LT02'!$B$11:$N$80,13,FALSE)),"",VLOOKUP($B25,'LT02'!$B$11:$N$80,13,FALSE)))) -> 7.3 | O25: =IF(OR($L$6="",$L$7=""),"",IF($B25="","",IF(ISNA(VLOOKUP($B25,'LT02'!$B$11:$Q$80,16,FALSE)),"",VLOOKUP($B25,'LT02'!$B$11:$Q$80,16,FALSE)))) | P25: =IF(OR($P$6="",$P$7=""),"",IF($B25="","",IF(ISNA(VLOOKUP($B25,'LT03'!$B$11:$M$80,12,FALSE)),"",IF(VLOOKUP($B25,'LT03'!$B$11:$M$80,12,FALSE)="","",VLOOKUP($B25,'LT03'!$B$11:$M$80,12,FALSE))))) -> 5.3 | Q25: =IF(OR($P$6="",$P$7=""),"",IF($B25="","",IF(ISNA(VLOOKUP($B25,'LT03'!$B$11:$N$80,13,FALSE)),"",VLOOKUP($B25,'LT03'!$B$11:$N$80,13,FALSE)))) -> 5.6 | S25: =IF(OR($P$6="",$P$7=""),"",IF($B25="","",IF(ISNA(VLOOKUP($B25,'LT03'!$B$11:$Q$80,16,FALSE)),"",VLOOKUP($B25,'LT03'!$B$11:$Q$80,16,FALSE)))) | T25: =IF(OR($T$6="",$T$7=""),"",IF($B25="","",IF(ISNA(VLOOKUP($B25,'LT04'!$B$11:$M$80,12,FALSE)),"",IF(VLOOKUP($B25,'LT04'!$B$11:$M$80,12,FALSE)="","",VLOOKUP($B25,'LT04'!$B$11:$M$80,12,FALSE))))) -> 9 | U25: =IF(OR($T$6="",$T$7=""),"",IF($B25="","",IF(ISNA(VLOOKUP($B25,'LT04'!$B$11:$N$80,13,FALSE)),"",VLOOKUP($B25,'LT04'!$B$11:$N$80,13,FALSE)))) -> 7.8 | W25: =IF(OR($T$6="",$T$7=""),"",IF($B25="","",IF(ISNA(VLOOKUP($B25,'LT04'!$B$11:$Q$80,16,FALSE)),"",VLOOKUP($B25,'LT04'!$B$11:$Q$80,16,FALSE)))) | X25: =IF(OR($X$6="",$X$7=""),"",IF($B25="","",IF(ISNA(VLOOKUP($B25,'LT05'!$B$11:$M$80,12,FALSE)),"",IF(VLOOKUP($B25,'LT05'!$B$11:$M$80,12,FALSE)="","",VLOOKUP($B25,'LT05'!$B$11:$M$80,12,FALSE))))) -> 4 | Y25: =IF(OR($X$6="",$X$7=""),"",IF($B25="","",IF(ISNA(VLOOKUP($B25,'LT05'!$B$11:$N$80,13,FALSE)),"",VLOOKUP($B25,'LT05'!$B$11:$N$80,13,FALSE)))) -> 4.9 | AA25: =IF(OR($X$6="",$X$7=""),"",IF($B25="","",IF(ISNA(VLOOKUP($B25,'LT05'!$B$11:$Q$80,16,FALSE)),"",VLOOKUP($B25,'LT05'!$B$11:$Q$80,16,FALSE)))) | AB25: =IF(OR($AB$6="",$AB$7=""),"",IF($B25="","",IF(ISNA(VLOOKUP($B25,'LT06'!$B$11:$M$80,12,FALSE)),"",IF(VLOOKUP($B25,'LT06'!$B$11:$M$80,12,FALSE)="","",VLOOKUP($B25,'LT06'!$B$11:$M$80,12,FALSE))))) | AC25: =IF(OR($AB$6="",$AB$7=""),"",IF($B25="","",IF(ISNA(VLOOKUP($B25,'LT06'!$B$11:$N$80,13,FALSE)),"",VLOOKUP($B25,'LT06'!$B$11:$N$80,13,FALSE)))) | AE25: =IF(OR($AB$6="",$AB$7=""),"",IF($B25="","",IF(ISNA(VLOOKUP($B25,'LT06'!$B$11:$Q$80,16,FALSE)),"",VLOOKUP($B25,'LT06'!$B$11:$Q$80,16,FALSE)))) | AF25: =IF(OR($AF$6="",$AF$7=""),"",IF($B25="","",IF(ISNA(VLOOKUP($B25,'LT07'!$B$11:$M$80,12,FALSE)),"",IF(VLOOKUP($B25,'LT07'!$B$11:$M$80,12,FALSE)="","",VLOOKUP($B25,'LT07'!$B$11:$M$80,12,FALSE))))) | AG25: =IF(OR($AF$6="",$AF$7=""),"",IF($B25="","",IF(ISNA(VLOOKUP($B25,'LT07'!$B$11:$N$80,13,FALSE)),"",VLOOKUP($B25,'LT07'!$B$11:$N$80,13,FALSE)))) | AI25: =IF(OR($AF$6="",$AF$7=""),"",IF($B25="","",IF(ISNA(VLOOKUP($B25,'LT07'!$B$11:$Q$80,16,FALSE)),"",VLOOKUP($B25,'LT07'!$B$11:$Q$80,16,FALSE)))) | AK25: =IF(OR($AJ$6="",$AJ$7=""),"",IF($B25="","",IF(ISNA(VLOOKUP($B25,'DO AN'!$B$11:$L$80,11,FALSE)),"",IF(VLOOKUP($B25,'DO AN'!$B$11:$L$80,11,FALSE)="","",VLOOKUP($B25,'DO AN'!$B$11:$L$80,11,FALSE))))) | AO25: =IF(OR($AN$6="",$AN$7=""),"",IF($B25="","",IF(ISNA(VLOOKUP($B25,'DO AN 2'!$B$11:$L$80,11,FALSE)),"",IF(VLOOKUP($B25,'DO AN 2'!$B$11:$L$80,11,FALSE)="","",VLOOKUP($B25,'DO AN 2'!$B$11:$L$80,11,FALSE))))) | AS25: =IF(OR($AR$6="",$AR$7=""),"",IF($B25="","",IF(ISNA(VLOOKUP($B25,'TH01'!$B$11:$O$80,14,FALSE)),"",VLOOKUP($B25,'TH01'!$B$11:$O$80,14,FALSE)))) -> 7.2 | AW25: =IF(OR($AV$6="",$AV$7=""),"",IF($B25="","",IF(ISNA(VLOOKUP($B25,'TH02'!$B$11:$O$80,14,FALSE)),"",VLOOKUP($B25,'TH02'!$B$11:$O$80,14,FALSE)))) -> 6 | BA25: =IF(OR($AZ$6="",$AZ$7=""),"",IF($B25="","",IF(ISNA(VLOOKUP($B25,'TH03'!$B$11:$O$80,14,FALSE)),"",VLOOKUP($B25,'TH03'!$B$11:$O$80,14,FALSE)))) -> 7 | BD25: =$CT25 -> 6.48 | BE25: =$EF25 | BF25: 58 | BG25: =IF($BD25="","",IF($B25="","",IF($BD25<4,"Kém",IF($BD25<5.5,"TB Yếu",IF($BD25<7,"T.Bình",IF($BD25<8,"Khá",IF($BD25<9,"Giỏi","SX"))))))) -> T.Bình | BH25: =IF($BE25="","",IF($B25="","",IF($BE25<4,"Kém",IF($BE25<5.5,"TB Yếu",IF($BE25<7,"T.Bình",IF($BE25<8,"Khá",IF($BE25<9,"Giỏi","SX"))))))) | BJ25: =IF($BD25>=4,"",IF(AND($BD25<4,$BE25="",COUNT($DH25:$DS25)=0),"Cảnh Báo",IF($BE25<4,"Cảnh Báo",""))) | BK25: =IF($B25="","",IF(COUNT($CH25:$CS25)=0,"",SUMIF($CH25:$CS25,">=4",$CH$7:$CS$7))) -> 18 | BL25: =IF($B25="","",IF(COUNT($CH25:$CS25=0),"",SUMIF($CH25:$CS25,"<4",$CH$7:$CS$7))) -> 0 | BM25: =IF(AND($BE25="",$B25=""),"",SUMIF($DT25:$EE25,">=4",$DT$7:$EE$7)) -> 18 | BN25: =IF(AND($BE25="",$B25=""),"",SUMIF($DT25:$EE25,"<4",$DT$7:$EE$7)) -> 0 | BO25: =IF($DG25="","",$DG25) -> 6.48 | BP25: =IF($B25="","",IF($BO25>=5.5,"BT","Yếu")) -> BT | BQ25: =IF($ES25="","",$ES25) -> 6.48 | BR25: =IF($B25="","",IF($BQ25>=5.5,"BT","Yếu")) -> BT | BT25: =IF(COUNT($BU25:$CF25)=0,"",COUNTIF($BU25:$CF25,"<5")) -> 1 | BU25: =$H25 -> 6.5 | BV25: =$L25 -> 7.5 | BW25: =$P25 -> 5.3 | BX25: =$T25 -> 9 | BY25: =$X25 -> 4 | BZ25: =$AB25 | CA25: =$AF25 | CB25: =$AK25 | CC25: =$AO25 | CD25: =$AS25 -> 7.2 | CE25: =$AW25 -> 6 | CF25: =$BA25 -> 7 | CG25: =IF(COUNT($CH25:$CS25)=0,"",COUNTIF($CH25:$CS25,"<4")) -> 0 | CH25: =$I25 -> 6.7 | CI25: =$M25 -> 7.3 | CJ25: =$Q25 -> 5.6 | CK25: =$U25 -> 7.8 | CL25: =$Y25 -> 4.9 | CM25: =$AC25 | CN25: =$AG25 | CO25: =$AK25 | CP25: =$AO25 | CQ25: =$AS25 -> 7.2 | CR25: =$AW25 -> 6 | CS25: =$BA25 -> 7 | CT25: =IF(COUNT($CH25:$CS25)=0,"",ROUND(SUMPRODUCT($CH25:$CS25,$CH$7:$CS$7)/(SUM($CH$7:$CS$7)-SUMIF($CH25:$CS25,"",$CH$7:$CS$7)),2)) -> 6.48 | CU25: =IF($CH25<4,"",$CH25) -> 6.7 | CV25: =IF($CI25<4,"",$CI25) -> 7.3 | CW25: =IF($CJ25<4,"",$CJ25) -> 5.6 | CX25: =IF($CK25<4,"",$CK25) -> 7.8 | CY25: =IF($CL25<4,"",$CL25) -> 4.9 | CZ25: =IF($CM25<4,"",$CM25) | DA25: =IF($CN25<4,"",$CN25) | DB25: =IF($CO25<4,"",$CO25) | DC25: =IF($CP25<4,"",$CP25) | DD25: =IF($CQ25<4,"",$CQ25) -> 7.2 | DE25: =IF($CR25<4,"",$CR25) -> 6 | DF25: =IF($CS25<4,"",$CS25) -> 7 | DG25: =IF($B25="","",IF(COUNT($CU25:$DF25)=0,0,ROUND(SUMPRODUCT($CU25:$DF25,$CU$7:$DF$7)/SUMIF($CU25:$DF25,">=4",$CU$7:$DF$7),2))) -> 6.48 | DH25: =IF($K25="","",$K25) | DI25: =IF($O25="","",$O25) | DJ25: =IF($S25="","",$S25) | DK25: =IF($W25="","",$W25) | DL25: =IF($AA25="","",$AA25) | DM25: =IF($AE25="","",$AE25) | DN25: =IF($AI25="","",$AI25) | DO25: =IF($AM25="","",$AM25) | DP25: =IF($AQ25="","",$AQ25) | DQ25: =IF($AU25="","",$AU25) | DR25: =IF($AY25="","",$AY25) | DS25: =IF($BC25="","",$BC25) | DT25: =IF($H25>=$J25,$I25,$K25) -> 6.7 | DU25: =IF($L25>=$N25,$M25,$O25) -> 7.3 | DV25: =IF($P25>=$R25,$Q25,$S25) -> 5.6 | DW25: =IF($T25>=$V25,$U25,$W25) -> 7.8 | DX25: =IF($X25>=$Z25,$Y25,$AA25) -> 4.9 | DY25: =IF($AB25>=$AD25,$AC25,$AE25) | DZ25: =IF($AF25>=$AH25,$AG25,$AI25) | EA25: =IF($AJ25>=$AL25,$AK25,$AM25) | EB25: =IF($AN25>=$AP25,$AO25,$AQ25) | EC25: =IF($AR25>=$AT25,$AS25,$AU25) -> 7.2 | ED25: =IF($AV25>=$AX25,$AW25,$AY25) -> 6 | EE25: =IF($AZ25>=$BB25,$BA25,$BC25) -> 7 | EF25: =IF(COUNT($DH25:$DS25)=0,"",ROUND(SUMPRODUCT($DT25:$EE25,$DT$7:$EE$7)/(SUM($DT$7:$EE$7)-SUMIF($DT25:$EE25,"",$DT$7:$EE$7)),2)) | EG25: =IF($DT25<4,"",$DT25) -> 6.7 | EH25: =IF($DU25<4,"",$DU25) -> 7.3 | EI25: =IF($DV25<4,"",$DV25) -> 5.6 | EJ25: =IF($DW25<4,"",$DW25) -> 7.8 | EK25: =IF($DX25<4,"",$DX25) -> 4.9 | EL25: =IF($DY25<4,"",$DY25) | EM25: =IF($DZ25<4,"",$DZ25) | EN25: =IF($EA25<4,"",$EA25) | EO25: =IF($EB25<4,"",$EB25) | EP25: =IF($EC25<4,"",$EC25) -> 7.2 | EQ25: =IF($ED25<4,"",$ED25) -> 6 | ER25: =IF($EE25<4,"",$EE25) -> 7 | ES25: =IF($B25="","",IF(COUNT($EG25:$ER25)=0,0,ROUND(SUMPRODUCT($EG25:$ER25,$EG$7:$ER$7)/SUMIF($EG25:$ER25,">=4",$EG$7:$ER$7),2))) -> 6.48 | ET25: =IF($EF25="",$CT25,$EF25) -> 6.48
A26: =IF($B26="","",SUBTOTAL(3,$B$11:B26)) -> 16 | B26: 13D301Đ040 | C26: =IF($B26="","",VLOOKUP($B26,'DS LOP HKI'!$B$2:$D$951,2,0)) -> Nguyễn Văn | D26: =IF($B26="","",VLOOKUP($B26,'DS LOP HKI'!$B$2:$D$951,3,0)) -> Đức | H26: =IF(OR($H$6="",$H$7=""),"",IF($B26="","",IF(ISNA(VLOOKUP($B26,'LT01'!$B$11:$M$80,12,FALSE)),"",IF(VLOOKUP($B26,'LT01'!$B$11:$M$80,12,FALSE)="","",VLOOKUP($B26,'LT01'!$B$11:$M$80,12,FALSE))))) -> 7 | I26: =IF(OR($H$6="",$H$7=""),"",IF($B26="","",IF(ISNA(VLOOKUP($B26,'LT01'!$B$11:$N$80,13,FALSE)),"",VLOOKUP($B26,'LT01'!$B$11:$N$80,13,FALSE)))) -> 6.8 | K26: =IF(OR($H$6="",$H$7=""),"",IF($B26="","",IF(ISNA(VLOOKUP($B26,'LT01'!$B$11:$Q$80,16,FALSE)),"",IF(VLOOKUP($B26,'LT01'!$B$11:$Q$80,16,FALSE)="","",VLOOKUP($B26,'LT01'!$B$11:$Q$80,16,FALSE))))) | L26: =IF(OR($L$6="",$L$7=""),"",IF($B26="","",IF(ISNA(VLOOKUP($B26,'LT02'!$B$11:$M$80,12,FALSE)),"",IF(VLOOKUP($B26,'LT02'!$B$11:$M$80,12,FALSE)="","",VLOOKUP($B26,'LT02'!$B$11:$M$80,12,FALSE))))) -> 8.8 | M26: =IF(OR($L$6="",$L$7=""),"",IF($B26="","",IF(ISNA(VLOOKUP($B26,'LT02'!$B$11:$N$80,13,FALSE)),"",VLOOKUP($B26,'LT02'!$B$11:$N$80,13,FALSE)))) -> 7.6 | O26: =IF(OR($L$6="",$L$7=""),"",IF($B26="","",IF(ISNA(VLOOKUP($B26,'LT02'!$B$11:$Q$80,16,FALSE)),"",VLOOKUP($B26,'LT02'!$B$11:$Q$80,16,FALSE)))) | P26: =IF(OR($P$6="",$P$7=""),"",IF($B26="","",IF(ISNA(VLOOKUP($B26,'LT03'!$B$11:$M$80,12,FALSE)),"",IF(VLOOKUP($B26,'LT03'!$B$11:$M$80,12,FALSE)="","",VLOOKUP($B26,'LT03'!$B$11:$M$80,12,FALSE))))) -> 5.3 | Q26: =IF(OR($P$6="",$P$7=""),"",IF($B26="","",IF(ISNA(VLOOKUP($B26,'LT03'!$B$11:$N$80,13,FALSE)),"",VLOOKUP($B26,'LT03'!$B$11:$N$80,13,FALSE)))) -> 6.1 | S26: =IF(OR($P$6="",$P$7=""),"",IF($B26="","",IF(ISNA(VLOOKUP($B26,'LT03'!$B$11:$Q$80,16,FALSE)),"",VLOOKUP($B26,'LT03'!$B$11:$Q$80,16,FALSE)))) | T26: =IF(OR($T$6="",$T$7=""),"",IF($B26="","",IF(ISNA(VLOOKUP($B26,'LT04'!$B$11:$M$80,12,FALSE)),"",IF(VLOOKUP($B26,'LT04'!$B$11:$M$80,12,FALSE)="","",VLOOKUP($B26,'LT04'!$B$11:$M$80,12,FALSE))))) -> 6.5 | U26: =IF(OR($T$6="",$T$7=""),"",IF($B26="","",IF(ISNA(VLOOKUP($B26,'LT04'!$B$11:$N$80,13,FALSE)),"",VLOOKUP($B26,'LT04'!$B$11:$N$80,13,FALSE)))) -> 7.4 | W26: =IF(OR($T$6="",$T$7=""),"",IF($B26="","",IF(ISNA(VLOOKUP($B26,'LT04'!$B$11:$Q$80,16,FALSE)),"",VLOOKUP($B26,'LT04'!$B$11:$Q$80,16,FALSE)))) | X26: =IF(OR($X$6="",$X$7=""),"",IF($B26="","",IF(ISNA(VLOOKUP($B26,'LT05'!$B$11:$M$80,12,FALSE)),"",IF(VLOOKUP($B26,'LT05'!$B$11:$M$80,12,FALSE)="","",VLOOKUP($B26,'LT05'!$B$11:$M$80,12,FALSE))))) -> 4.5 | Y26: =IF(OR($X$6="",$X$7=""),"",IF($B26="","",IF(ISNA(VLOOKUP($B26,'LT05'!$B$11:$N$80,13,FALSE)),"",VLOOKUP($B26,'LT05'!$B$11:$N$80,13,FALSE)))) -> 5.2 | AA26: =IF(OR($X$6="",$X$7=""),"",IF($B26="","",IF(ISNA(VLOOKUP($B26,'LT05'!$B$11:$Q$80,16,FALSE)),"",VLOOKUP($B26,'LT05'!$B$11:$Q$80,16,FALSE)))) | AB26: =IF(OR($AB$6="",$AB$7=""),"",IF($B26="","",IF(ISNA(VLOOKUP($B26,'LT06'!$B$11:$M$80,12,FALSE)),"",IF(VLOOKUP($B26,'LT06'!$B$11:$M$80,12,FALSE)="","",VLOOKUP($B26,'LT06'!$B$11:$M$80,12,FALSE))))) | AC26: =IF(OR($AB$6="",$AB$7=""),"",IF($B26="","",IF(ISNA(VLOOKUP($B26,'LT06'!$B$11:$N$80,13,FALSE)),"",VLOOKUP($B26,'LT06'!$B$11:$N$80,13,FALSE)))) | AE26: =IF(OR($AB$6="",$AB$7=""),"",IF($B26="","",IF(ISNA(VLOOKUP($B26,'LT06'!$B$11:$Q$80,16,FALSE)),"",VLOOKUP($B26,'LT06'!$B$11:$Q$80,16,FALSE)))) | AF26: =IF(OR($AF$6="",$AF$7=""),"",IF($B26="","",IF(ISNA(VLOOKUP($B26,'LT07'!$B$11:$M$80,12,FALSE)),"",IF(VLOOKUP($B26,'LT07'!$B$11:$M$80,12,FALSE)="","",VLOOKUP($B26,'LT07'!$B$11:$M$80,12,FALSE))))) | AG26: =IF(OR($AF$6="",$AF$7=""),"",IF($B26="","",IF(ISNA(VLOOKUP($B26,'LT07'!$B$11:$N$80,13,FALSE)),"",VLOOKUP($B26,'LT07'!$B$11:$N$80,13,FALSE)))) | AI26: =IF(OR($AF$6="",$AF$7=""),"",IF($B26="","",IF(ISNA(VLOOKUP($B26,'LT07'!$B$11:$Q$80,16,FALSE)),"",VLOOKUP($B26,'LT07'!$B$11:$Q$80,16,FALSE)))) | AK26: =IF(OR($AJ$6="",$AJ$7=""),"",IF($B26="","",IF(ISNA(VLOOKUP($B26,'DO AN'!$B$11:$L$80,11,FALSE)),"",IF(VLOOKUP($B26,'DO AN'!$B$11:$L$80,11,FALSE)="","",VLOOKUP($B26,'DO AN'!$B$11:$L$80,11,FALSE))))) | AO26: =IF(OR($AN$6="",$AN$7=""),"",IF($B26="","",IF(ISNA(VLOOKUP($B26,'DO AN 2'!$B$11:$L$80,11,FALSE)),"",IF(VLOOKUP($B26,'DO AN 2'!$B$11:$L$80,11,FALSE)="","",VLOOKUP($B26,'DO AN 2'!$B$11:$L$80,11,FALSE))))) | AS26: =IF(OR($AR$6="",$AR$7=""),"",IF($B26="","",IF(ISNA(VLOOKUP($B26,'TH01'!$B$11:$O$80,14,FALSE)),"",VLOOKUP($B26,'TH01'!$B$11:$O$80,14,FALSE)))) -> 7.2 | AW26: =IF(OR($AV$6="",$AV$7=""),"",IF($B26="","",IF(ISNA(VLOOKUP($B26,'TH02'!$B$11:$O$80,14,FALSE)),"",VLOOKUP($B26,'TH02'!$B$11:$O$80,14,FALSE)))) -> 6 | BA26: =IF(OR($AZ$6="",$AZ$7=""),"",IF($B26="","",IF(ISNA(VLOOKUP($B26,'TH03'!$B$11:$O$80,14,FALSE)),"",VLOOKUP($B26,'TH03'!$B$11:$O$80,14,FALSE)))) -> 7.5 | BD26: =$CT26 -> 6.64 | BE26: =$EF26 | BF26: 61 | BG26: =IF($BD26="","",IF($B26="","",IF($BD26<4,"Kém",IF($BD26<5.5,"TB Yếu",IF($BD26<7,"T.Bình",IF($BD26<8,"Khá",IF($BD26<9,"Giỏi","SX"))))))) -> T.Bình | BH26: =IF($BE26="","",IF($B26="","",IF($BE26<4,"Kém",IF($BE26<5.5,"TB Yếu",IF($BE26<7,"T.Bình",IF($BE26<8,"Khá",IF($BE26<9,"Giỏi","SX"))))))) | BJ26: =IF($BD26>=4,"",IF(AND($BD26<4,$BE26="",COUNT($DH26:$DS26)=0),"Cảnh Báo",IF($BE26<4,"Cảnh Báo",""))) | BK26: =IF($B26="","",IF(COUNT($CH26:$CS26)=0,"",SUMIF($CH26:$CS26,">=4",$CH$7:$CS$7))) -> 18 | BL26: =IF($B26="","",IF(COUNT($CH26:$CS26=0),"",SUMIF($CH26:$CS26,"<4",$CH$7:$CS$7))) -> 0 | BM26: =IF(AND($BE26="",$B26=""),"",SUMIF($DT26:$EE26,">=4",$DT$7:$EE$7)) -> 18 | BN26: =IF(AND($BE26="",$B26=""),"",SUMIF($DT26:$EE26,"<4",$DT$7:$EE$7)) -> 0 | BO26: =IF($DG26="","",$DG26) -> 6.64 | BP26: =IF($B26="","",IF($BO26>=5.5,"BT","Yếu")) -> BT | BQ26: =IF($ES26="","",$ES26) -> 6.64 | BR26: =IF($B26="","",IF($BQ26>=5.5,"BT","Yếu")) -> BT | BT26: =IF(COUNT($BU26:$CF26)=0,"",COUNTIF($BU26:$CF26,"<5")) -> 1 | BU26: =$H26 -> 7 | BV26: =$L26 -> 8.8 | BW26: =$P26 -> 5.3 | BX26: =$T26 -> 6.5 | BY26: =$X26 -> 4.5 | BZ26: =$AB26 | CA26: =$AF26 | CB26: =$AK26 | CC26: =$AO26 | CD26: =$AS26 -> 7.2 | CE26: =$AW26 -> 6 | CF26: =$BA26 -> 7.5 | CG26: =IF(COUNT($CH26:$CS26)=0,"",COUNTIF($CH26:$CS26,"<4")) -> 0 | CH26: =$I26 -> 6.8 | CI26: =$M26 -> 7.6 | CJ26: =$Q26 -> 6.1 | CK26: =$U26 -> 7.4 | CL26: =$Y26 -> 5.2 | CM26: =$AC26 | CN26: =$AG26 | CO26: =$AK26 | CP26: =$AO26 | CQ26: =$AS26 -> 7.2 | CR26: =$AW26 -> 6 | CS26: =$BA26 -> 7.5 | CT26: =IF(COUNT($CH26:$CS26)=0,"",ROUND(SUMPRODUCT($CH26:$CS26,$CH$7:$CS$7)/(SUM($CH$7:$CS$7)-SUMIF($CH26:$CS26,"",$CH$7:$CS$7)),2)) -> 6.64 | CU26: =IF($CH26<4,"",$CH26) -> 6.8 | CV26: =IF($CI26<4,"",$CI26) -> 7.6 | CW26: =IF($CJ26<4,"",$CJ26) -> 6.1 | CX26: =IF($CK26<4,"",$CK26) -> 7.4 | CY26: =IF($CL26<4,"",$CL26) -> 5.2 | CZ26: =IF($CM26<4,"",$CM26) | DA26: =IF($CN26<4,"",$CN26) | DB26: =IF($CO26<4,"",$CO26) | DC26: =IF($CP26<4,"",$CP26) | DD26: =IF($CQ26<4,"",$CQ26) -> 7.2 | DE26: =IF($CR26<4,"",$CR26) -> 6 | DF26: =IF($CS26<4,"",$CS26) -> 7.5 | DG26: =IF($B26="","",IF(COUNT($CU26:$DF26)=0,0,ROUND(SUMPRODUCT($CU26:$DF26,$CU$7:$DF$7)/SUMIF($CU26:$DF26,">=4",$CU$7:$DF$7),2))) -> 6.64 | DH26: =IF($K26="","",$K26) | DI26: =IF($O26="","",$O26) | DJ26: =IF($S26="","",$S26) | DK26: =IF($W26="","",$W26) | DL26: =IF($AA26="","",$AA26) | DM26: =IF($AE26="","",$AE26) | DN26: =IF($AI26="","",$AI26) | DO26: =IF($AM26="","",$AM26) | DP26: =IF($AQ26="","",$AQ26) | DQ26: =IF($AU26="","",$AU26) | DR26: =IF($AY26="","",$AY26) | DS26: =IF($BC26="","",$BC26) | DT26: =IF($H26>=$J26,$I26,$K26) -> 6.8 | DU26: =IF($L26>=$N26,$M26,$O26) -> 7.6 | DV26: =IF($P26>=$R26,$Q26,$S26) -> 6.1 | DW26: =IF($T26>=$V26,$U26,$W26) -> 7.4 | DX26: =IF($X26>=$Z26,$Y26,$AA26) -> 5.2 | DY26: =IF($AB26>=$AD26,$AC26,$AE26) | DZ26: =IF($AF26>=$AH26,$AG26,$AI26) | EA26: =IF($AJ26>=$AL26,$AK26,$AM26) | EB26: =IF($AN26>=$AP26,$AO26,$AQ26) | EC26: =IF($AR26>=$AT26,$AS26,$AU26) -> 7.2 | ED26: =IF($AV26>=$AX26,$AW26,$AY26) -> 6 | EE26: =IF($AZ26>=$BB26,$BA26,$BC26) -> 7.5 | EF26: =IF(COUNT($DH26:$DS26)=0,"",ROUND(SUMPRODUCT($DT26:$EE26,$DT$7:$EE$7)/(SUM($DT$7:$EE$7)-SUMIF($DT26:$EE26,"",$DT$7:$EE$7)),2)) | EG26: =IF($DT26<4,"",$DT26) -> 6.8 | EH26: =IF($DU26<4,"",$DU26) -> 7.6 | EI26: =IF($DV26<4,"",$DV26) -> 6.1 | EJ26: =IF($DW26<4,"",$DW26) -> 7.4 | EK26: =IF($DX26<4,"",$DX26) -> 5.2 | EL26: =IF($DY26<4,"",$DY26) | EM26: =IF($DZ26<4,"",$DZ26) | EN26: =IF($EA26<4,"",$EA26) | EO26: =IF($EB26<4,"",$EB26) | EP26: =IF($EC26<4,"",$EC26) -> 7.2 | EQ26: =IF($ED26<4,"",$ED26) -> 6 | ER26: =IF($EE26<4,"",$EE26) -> 7.5 | ES26: =IF($B26="","",IF(COUNT($EG26:$ER26)=0,0,ROUND(SUMPRODUCT($EG26:$ER26,$EG$7:$ER$7)/SUMIF($EG26:$ER26,">=4",$EG$7:$ER$7),2))) -> 6.64 | ET26: =IF($EF26="",$CT26,$EF26) -> 6.64
