Workbook
Name \0: '[1]PNT-QUOT-#3'!#REF!
Name \0: '[1]PNT-QUOT-#3'!#REF!
Name \d: '[2]??-BLDG'!#REF!
Name \d: '[2]??-BLDG'!#REF!
Name \e: '[2]??-BLDG'!#REF!
Name \e: '[2]??-BLDG'!#REF!
Name \f: '[2]??-BLDG'!#REF!
Name \f: '[2]??-BLDG'!#REF!
Name \g: '[2]??-BLDG'!#REF!
Name \g: '[2]??-BLDG'!#REF!
Name \h: '[2]??-BLDG'!#REF!
Name \h: '[2]??-BLDG'!#REF!
Name \i: '[2]??-BLDG'!#REF!
Name \i: '[2]??-BLDG'!#REF!
Name \j: '[2]??-BLDG'!#REF!
Name \j: '[2]??-BLDG'!#REF!
Name \k: '[2]??-BLDG'!#REF!
Name \k: '[2]??-BLDG'!#REF!
Name \l: '[2]??-BLDG'!#REF!
Name \l: '[2]??-BLDG'!#REF!
Name \m: '[2]??-BLDG'!#REF!
Name \m: '[2]??-BLDG'!#REF!
Name \n: '[2]??-BLDG'!#REF!
Name \n: '[2]??-BLDG'!#REF!
Name \o: '[2]??-BLDG'!#REF!
Name \o: '[2]??-BLDG'!#REF!
Name \z: '[1]COAT&WRAP-QIOT-#3'!#REF!
Name \z: '[1]COAT&WRAP-QIOT-#3'!#REF!
Name _1: #N/A
Name _1000A01: #N/A
Name _2: #N/A
Name _A65700: '[3]MTO REV.2(ARMOR)'!#REF!
Name _A65700: '[3]MTO REV.2(ARMOR)'!#REF!
Name _A65800: '[3]MTO REV.2(ARMOR)'!#REF!
Name _A65800: '[3]MTO REV.2(ARMOR)'!#REF!
Name _A66000: '[3]MTO REV.2(ARMOR)'!#REF!
Name _A66000: '[3]MTO REV.2(ARMOR)'!#REF!
Name _A67000: '[3]MTO REV.2(ARMOR)'!#REF!
Name _A67000: '[3]MTO REV.2(ARMOR)'!#REF!
Name _A68000: '[3]MTO REV.2(ARMOR)'!#REF!
Name _A68000: '[3]MTO REV.2(ARMOR)'!#REF!
Name _A70000: '[3]MTO REV.2(ARMOR)'!#REF!
Name _A70000: '[3]MTO REV.2(ARMOR)'!#REF!
Name _A75000: '[3]MTO REV.2(ARMOR)'!#REF!
Name _A75000: '[3]MTO REV.2(ARMOR)'!#REF!
Name _A85000: '[3]MTO REV.2(ARMOR)'!#REF!
Name _A85000: '[3]MTO REV.2(ARMOR)'!#REF!
Name _CON1: #REF!
Name _CON2: #REF!
Name _NET2: #REF!
Name A: '[1]PNT-QUOT-#3'!#REF!
Name A: '[1]PNT-QUOT-#3'!#REF!
Name A01_: #N/A
Name A01AC: #N/A
Name A01CAT: #N/A
Name A01CODE: #N/A
Name A01DATA: #N/A
Name A01MI: #N/A
Name A01TO: #N/A
Name A60000.: #REF!

Sheet TEN HOC PHAN HKI
A1: QUI ĐỊNH SỐ TÍN CHỈ CỦA CÁC HỌC PHẦN TRONG HỌC KỲ I / 2013 - 2014 Bậc đào tạo : Cao đẳng ( Khóa 2013 )
A3: TT | B3: LỚP | C3: STT | D3: SHEET | E3: TÊN HỌC PHẦN | F3: TỔNG LT | G3: LÝ THUYẾT | H3: THỰC HÀNH | I3: GHI CHÚ
A4: 1 | B4: 13 CĐ - ĐT 1, 2 | C4: 1 | D4: LT01 | E4: Đường lối CM của Đảng cộng sản VN | F4: =G4+H4 -> 3 | G4: 3
C5: 2 | D5: LT02 | E5: Điều khiển lập trình PLC 1 | F5: =G5+H5 -> 2 | G5: 2
C6: 3 | D6: LT03 | E6: Tự động hóa quá trình công nghệ | F6: =G6+H6 -> 2 | G6: 2
C7: 4 | D7: LT04 | E7: Điện tử công nghiệp | F7: =G7+H7 -> 3 | G7: 3
C8: 5 | D8: LT05 | E8: Hệ thống điều khiển tự động | F8: =G8+H8 -> 2 | G8: 2
C9: 6 | D9: LT06 | F9: =G9+H9 -> 0
C10: 7 | D10: LT07 | F10: =G10+H10 -> 0
C11: 8 | D11: DO AN | F11: =G11+H11 -> 0
C12: 9 | D12: DO AN 2 | F12: =G12+H12 -> 0
C13: 10 | D13: TH01 | E13: Thực tập Vi xử lý và PLC | F13: =G13+H13 -> 2 | H13: 2
C14: 11 | D14: TH02 | E14: Thực tập Đo lường cảm biến | F14: =G14+H14 -> 2 | H14: 2
C15: 12 | D15: TH03 | E15: Thực tập Điều khiển tự động | F15: =G15+H15 -> 2 | H15: 2
A16: 2 | B16: 13 CĐ - Đ 1, 2, 3 | C16: 1 | D16: LT01 | E16: Đường lối CM của Đảng cộng sản VN | F16: =G16+H16 -> 3 | G16: 3
C17: 2 | D17: LT02 | E17: Điều khiển lập trình PLC 1 | F17: =G17+H17 -> 2 | G17: 2
C18: 3 | D18: LT03 | E18: Truyền động điện và ứng dụng | F18: =G18+H18 -> 2 | G18: 2
C19: 4 | D19: LT04 | E19: Nhà máy điện và trạm biến áp | F19: =G19+H19 -> 2 | G19: 2
C20: 5 | D20: LT05 | E20: Điện công nghiệp | F20: =G20+H20 -> 3 | G20: 3
C21: 6 | D21: LT06 | F21: =G21+H21 -> 0
C22: 7 | D22: LT07 | F22: =G22+H22 -> 0
C23: 8 | D23: DO AN | F23: =G23+H23 -> 0
C24: 9 | D24: DO AN 2 | F24: =G24+H24 -> 0
C25: 10 | D25: TH01 | E25: Thực tập Máy điện | F25: =G25+H25 -> 2 | H25: 2
C26: 11 | D26: TH02 | E26: Thực tập Vi xử lý và PLC | F26: =G26+H26 -> 2 | H26: 2
C27: 12 | D27: TH03 | E27: Thực tập Đo lường cảm biến | F27: =G27+H27 -> 2 | H27: 2
A28: 3 | B28: 13 CĐ-CK 1, 2, 3, 4 | C28: 1 | D28: LT01 | E28: Kinh tế công nghiệp và quản trị chất lượng | F28: =G28+H28 -> 2 | G28: 2
C29: 2 | D29: LT02 | E29: Truyền động thủy lực và khí nén trong CN | F29: =G29+H29 -> 2 | G29: 2
C30: 3 | D30: LT03 | E30: Công nghệ CNC | F30: =G30+H30 -> 3 | G30: 3
C31: 4 | D31: LT04 | E31: Công nghệ CAD/CAM | F31: =G31+H31 -> 3 | G31: 3
C32: 5 | D32: LT05 | E32: Nguyên lý cắt kim loại | F32: =G32+H32 -> 2 | G32: 2
C33: 6 | D33: LT06 | E33: Đồ gá | F33: =G33+H33 -> 2 | G33: 2
C34: 7 | D34: LT07 | F34: =G34+H34 -> 0
C35: 8 | D35: DO AN | E35: Đồ án tính toán thiết kế hệ dẫn động cơ khí | F35: =G35+H35 -> 1 | H35: 1
C36: 9 | D36: DO AN 2 | E36: Đồ án công nghệ chế tạo máy | F36: =G36+H36 -> 1 | H36: 1
C37: 10 | D37: TH01 | E37: Thực tập Phay 1 | F37: =G37+H37 -> 2 | H37: 2
C38: 11 | D38: TH02 | F38: =G38+H38 -> 0
C39: 12 | D39: TH03 | F39: =G39+H39 -> 0
A40: 4 | B40: 13 CĐ-Ô 1, 2, 3 | C40: 1 | D40: LT01 | E40: Ôtô | F40: =G40+H40 -> 4 | G40: 4
C41: 2 | D41: LT02 | E41: Công nghệ bảo dưỡng và sửa chữa ôtô | F41: =G41+H41 -> 2 | G41: 2
...

Sheet LOP-MON
A1: STT | B1: Lớp | C1: LT01 | D1: LT02 | E1: LT03 | F1: LT04 | G1: LT05 | H1: LT06 | I1: LT07 | J1: DO AN | K1: DO AN 2 | L1: TH01 | M1: TH02 | N1: TH03
A2: 1 | B2: 13CĐ-ĐT1 | C2: =VLOOKUP(C$1,'TEN HOC PHAN HKI'!$D$4:$F$15,2,0) -> Đường lối CM của Đảng cộng sản VN | D2: =VLOOKUP(D$1,'TEN HOC PHAN HKI'!$D$4:$F$15,2,0) -> Điều khiển lập trình PLC 1 | E2: =VLOOKUP(E$1,'TEN HOC PHAN HKI'!$D$4:$F$15,2,0) -> Tự động hóa quá trình công nghệ | F2: =VLOOKUP(F$1,'TEN HOC PHAN HKI'!$D$4:$F$15,2,0) -> Điện tử công nghiệp | G2: =VLOOKUP(G$1,'TEN HOC PHAN HKI'!$D$4:$F$15,2,0) -> Hệ thống điều khiển tự động | H2: =VLOOKUP(H$1,'TEN HOC PHAN HKI'!$D$4:$F$15,2,0) -> 0 | I2: =VLOOKUP(I$1,'TEN HOC PHAN HKI'!$D$4:$F$15,2,0) -> 0 | J2: =VLOOKUP(J$1,'TEN HOC PHAN HKI'!$D$4:$F$15,2,0) -> 0 | ... N2: =VLOOKUP(N$1,'TEN HOC PHAN HKI'!$D$4:$F$15,2,0) -> Thực tập Điều khiển tự động
B3: TC13CĐĐT1 | C3: =VLOOKUP(C$1,'TEN HOC PHAN HKI'!$D$4:$F$15,3,0) -> 3 | D3: =VLOOKUP(D$1,'TEN HOC PHAN HKI'!$D$4:$F$15,3,0) -> 2 | E3: =VLOOKUP(E$1,'TEN HOC PHAN HKI'!$D$4:$F$15,3,0) -> 2 | F3: =VLOOKUP(F$1,'TEN HOC PHAN HKI'!$D$4:$F$15,3,0) -> 3 | G3: =VLOOKUP(G$1,'TEN HOC PHAN HKI'!$D$4:$F$15,3,0) -> 2 | H3: =VLOOKUP(H$1,'TEN HOC PHAN HKI'!$D$4:$F$15,3,0) -> 0 | I3: =VLOOKUP(I$1,'TEN HOC PHAN HKI'!$D$4:$F$15,3,0) -> 0 | J3: =VLOOKUP(J$1,'TEN HOC PHAN HKI'!$D$4:$F$15,3,0) -> 0 | ... N3: =VLOOKUP(N$1,'TEN HOC PHAN HKI'!$D$4:$F$15,3,0) -> 2
A4: 2 | B4: 13CĐ-ĐT2 | C4: =VLOOKUP(C$1,'TEN HOC PHAN HKI'!$D$4:$F$15,2,0) -> Đường lối CM của Đảng cộng sản VN | D4: =VLOOKUP(D$1,'TEN HOC PHAN HKI'!$D$4:$F$15,2,0) -> Điều khiển lập trình PLC 1 | E4: =VLOOKUP(E$1,'TEN HOC PHAN HKI'!$D$4:$F$15,2,0) -> Tự động hóa quá trình công nghệ | F4: =VLOOKUP(F$1,'TEN HOC PHAN HKI'!$D$4:$F$15,2,0) -> Điện tử công nghiệp | G4: =VLOOKUP(G$1,'TEN HOC PHAN HKI'!$D$4:$F$15,2,0) -> Hệ thống điều khiển tự động | H4: =VLOOKUP(H$1,'TEN HOC PHAN HKI'!$D$4:$F$15,2,0) -> 0 | I4: =VLOOKUP(I$1,'TEN HOC PHAN HKI'!$D$4:$F$15,2,0) -> 0 | J4: =VLOOKUP(J$1,'TEN HOC PHAN HKI'!$D$4:$F$15,2,0) -> 0 | ... N4: =VLOOKUP(N$1,'TEN HOC PHAN HKI'!$D$4:$F$15,2,0) -> Thực tập Điều khiển tự động
B5: TC13CĐĐT2 | C5: =VLOOKUP(C$1,'TEN HOC PHAN HKI'!$D$4:$F$15,3,0) -> 3 | D5: =VLOOKUP(D$1,'TEN HOC PHAN HKI'!$D$4:$F$15,3,0) -> 2 | E5: =VLOOKUP(E$1,'TEN HOC PHAN HKI'!$D$4:$F$15,3,0) -> 2 | F5: =VLOOKUP(F$1,'TEN HOC PHAN HKI'!$D$4:$F$15,3,0) -> 3 | G5: =VLOOKUP(G$1,'TEN HOC PHAN HKI'!$D$4:$F$15,3,0) -> 2 | H5: =VLOOKUP(H$1,'TEN HOC PHAN HKI'!$D$4:$F$15,3,0) -> 0 | I5: =VLOOKUP(I$1,'TEN HOC PHAN HKI'!$D$4:$F$15,3,0) -> 0 | J5: =VLOOKUP(J$1,'TEN HOC PHAN HKI'!$D$4:$F$15,3,0) -> 0 | ... N5: =VLOOKUP(N$1,'TEN HOC PHAN HKI'!$D$4:$F$15,3,0) -> 2
A6: 1 | B6: 13CĐ-Đ1 | C6: =VLOOKUP(C$1,'TEN HOC PHAN HKI'!$D$16:$F$27,2,0) -> Đường lối CM của Đảng cộng sản VN | D6: =VLOOKUP(D$1,'TEN HOC PHAN HKI'!$D$16:$F$27,2,0) -> Điều khiển lập trình PLC 1 | E6: =VLOOKUP(E$1,'TEN HOC PHAN HKI'!$D$16:$F$27,2,0) -> Truyền động điện và ứng dụng | F6: =VLOOKUP(F$1,'TEN HOC PHAN HKI'!$D$16:$F$27,2,0) -> Nhà máy điện và trạm biến áp | G6: =VLOOKUP(G$1,'TEN HOC PHAN HKI'!$D$16:$F$27,2,0) -> Điện công nghiệp | H6: =VLOOKUP(H$1,'TEN HOC PHAN HKI'!$D$16:$F$27,2,0) -> 0 | I6: =VLOOKUP(I$1,'TEN HOC PHAN HKI'!$D$16:$F$27,2,0) -> 0 | J6: =VLOOKUP(J$1,'TEN HOC PHAN HKI'!$D$16:$F$27,2,0) -> 0 | ... N6: =VLOOKUP(N$1,'TEN HOC PHAN HKI'!$D$16:$F$27,2,0) -> Thực tập Đo lường cảm biến
B7: TC13CĐĐ1 | C7: =VLOOKUP(C$1,'TEN HOC PHAN HKI'!$D$16:$F$27,3,0) -> 3 | D7: =VLOOKUP(D$1,'TEN HOC PHAN HKI'!$D$16:$F$27,3,0) -> 2 | E7: =VLOOKUP(E$1,'TEN HOC PHAN HKI'!$D$16:$F$27,3,0) -> 2 | F7: =VLOOKUP(F$1,'TEN HOC PHAN HKI'!$D$16:$F$27,3,0) -> 2 | G7: =VLOOKUP(G$1,'TEN HOC PHAN HKI'!$D$16:$F$27,3,0) -> 3 | H7: =VLOOKUP(H$1,'TEN HOC PHAN HKI'!$D$16:$F$27,3,0) -> 0 | I7: =VLOOKUP(I$1,'TEN HOC PHAN HKI'!$D$16:$F$27,3,0) -> 0 | J7: =VLOOKUP(J$1,'TEN HOC PHAN HKI'!$D$16:$F$27,3,0) -> 0 | ... N7: =VLOOKUP(N$1,'TEN HOC PHAN HKI'!$D$16:$F$27,3,0) -> 2
A8: 2 | B8: 13CĐ-Đ2 | C8: =VLOOKUP(C$1,'TEN HOC PHAN HKI'!$D$16:$F$27,2,0) -> Đường lối CM của Đảng cộng sản VN | D8: =VLOOKUP(D$1,'TEN HOC PHAN HKI'!$D$16:$F$27,2,0) -> Điều khiển lập trình PLC 1 | E8: =VLOOKUP(E$1,'TEN HOC PHAN HKI'!$D$16:$F$27,2,0) -> Truyền động điện và ứng dụng | F8: =VLOOKUP(F$1,'TEN HOC PHAN HKI'!$D$16:$F$27,2,0) -> Nhà máy điện và trạm biến áp | G8: =VLOOKUP(G$1,'TEN HOC PHAN HKI'!$D$16:$F$27,2,0) -> Điện công nghiệp | H8: =VLOOKUP(H$1,'TEN HOC PHAN HKI'!$D$16:$F$27,2,0) -> 0 | I8: =VLOOKUP(I$1,'TEN HOC PHAN HKI'!$D$16:$F$27,2,0) -> 0 | J8: =VLOOKUP(J$1,'TEN HOC PHAN HKI'!$D$16:$F$27,2,0) -> 0 | ... N8: =VLOOKUP(N$1,'TEN HOC PHAN HKI'!$D$16:$F$27,2,0) -> Thực tập Đo lường cảm biến
B9: TC13CĐĐ2 | C9: =VLOOKUP(C$1,'TEN HOC PHAN HKI'!$D$16:$F$27,3,0) -> 3 | D9: =VLOOKUP(D$1,'TEN HOC PHAN HKI'!$D$16:$F$27,3,0) -> 2 | E9: =VLOOKUP(E$1,'TEN HOC PHAN HKI'!$D$16:$F$27,3,0) -> 2 | F9: =VLOOKUP(F$1,'TEN HOC PHAN HKI'!$D$16:$F$27,3,0) -> 2 | G9: =VLOOKUP(G$1,'TEN HOC PHAN HKI'!$D$16:$F$27,3,0) -> 3 | H9: =VLOOKUP(H$1,'TEN HOC PHAN HKI'!$D$16:$F$27,3,0) -> 0 | I9: =VLOOKUP(I$1,'TEN HOC PHAN HKI'!$D$16:$F$27,3,0) -> 0 | J9: =VLOOKUP(J$1,'TEN HOC PHAN HKI'!$D$16:$F$27,3,0) -> 0 | ... N9: =VLOOKUP(N$1,'TEN HOC PHAN HKI'!$D$16:$F$27,3,0) -> 2
A10: 3 | B10: 13CĐ-Đ3 | C10: =VLOOKUP(C$1,'TEN HOC PHAN HKI'!$D$16:$F$27,2,0) -> Đường lối CM của Đảng cộng sản VN | D10: =VLOOKUP(D$1,'TEN HOC PHAN HKI'!$D$16:$F$27,2,0) -> Điều khiển lập trình PLC 1 | E10: =VLOOKUP(E$1,'TEN HOC PHAN HKI'!$D$16:$F$27,2,0) -> Truyền động điện và ứng dụng | F10: =VLOOKUP(F$1,'TEN HOC PHAN HKI'!$D$16:$F$27,2,0) -> Nhà máy điện và trạm biến áp | G10: =VLOOKUP(G$1,'TEN HOC PHAN HKI'!$D$16:$F$27,2,0) -> Điện công nghiệp | H10: =VLOOKUP(H$1,'TEN HOC PHAN HKI'!$D$16:$F$27,2,0) -> 0 | I10: =VLOOKUP(I$1,'TEN HOC PHAN HKI'!$D$16:$F$27,2,0) -> 0 | J10: =VLOOKUP(J$1,'TEN HOC PHAN HKI'!$D$16:$F$27,2,0) -> 0 | ... N10: =VLOOKUP(N$1,'TEN HOC PHAN HKI'!$D$16:$F$27,2,0) -> Thực tập Đo lường cảm biến
B11: TC13CĐĐ3 | C11: =VLOOKUP(C$1,'TEN HOC PHAN HKI'!$D$16:$F$27,3,0) -> 3 | D11: =VLOOKUP(D$1,'TEN HOC PHAN HKI'!$D$16:$F$27,3,0) -> 2 | E11: =VLOOKUP(E$1,'TEN HOC PHAN HKI'!$D$16:$F$27,3,0) -> 2 | F11: =VLOOKUP(F$1,'TEN HOC PHAN HKI'!$D$16:$F$27,3,0) -> 2 | G11: =VLOOKUP(G$1,'TEN HOC PHAN HKI'!$D$16:$F$27,3,0) -> 3 | H11: =VLOOKUP(H$1,'TEN HOC PHAN HKI'!$D$16:$F$27,3,0) -> 0 | I11: =VLOOKUP(I$1,'TEN HOC PHAN HKI'!$D$16:$F$27,3,0) -> 0 | J11: =VLOOKUP(J$1,'TEN HOC PHAN HKI'!$D$16:$F$27,3,0) -> 0 | ... N11: =VLOOKUP(N$1,'TEN HOC PHAN HKI'!$D$16:$F$27,3,0) -> 2
A12: 1 | B12: 13CĐ-CK1 | C12: =VLOOKUP(C$1,'TEN HOC PHAN HKI'!$D$28:$F$39,2,0) -> Kinh tế công nghiệp và quản trị chất lượng | D12: =VLOOKUP(D$1,'TEN HOC PHAN HKI'!$D$28:$F$39,2,0) -> Truyền động thủy lực và khí nén trong CN | E12: =VLOOKUP(E$1,'TEN HOC PHAN HKI'!$D$28:$F$39,2,0) -> Công nghệ CNC | F12: =VLOOKUP(F$1,'TEN HOC PHAN HKI'!$D$28:$F$39,2,0) -> Công nghệ CAD/CAM | G12: =VLOOKUP(G$1,'TEN HOC PHAN HKI'!$D$28:$F$39,2,0) -> Nguyên lý cắt kim loại | H12: =VLOOKUP(H$1,'TEN HOC PHAN HKI'!$D$28:$F$39,2,0) -> Đồ gá | I12: =VLOOKUP(I$1,'TEN HOC PHAN HKI'!$D$28:$F$39,2,0) -> 0 | J12: =VLOOKUP(J$1,'TEN HOC PHAN HKI'!$D$28:$F$39,2,0) -> Đồ án tính toán thiết kế hệ dẫn động cơ khí | ... N12: =VLOOKUP(N$1,'TEN HOC PHAN HKI'!$D$28:$F$39,2,0) -> 0
B13: TC13CĐCK1 | C13: =VLOOKUP(C$1,'TEN HOC PHAN HKI'!$D$28:$F$39,3,0) -> 2 | D13: =VLOOKUP(D$1,'TEN HOC PHAN HKI'!$D$28:$F$39,3,0) -> 2 | E13: =VLOOKUP(E$1,'TEN HOC PHAN HKI'!$D$28:$F$39,3,0) -> 3 | F13: =VLOOKUP(F$1,'TEN HOC PHAN HKI'!$D$28:$F$39,3,0) -> 3 | G13: =VLOOKUP(G$1,'TEN HOC PHAN HKI'!$D$28:$F$39,3,0) -> 2 | H13: =VLOOKUP(H$1,'TEN HOC PHAN HKI'!$D$28:$F$39,3,0) -> 2 | I13: =VLOOKUP(I$1,'TEN HOC PHAN HKI'!$D$28:$F$39,3,0) -> 0 | J13: =VLOOKUP(J$1,'TEN HOC PHAN HKI'!$D$28:$F$39,3,0) -> 1 | ... N13: =VLOOKUP(N$1,'TEN HOC PHAN HKI'!$D$28:$F$39,3,0) -> 0
A14: 2 | B14: 13CĐ-CK2 | C14: =VLOOKUP(C$1,'TEN HOC PHAN HKI'!$D$28:$F$39,2,0) -> Kinh tế công nghiệp và quản trị chất lượng | D14: =VLOOKUP(D$1,'TEN HOC PHAN HKI'!$D$28:$F$39,2,0) -> Truyền động thủy lực và khí nén trong CN | E14: =VLOOKUP(E$1,'TEN HOC PHAN HKI'!$D$28:$F$39,2,0) -> Công nghệ CNC | F14: =VLOOKUP(F$1,'TEN HOC PHAN HKI'!$D$28:$F$39,2,0) -> Công nghệ CAD/CAM | G14: =VLOOKUP(G$1,'TEN HOC PHAN HKI'!$D$28:$F$39,2,0) -> Nguyên lý cắt kim loại | H14: =VLOOKUP(H$1,'TEN HOC PHAN HKI'!$D$28:$F$39,2,0) -> Đồ gá | I14: =VLOOKUP(I$1,'TEN HOC PHAN HKI'!$D$28:$F$39,2,0) -> 0 | J14: =VLOOKUP(J$1,'TEN HOC PHAN HKI'!$D$28:$F$39,2,0) -> Đồ án tính toán thiết kế hệ dẫn động cơ khí | ... N14: =VLOOKUP(N$1,'TEN HOC PHAN HKI'!$D$28:$F$39,2,0) -> 0
B15: TC13CĐCK2 | C15: =VLOOKUP(C$1,'TEN HOC PHAN HKI'!$D$28:$F$39,3,0) -> 2 | D15: =VLOOKUP(D$1,'TEN HOC PHAN HKI'!$D$28:$F$39,3,0) -> 2 | E15: =VLOOKUP(E$1,'TEN HOC PHAN HKI'!$D$28:$F$39,3,0) -> 3 | F15: =VLOOKUP(F$1,'TEN HOC PHAN HKI'!$D$28:$F$39,3,0) -> 3 | G15: =VLOOKUP(G$1,'TEN HOC PHAN HKI'!$D$28:$F$39,3,0) -> 2 | H15: =VLOOKUP(H$1,'TEN HOC PHAN HKI'!$D$28:$F$39,3,0) -> 2 | I15: =VLOOKUP(I$1,'TEN HOC PHAN HKI'!$D$28:$F$39,3,0) -> 0 | J15: =VLOOKUP(J$1,'TEN HOC PHAN HKI'!$D$28:$F$39,3,0) -> 1 | ... N15: =VLOOKUP(N$1,'TEN HOC PHAN HKI'!$D$28:$F$39,3,0) -> 0
A16: 3 | B16: 13CĐ-CK3 | C16: =VLOOKUP(C$1,'TEN HOC PHAN HKI'!$D$28:$F$39,2,0) -> Kinh tế công nghiệp và quản trị chất lượng | D16: =VLOOKUP(D$1,'TEN HOC PHAN HKI'!$D$28:$F$39,2,0) -> Truyền động thủy lực và khí nén trong CN | E16: =VLOOKUP(E$1,'TEN HOC PHAN HKI'!$D$28:$F$39,2,0) -> Công nghệ CNC | F16: =VLOOKUP(F$1,'TEN HOC PHAN HKI'!$D$28:$F$39,2,0) -> Công nghệ CAD/CAM | G16: =VLOOKUP(G$1,'TEN HOC PHAN HKI'!$D$28:$F$39,2,0) -> Nguyên lý cắt kim loại | H16: =VLOOKUP(H$1,'TEN HOC PHAN HKI'!$D$28:$F$39,2,0) -> Đồ gá | I16: =VLOOKUP(I$1,'TEN HOC PHAN HKI'!$D$28:$F$39,2,0) -> 0 | J16: =VLOOKUP(J$1,'TEN HOC PHAN HKI'!$D$28:$F$39,2,0) -> Đồ án tính toán thiết kế hệ dẫn động cơ khí | ... N16: =VLOOKUP(N$1,'TEN HOC PHAN HKI'!$D$28:$F$39,2,0) -> 0
B17: TC13CĐCK3 | C17: =VLOOKUP(C$1,'TEN HOC PHAN HKI'!$D$28:$F$39,3,0) -> 2 | D17: =VLOOKUP(D$1,'TEN HOC PHAN HKI'!$D$28:$F$39,3,0) -> 2 | E17: =VLOOKUP(E$1,'TEN HOC PHAN HKI'!$D$28:$F$39,3,0) -> 3 | F17: =VLOOKUP(F$1,'TEN HOC PHAN HKI'!$D$28:$F$39,3,0) -> 3 | G17: =VLOOKUP(G$1,'TEN HOC PHAN HKI'!$D$28:$F$39,3,0) -> 2 | H17: =VLOOKUP(H$1,'TEN HOC PHAN HKI'!$D$28:$F$39,3,0) -> 2 | I17: =VLOOKUP(I$1,'TEN HOC PHAN HKI'!$D$28:$F$39,3,0) -> 0 | J17: =VLOOKUP(J$1,'TEN HOC PHAN HKI'!$D$28:$F$39,3,0) -> 1 | ... N17: =VLOOKUP(N$1,'TEN HOC PHAN HKI'!$D$28:$F$39,3,0) -> 0
A18: 4 | B18: 13CĐ-CK4 | C18: =VLOOKUP(C$1,'TEN HOC PHAN HKI'!$D$28:$F$39,2,0) -> Kinh tế công nghiệp và quản trị chất lượng | D18: =VLOOKUP(D$1,'TEN HOC PHAN HKI'!$D$28:$F$39,2,0) -> Truyền động thủy lực và khí nén trong CN | E18: =VLOOKUP(E$1,'TEN HOC PHAN HKI'!$D$28:$F$39,2,0) -> Công nghệ CNC | F18: =VLOOKUP(F$1,'TEN HOC PHAN HKI'!$D$28:$F$39,2,0) -> Công nghệ CAD/CAM | G18: =VLOOKUP(G$1,'TEN HOC PHAN HKI'!$D$28:$F$39,2,0) -> Nguyên lý cắt kim loại | H18: =VLOOKUP(H$1,'TEN HOC PHAN HKI'!$D$28:$F$39,2,0) -> Đồ gá | I18: =VLOOKUP(I$1,'TEN HOC PHAN HKI'!$D$28:$F$39,2,0) -> 0 | J18: =VLOOKUP(J$1,'TEN HOC PHAN HKI'!$D$28:$F$39,2,0) -> Đồ án tính toán thiết kế hệ dẫn động cơ khí | ... N18: =VLOOKUP(N$1,'TEN HOC PHAN HKI'!$D$28:$F$39,2,0) -> 0
B19: TC13CĐCK4 | C19: =VLOOKUP(C$1,'TEN HOC PHAN HKI'!$D$28:$F$39,3,0) -> 2 | D19: =VLOOKUP(D$1,'TEN HOC PHAN HKI'!$D$28:$F$39,3,0) -> 2 | E19: =VLOOKUP(E$1,'TEN HOC PHAN HKI'!$D$28:$F$39,3,0) -> 3 | F19: =VLOOKUP(F$1,'TEN HOC PHAN HKI'!$D$28:$F$39,3,0) -> 3 | G19: =VLOOKUP(G$1,'TEN HOC PHAN HKI'!$D$28:$F$39,3,0) -> 2 | H19: =VLOOKUP(H$1,'TEN HOC PHAN HKI'!$D$28:$F$39,3,0) -> 2 | I19: =VLOOKUP(I$1,'TEN HOC PHAN HKI'!$D$28:$F$39,3,0) -> 0 | J19: =VLOOKUP(J$1,'TEN HOC PHAN HKI'!$D$28:$F$39,3,0) -> 1 | ... N19: =VLOOKUP(N$1,'TEN HOC PHAN HKI'!$D$28:$F$39,3,0) -> 0
A20: 5 | B20: 13CĐ-CK5 | C20: =VLOOKUP(C$1,'TEN HOC PHAN HKI'!$D$28:$F$39,2,0) -> Kinh tế công nghiệp và quản trị chất lượng | D20: =VLOOKUP(D$1,'TEN HOC PHAN HKI'!$D$28:$F$39,2,0) -> Truyền động thủy lực và khí nén trong CN | E20: =VLOOKUP(E$1,'TEN HOC PHAN HKI'!$D$28:$F$39,2,0) -> Công nghệ CNC | F20: =VLOOKUP(F$1,'TEN HOC PHAN HKI'!$D$28:$F$39,2,0) -> Công nghệ CAD/CAM | G20: =VLOOKUP(G$1,'TEN HOC PHAN HKI'!$D$28:$F$39,2,0) -> Nguyên lý cắt kim loại | H20: =VLOOKUP(H$1,'TEN HOC PHAN HKI'!$D$28:$F$39,2,0) -> Đồ gá | I20: =VLOOKUP(I$1,'TEN HOC PHAN HKI'!$D$28:$F$39,2,0) -> 0 | J20: =VLOOKUP(J$1,'TEN HOC PHAN HKI'!$D$28:$F$39,2,0) -> Đồ án tính toán thiết kế hệ dẫn động cơ khí | ... N20: =VLOOKUP(N$1,'TEN HOC PHAN HKI'!$D$28:$F$39,2,0) -> 0
B21: TC13CĐCK5 | C21: =VLOOKUP(C$1,'TEN HOC PHAN HKI'!$D$28:$F$39,3,0) -> 2 | D21: =VLOOKUP(D$1,'TEN HOC PHAN HKI'!$D$28:$F$39,3,0) -> 2 | E21: =VLOOKUP(E$1,'TEN HOC PHAN HKI'!$D$28:$F$39,3,0) -> 3 | F21: =VLOOKUP(F$1,'TEN HOC PHAN HKI'!$D$28:$F$39,3,0) -> 3 | G21: =VLOOKUP(G$1,'TEN HOC PHAN HKI'!$D$28:$F$39,3,0) -> 2 | H21: =VLOOKUP(H$1,'TEN HOC PHAN HKI'!$D$28:$F$39,3,0) -> 2 | I21: =VLOOKUP(I$1,'TEN HOC PHAN HKI'!$D$28:$F$39,3,0) -> 0 | J21: =VLOOKUP(J$1,'TEN HOC PHAN HKI'!$D$28:$F$39,3,0) -> 1 | ... N21: =VLOOKUP(N$1,'TEN HOC PHAN HKI'!$D$28:$F$39,3,0) -> 0
A22: 1 | B22: 13CĐ-Ô1 | C22: =VLOOKUP(C$1,'TEN HOC PHAN HKI'!$D$40:$F$51,2,0) -> Ôtô | D22: =VLOOKUP(D$1,'TEN HOC PHAN HKI'!$D$40:$F$51,2,0) -> Công nghệ bảo dưỡng và sửa chữa ôtô | E22: =VLOOKUP(E$1,'TEN HOC PHAN HKI'!$D$40:$F$51,2,0) -> 0 | F22: =VLOOKUP(F$1,'TEN HOC PHAN HKI'!$D$40:$F$51,2,0) -> 0 | G22: =VLOOKUP(G$1,'TEN HOC PHAN HKI'!$D$40:$F$51,2,0) -> 0 | H22: =VLOOKUP(H$1,'TEN HOC PHAN HKI'!$D$40:$F$51,2,0) -> 0 | I22: =VLOOKUP(I$1,'TEN HOC PHAN HKI'!$D$40:$F$51,2,0) -> 0 | J22: =VLOOKUP(J$1,'TEN HOC PHAN HKI'!$D$40:$F$51,2,0) -> Đồ án môn học chi tiết máy | ... N22: =VLOOKUP(N$1,'TEN HOC PHAN HKI'!$D$40:$F$51,2,0) -> Thực tập Điện Ôtô 1
B23: TC13CĐÔ1 | C23: =VLOOKUP(C$1,'TEN HOC PHAN HKI'!$D$40:$F$51,3,0) -> 4 | D23: =VLOOKUP(D$1,'TEN HOC PHAN HKI'!$D$40:$F$51,3,0) -> 2 | E23: =VLOOKUP(E$1,'TEN HOC PHAN HKI'!$D$40:$F$51,3,0) -> 0 | F23: =VLOOKUP(F$1,'TEN HOC PHAN HKI'!$D$40:$F$51,3,0) -> 0 | G23: =VLOOKUP(G$1,'TEN HOC PHAN HKI'!$D$40:$F$51,3,0) -> 0 | H23: =VLOOKUP(H$1,'TEN HOC PHAN HKI'!$D$40:$F$51,3,0) -> 0 | I23: =VLOOKUP(I$1,'TEN HOC PHAN HKI'!$D$40:$F$51,3,0) -> 0 | J23: =VLOOKUP(J$1,'TEN HOC PHAN HKI'!$D$40:$F$51,3,0) -> 1 | ... N23: =VLOOKUP(N$1,'TEN HOC PHAN HKI'!$D$40:$F$51,3,0) -> 2
A24: 2 | B24: 13CĐ-Ô2 | C24: =VLOOKUP(C$1,'TEN HOC PHAN HKI'!$D$40:$F$51,2,0) -> Ôtô | D24: =VLOOKUP(D$1,'TEN HOC PHAN HKI'!$D$40:$F$51,2,0) -> Công nghệ bảo dưỡng và sửa chữa ôtô | E24: =VLOOKUP(E$1,'TEN HOC PHAN HKI'!$D$40:$F$51,2,0) -> 0 | F24: =VLOOKUP(F$1,'TEN HOC PHAN HKI'!$D$40:$F$51,2,0) -> 0 | G24: =VLOOKUP(G$1,'TEN HOC PHAN HKI'!$D$40:$F$51,2,0) -> 0 | H24: =VLOOKUP(H$1,'TEN HOC PHAN HKI'!$D$40:$F$51,2,0) -> 0 | I24: =VLOOKUP(I$1,'TEN HOC PHAN HKI'!$D$40:$F$51,2,0) -> 0 | J24: =VLOOKUP(J$1,'TEN HOC PHAN HKI'!$D$40:$F$51,2,0) -> Đồ án môn học chi tiết máy | ... N24: =VLOOKUP(N$1,'TEN HOC PHAN HKI'!$D$40:$F$51,2,0) -> Thực tập Điện Ôtô 1
B25: TC13CĐÔ2 | C25: =VLOOKUP(C$1,'TEN HOC PHAN HKI'!$D$40:$F$51,3,0) -> 4 | D25: =VLOOKUP(D$1,'TEN HOC PHAN HKI'!$D$40:$F$51,3,0) -> 2 | E25: =VLOOKUP(E$1,'TEN HOC PHAN HKI'!$D$40:$F$51,3,0) -> 0 | F25: =VLOOKUP(F$1,'TEN HOC PHAN HKI'!$D$40:$F$51,3,0) -> 0 | G25: =VLOOKUP(G$1,'TEN HOC PHAN HKI'!$D$40:$F$51,3,0) -> 0 | H25: =VLOOKUP(H$1,'TEN HOC PHAN HKI'!$D$40:$F$51,3,0) -> 0 | I25: =VLOOKUP(I$1,'TEN HOC PHAN HKI'!$D$40:$F$51,3,0) -> 0 | J25: =VLOOKUP(J$1,'TEN HOC PHAN HKI'!$D$40:$F$51,3,0) -> 1 | ... N25: =VLOOKUP(N$1,'TEN HOC PHAN HKI'!$D$40:$F$51,3,0) -> 2
A26: 3 | B26: 13CĐ-Ô3 | C26: =VLOOKUP(C$1,'TEN HOC PHAN HKI'!$D$40:$F$51,2,0) -> Ôtô | D26: =VLOOKUP(D$1,'TEN HOC PHAN HKI'!$D$40:$F$51,2,0) -> Công nghệ bảo dưỡng và sửa chữa ôtô | E26: =VLOOKUP(E$1,'TEN HOC PHAN HKI'!$D$40:$F$51,2,0) -> 0 | F26: =VLOOKUP(F$1,'TEN HOC PHAN HKI'!$D$40:$F$51,2,0) -> 0 | G26: =VLOOKUP(G$1,'TEN HOC PHAN HKI'!$D$40:$F$51,2,0) -> 0 | H26: =VLOOKUP(H$1,'TEN HOC PHAN HKI'!$D$40:$F$51,2,0) -> 0 | I26: =VLOOKUP(I$1,'TEN HOC PHAN HKI'!$D$40:$F$51,2,0) -> 0 | J26: =VLOOKUP(J$1,'TEN HOC PHAN HKI'!$D$40:$F$51,2,0) -> Đồ án môn học chi tiết máy | ... N26: =VLOOKUP(N$1,'TEN HOC PHAN HKI'!$D$40:$F$51,2,0) -> Thực tập Điện Ôtô 1
B27: TC13CĐÔ3 | C27: =VLOOKUP(C$1,'TEN HOC PHAN HKI'!$D$40:$F$51,3,0) -> 4 | D27: =VLOOKUP(D$1,'TEN HOC PHAN HKI'!$D$40:$F$51,3,0) -> 2 | E27: =VLOOKUP(E$1,'TEN HOC PHAN HKI'!$D$40:$F$51,3,0) -> 0 | F27: =VLOOKUP(F$1,'TEN HOC PHAN HKI'!$D$40:$F$51,3,0) -> 0 | G27: =VLOOKUP(G$1,'TEN HOC PHAN HKI'!$D$40:$F$51,3,0) -> 0 | H27: =VLOOKUP(H$1,'TEN HOC PHAN HKI'!$D$40:$F$51,3,0) -> 0 | I27: =VLOOKUP(I$1,'TEN HOC PHAN HKI'!$D$40:$F$51,3,0) -> 0 | J27: =VLOOKUP(J$1,'TEN HOC PHAN HKI'!$D$40:$F$51,3,0) -> 1 | ... N27: =VLOOKUP(N$1,'TEN HOC PHAN HKI'!$D$40:$F$51,3,0) -> 2
A28: 4 | B28: 13CĐ-Ô4 | C28: =VLOOKUP(C$1,'TEN HOC PHAN HKI'!$D$40:$F$51,2,0) -> Ôtô | D28: =VLOOKUP(D$1,'TEN HOC PHAN HKI'!$D$40:$F$51,2,0) -> Công nghệ bảo dưỡng và sửa chữa ôtô | E28: =VLOOKUP(E$1,'TEN HOC PHAN HKI'!$D$40:$F$51,2,0) -> 0 | F28: =VLOOKUP(F$1,'TEN HOC PHAN HKI'!$D$40:$F$51,2,0) -> 0 | G28: =VLOOKUP(G$1,'TEN HOC PHAN HKI'!$D$40:$F$51,2,0) -> 0 | H28: =VLOOKUP(H$1,'TEN HOC PHAN HKI'!$D$40:$F$51,2,0) -> 0 | I28: =VLOOKUP(I$1,'TEN HOC PHAN HKI'!$D$40:$F$51,2,0) -> 0 | J28: =VLOOKUP(J$1,'TEN HOC PHAN HKI'!$D$40:$F$51,2,0) -> Đồ án môn học chi tiết máy | ... N28: =VLOOKUP(N$1,'TEN HOC PHAN HKI'!$D$40:$F$51,2,0) -> Thực tập Điện Ôtô 1
B29: TC13CĐÔ4 | C29: =VLOOKUP(C$1,'TEN HOC PHAN HKI'!$D$40:$F$51,3,0) -> 4 | D29: =VLOOKUP(D$1,'TEN HOC PHAN HKI'!$D$40:$F$51,3,0) -> 2 | E29: =VLOOKUP(E$1,'TEN HOC PHAN HKI'!$D$40:$F$51,3,0) -> 0 | F29: =VLOOKUP(F$1,'TEN HOC PHAN HKI'!$D$40:$F$51,3,0) -> 0 | G29: =VLOOKUP(G$1,'TEN HOC PHAN HKI'!$D$40:$F$51,3,0) -> 0 | H29: =VLOOKUP(H$1,'TEN HOC PHAN HKI'!$D$40:$F$51,3,0) -> 0 | I29: =VLOOKUP(I$1,'TEN HOC PHAN HKI'!$D$40:$F$51,3,0) -> 0 | J29: =VLOOKUP(J$1,'TEN HOC PHAN HKI'!$D$40:$F$51,3,0) -> 1 | ... N29: =VLOOKUP(N$1,'TEN HOC PHAN HKI'!$D$40:$F$51,3,0) -> 2
A30: 1 | B30: 13CĐ-NL1 | C30: =VLOOKUP(C$1,'TEN HOC PHAN HKI'!$D$52:$F$63,2,0) -> Thiết bị đo và tự động điều khiển | D30: =VLOOKUP(D$1,'TEN HOC PHAN HKI'!$D$52:$F$63,2,0) -> Lò hơi công nghiệp | E30: =VLOOKUP(E$1,'TEN HOC PHAN HKI'!$D$52:$F$63,2,0) -> Thiết kế lắp đặt trạm lạnh | F30: =VLOOKUP(F$1,'TEN HOC PHAN HKI'!$D$52:$F$63,2,0) -> Vận hành bảo dưỡng và sửa chữa HTL | G30: =VLOOKUP(G$1,'TEN HOC PHAN HKI'!$D$52:$F$63,2,0) -> Kỹ thuật thông gió và hút bụi | H30: =VLOOKUP(H$1,'TEN HOC PHAN HKI'!$D$52:$F$63,2,0) -> 0 | I30: =VLOOKUP(I$1,'TEN HOC PHAN HKI'!$D$52:$F$63,2,0) -> 0 | J30: =VLOOKUP(J$1,'TEN HOC PHAN HKI'!$D$52:$F$63,2,0) -> 0 | ... N30: =VLOOKUP(N$1,'TEN HOC PHAN HKI'!$D$52:$F$63,2,0) -> 0
B31: TC13CĐNL1 | C31: =VLOOKUP(C$1,'TEN HOC PHAN HKI'!$D$52:$F$63,3,0) -> 2 | D31: =VLOOKUP(D$1,'TEN HOC PHAN HKI'!$D$52:$F$63,3,0) -> 2 | E31: =VLOOKUP(E$1,'TEN HOC PHAN HKI'!$D$52:$F$63,3,0) -> 2 | F31: =VLOOKUP(F$1,'TEN HOC PHAN HKI'!$D$52:$F$63,3,0) -> 2 | G31: =VLOOKUP(G$1,'TEN HOC PHAN HKI'!$D$52:$F$63,3,0) -> 2 | H31: =VLOOKUP(H$1,'TEN HOC PHAN HKI'!$D$52:$F$63,3,0) -> 0 | I31: =VLOOKUP(I$1,'TEN HOC PHAN HKI'!$D$52:$F$63,3,0) -> 0 | J31: =VLOOKUP(J$1,'TEN HOC PHAN HKI'!$D$52:$F$63,3,0) -> 0 | ... N31: =VLOOKUP(N$1,'TEN HOC PHAN HKI'!$D$52:$F$63,3,0) -> 0
A32: 2 | B32: 13CĐ-NL2 | C32: =VLOOKUP(C$1,'TEN HOC PHAN HKI'!$D$52:$F$63,2,0) -> Thiết bị đo và tự động điều khiển | D32: =VLOOKUP(D$1,'TEN HOC PHAN HKI'!$D$52:$F$63,2,0) -> Lò hơi công nghiệp | E32: =VLOOKUP(E$1,'TEN HOC PHAN HKI'!$D$52:$F$63,2,0) -> Thiết kế lắp đặt trạm lạnh | F32: =VLOOKUP(F$1,'TEN HOC PHAN HKI'!$D$52:$F$63,2,0) -> Vận hành bảo dưỡng và sửa chữa HTL | G32: =VLOOKUP(G$1,'TEN HOC PHAN HKI'!$D$52:$F$63,2,0) -> Kỹ thuật thông gió và hút bụi | H32: =VLOOKUP(H$1,'TEN HOC PHAN HKI'!$D$52:$F$63,2,0) -> 0 | I32: =VLOOKUP(I$1,'TEN HOC PHAN HKI'!$D$52:$F$63,2,0) -> 0 | J32: =VLOOKUP(J$1,'TEN HOC PHAN HKI'!$D$52:$F$63,2,0) -> 0 | ... N32: =VLOOKUP(N$1,'TEN HOC PHAN HKI'!$D$52:$F$63,2,0) -> 0
B33: TC13CĐNL2 | C33: =VLOOKUP(C$1,'TEN HOC PHAN HKI'!$D$52:$F$63,3,0) -> 2 | D33: =VLOOKUP(D$1,'TEN HOC PHAN HKI'!$D$52:$F$63,3,0) -> 2 | E33: =VLOOKUP(E$1,'TEN HOC PHAN HKI'!$D$52:$F$63,3,0) -> 2 | F33: =VLOOKUP(F$1,'TEN HOC PHAN HKI'!$D$52:$F$63,3,0) -> 2 | G33: =VLOOKUP(G$1,'TEN HOC PHAN HKI'!$D$52:$F$63,3,0) -> 2 | H33: =VLOOKUP(H$1,'TEN HOC PHAN HKI'!$D$52:$F$63,3,0) -> 0 | I33: =VLOOKUP(I$1,'TEN HOC PHAN HKI'!$D$52:$F$63,3,0) -> 0 | J33: =VLOOKUP(J$1,'TEN HOC PHAN HKI'!$D$52:$F$63,3,0) -> 0 | ... N33: =VLOOKUP(N$1,'TEN HOC PHAN HKI'!$D$52:$F$63,3,0) -> 0
A34: 1 | B34: 13CĐ-M | C34: =VLOOKUP(C$1,'TEN HOC PHAN HKI'!$D$64:$F$75,2,0) -> Quản lý chất lượng trang phục | D34: =VLOOKUP(D$1,'TEN HOC PHAN HKI'!$D$64:$F$75,2,0) -> Tổ chức và quản lý may công nghiệp | E34: =VLOOKUP(E$1,'TEN HOC PHAN HKI'!$D$64:$F$75,2,0) -> Quản lý đơn hàng | F34: =VLOOKUP(F$1,'TEN HOC PHAN HKI'!$D$64:$F$75,2,0) -> Thiết kế thời trang trên máy tính | G34: =VLOOKUP(G$1,'TEN HOC PHAN HKI'!$D$64:$F$75,2,0) -> 0 | H34: =VLOOKUP(H$1,'TEN HOC PHAN HKI'!$D$64:$F$75,2,0) -> 0 | I34: =VLOOKUP(I$1,'TEN HOC PHAN HKI'!$D$64:$F$75,2,0) -> 0 | J34: =VLOOKUP(J$1,'TEN HOC PHAN HKI'!$D$64:$F$75,2,0) -> Đồ án Thiết kế trang phục | ... N34: =VLOOKUP(N$1,'TEN HOC PHAN HKI'!$D$64:$F$75,2,0) -> 0
B35: TC13CĐM | C35: =VLOOKUP(C$1,'TEN HOC PHAN HKI'!$D$64:$F$75,3,0) -> 2 | D35: =VLOOKUP(D$1,'TEN HOC PHAN HKI'!$D$64:$F$75,3,0) -> 2 | E35: =VLOOKUP(E$1,'TEN HOC PHAN HKI'!$D$64:$F$75,3,0) -> 2 | F35: =VLOOKUP(F$1,'TEN HOC PHAN HKI'!$D$64:$F$75,3,0) -> 2 | G35: =VLOOKUP(G$1,'TEN HOC PHAN HKI'!$D$64:$F$75,3,0) -> 0 | H35: =VLOOKUP(H$1,'TEN HOC PHAN HKI'!$D$64:$F$75,3,0) -> 0 | I35: =VLOOKUP(I$1,'TEN HOC PHAN HKI'!$D$64:$F$75,3,0) -> 0 | J35: =VLOOKUP(J$1,'TEN HOC PHAN HKI'!$D$64:$F$75,3,0) -> 1 | ... N35: =VLOOKUP(N$1,'TEN HOC PHAN HKI'!$D$64:$F$75,3,0) -> 0
A36: 1 | B36: 13CĐ-TP1 | C36: =VLOOKUP(C$1,'TEN HOC PHAN HKI'!$D$76:$F$87,2,0) -> Kỹ năng giao tiếp | D36: =VLOOKUP(D$1,'TEN HOC PHAN HKI'!$D$76:$F$87,2,0) -> Lý thuyết đồ thị | E36: =VLOOKUP(E$1,'TEN HOC PHAN HKI'!$D$76:$F$87,2,0) -> Lập trình cơ sở dữ liệu | F36: =VLOOKUP(F$1,'TEN HOC PHAN HKI'!$D$76:$F$87,2,0) -> Lập trình PHP | G36: =VLOOKUP(G$1,'TEN HOC PHAN HKI'!$D$76:$F$87,2,0) -> 0 | H36: =VLOOKUP(H$1,'TEN HOC PHAN HKI'!$D$76:$F$87,2,0) -> 0 | I36: =VLOOKUP(I$1,'TEN HOC PHAN HKI'!$D$76:$F$87,2,0) -> 0 | J36: =VLOOKUP(J$1,'TEN HOC PHAN HKI'!$D$76:$F$87,2,0) -> 0 | ... N36: =VLOOKUP(N$1,'TEN HOC PHAN HKI'!$D$76:$F$87,2,0) -> 0
B37: TC13CĐTP1 | C37: =VLOOKUP(C$1,'TEN HOC PHAN HKI'!$D$76:$F$87,3,0) -> 2 | D37: =VLOOKUP(D$1,'TEN HOC PHAN HKI'!$D$76:$F$87,3,0) -> 2 | E37: =VLOOKUP(E$1,'TEN HOC PHAN HKI'!$D$76:$F$87,3,0) -> 4 | F37: =VLOOKUP(F$1,'TEN HOC PHAN HKI'!$D$76:$F$87,3,0) -> 5 | G37: =VLOOKUP(G$1,'TEN HOC PHAN HKI'!$D$76:$F$87,3,0) -> 0 | H37: =VLOOKUP(H$1,'TEN HOC PHAN HKI'!$D$76:$F$87,3,0) -> 0 | I37: =VLOOKUP(I$1,'TEN HOC PHAN HKI'!$D$76:$F$87,3,0) -> 0 | J37: =VLOOKUP(J$1,'TEN HOC PHAN HKI'!$D$76:$F$87,3,0) -> 0 | ... N37: =VLOOKUP(N$1,'TEN HOC PHAN HKI'!$D$76:$F$87,3,0) -> 0
A38: 2 | B38: 13CĐ-TP2 | C38: =VLOOKUP(C$1,'TEN HOC PHAN HKI'!$D$76:$F$87,2,0) -> Kỹ năng giao tiếp | D38: =VLOOKUP(D$1,'TEN HOC PHAN HKI'!$D$76:$F$87,2,0) -> Lý thuyết đồ thị | E38: =VLOOKUP(E$1,'TEN HOC PHAN HKI'!$D$76:$F$87,2,0) -> Lập trình cơ sở dữ liệu | F38: =VLOOKUP(F$1,'TEN HOC PHAN HKI'!$D$76:$F$87,2,0) -> Lập trình PHP | G38: =VLOOKUP(G$1,'TEN HOC PHAN HKI'!$D$76:$F$87,2,0) -> 0 | H38: =VLOOKUP(H$1,'TEN HOC PHAN HKI'!$D$76:$F$87,2,0) -> 0 | I38: =VLOOKUP(I$1,'TEN HOC PHAN HKI'!$D$76:$F$87,2,0) -> 0 | J38: =VLOOKUP(J$1,'TEN HOC PHAN HKI'!$D$76:$F$87,2,0) -> 0 | ... N38: =VLOOKUP(N$1,'TEN HOC PHAN HKI'!$D$76:$F$87,2,0) -> 0
B39: TC13CĐTP2 | C39: =VLOOKUP(C$1,'TEN HOC PHAN HKI'!$D$76:$F$87,3,0) -> 2 | D39: =VLOOKUP(D$1,'TEN HOC PHAN HKI'!$D$76:$F$87,3,0) -> 2 | E39: =VLOOKUP(E$1,'TEN HOC PHAN HKI'!$D$76:$F$87,3,0) -> 4 | F39: =VLOOKUP(F$1,'TEN HOC PHAN HKI'!$D$76:$F$87,3,0) -> 5 | G39: =VLOOKUP(G$1,'TEN HOC PHAN HKI'!$D$76:$F$87,3,0) -> 0 | H39: =VLOOKUP(H$1,'TEN HOC PHAN HKI'!$D$76:$F$87,3,0) -> 0 | I39: =VLOOKUP(I$1,'TEN HOC PHAN HKI'!$D$76:$F$87,3,0) -> 0 | J39: =VLOOKUP(J$1,'TEN HOC PHAN HKI'!$D$76:$F$87,3,0) -> 0 | ... N39: =VLOOKUP(N$1,'TEN HOC PHAN HKI'!$D$76:$F$87,3,0) -> 0
A40: 1 | B40: 13CĐ-TM1 | C40: =VLOOKUP(C$1,'TEN HOC PHAN HKI'!$D$88:$F$99,2,0) -> Kỹ năng giao tiếp | D40: =VLOOKUP(D$1,'TEN HOC PHAN HKI'!$D$88:$F$99,2,0) -> Lý thuyết đồ thị | E40: =VLOOKUP(E$1,'TEN HOC PHAN HKI'!$D$88:$F$99,2,0) -> Phương pháp nghiên cứu khoa học | F40: =VLOOKUP(F$1,'TEN HOC PHAN HKI'!$D$88:$F$99,2,0) -> Thiết kế Web | G40: =VLOOKUP(G$1,'TEN HOC PHAN HKI'!$D$88:$F$99,2,0) -> Mạng Linux 1 | H40: =VLOOKUP(H$1,'TEN HOC PHAN HKI'!$D$88:$F$99,2,0) -> Mạng nâng cao | I40: =VLOOKUP(I$1,'TEN HOC PHAN HKI'!$D$88:$F$99,2,0) -> 0 | J40: =VLOOKUP(J$1,'TEN HOC PHAN HKI'!$D$88:$F$99,2,0) -> 0 | ... N40: =VLOOKUP(N$1,'TEN HOC PHAN HKI'!$D$88:$F$99,2,0) -> 0
...

Sheet Hướng dẫn
A1: Quy trình nhập điểm tổng kết Học kỳ CĐKT theo tín chỉ
A2: STT | B2: Bảng tính thao tác | C2: Công việc thực hiện
A3: 1 | B3: Vào bảng tính DS LOP HKI | C3: Kích vào nút mũi tên của cột Lớp, chọn tên lớp, sau đó chọn toàn bộ MSSV (mã số sinh viên) của lớp, nhấn phím Ctrl-C để chép mã số SV.
A4: 2 | B4: Vào bảng tính HKI | C4: Kích vào ô đầu tiên của mã số sinh viên (ô B11), nhấn Ctrl-V.
C5: Ghi chú: Danh sách SV, tên các HP và số đơn vị học trình sẽ được truyền tự động vào cho các bảng tính của HKI và bảng điểm từng HP
A6: 3 | B6: Vào bảng tính TEN HOC PHAN HKI | C6: Tên học phần và số Đơn vị học trình đã được đưa vào các bảng tính tương ứng theo lớp, Quý Thầy Cô vào bảng tính này để biết học phần muốn nhập điểm nằm ở bảng tính nào.
A7: 4 | B7: Vào bảng tính "LT01, …, TH03" tương ứng với học phần "LT01, …, TH03" quy định trong bước 3 | C7: Coppy các điểm thành phần (từ cột E đến cột M) từ bảng điểm học phần (được gửi kèm) vào từng cột tương ứng trong các sheet LT01, … , TH01, … trong bảng tính này
C8: Ghi chú: Thứ tự danh sách trong các bảng tính đã thống nhất, do đó bắt buộc đảm bảo độ chính xác giữa các điểm thành phần với MSSV tương ứng. Nên kiểm tra lại sự thống nhất danh sách trong sổ tay giảng viên và danh sách trong file để tránh nhập điểm sai.
A9: 5 | B9: Lặp lại bước 4 cho các học phần còn lại
A10: 6 | B10: Vào bảng tính HKI | C10: Nhập hệ chuẩn vào cột E, số ngày nghỉ có phép vào cột F, số ngày không phép vào cột G.
C11: Cột GHI CHÚ điền vào các thông tin về hình thức kỷ luật (nếu có)
C12: Ghi chú: Trước khi thông báo kết quả học tập cho SV, xin quý Thầy Cô gửi file thông qua địa chỉ email của phòng (kqht.lytutrong@gmail.com) để kiểm tra, đối chiếu với các bảng điểm tổng kết học phần nhằm hạn chế sai sót. Nếu bảng tính có sai sót, phòng sẽ báo bằng email cho quý Thầy Cô.
C13: Nhập điểm kết quả rèn luyện vào cột BF
C14: Khi muốn in bảng tổng kết, nên che giấu (ẩn) các vị trí cột (hàng) không có điểm bằng cách chọn các cột (hàng) đó, rồi click chuột phải → Hide
A15: Để thống nhất trong việc quản lý điểm số của HSSV trong toàn trường, sau khi hoàn thành bảng tính, xin Quý Thầy Cô lưu lại file theo định dạng: tenlop_hocky_nămhọc (ví dụ 13CD-NL1_HKI_15-16) và gửi bằng email cho Khoa, Phòng TS-Đào tạo-GTVL : kqht.lytutrong@gmail.com.
A16: Các bảng tính: TEN HOC PHAN HKI; LOP-MON; DS LOP HKI là các bảng tính nền cơ sở, xin quý Thầy Cô đừng chỉnh sửa, để tránh sai sót, nhầm lẫn trong quá trình nhập điểm tổng kết.
A17: Nếu Quý Thầy Cô có vướng mắc gì, xin gửi email qua địa chỉ: kqht.lytutrong@gmail.com hoặc liên hệ trực tiếp với Phòng TS-Đào tạo-GTVL

Sheet DS LOP HKI
A1: STT | B1: MSSV | C1: Họ | D1: Tên | E1: Ngày sinh | F1: Lớp | G1: Phái | H1: Hệ | I1: ="Khoá 13CĐ = "&COUNTIF(J:J,"13") -> Khoá 13CĐ = 950 | K1: DS ngày 11/10/2015 | N1: =MAX(A:A) -> 65
A2: 1 | B2: 13D3010005 | C2: Nguyễn Thành | D2: Chung | E2: 10.02.94 | F2: 13CĐ-ĐT1 | H2: B | J2: =LEFT(F2,2) -> 13
A3: 2 | B3: 13D3010008 | C3: Nguyễn Quốc | D3: Cường | E3: 09.04.95 | F3: 13CĐ-ĐT1 | H3: A | I3: ĐT3 | J3: =LEFT(F3,2) -> 13
A4: 3 | B4: 13D3010018 | C4: Nguyễn Hải | D4: Đăng | E4: 19.05.95 | F4: 13CĐ-ĐT1 | H4: B | J4: =LEFT(F4,2) -> 13
A5: 4 | B5: 13D3010076 | C5: Lữ Đình | D5: Đạt | E5: 01.05.95 | F5: 13CĐ-ĐT1 | H5: B | I5: ĐT3 | J5: =LEFT(F5,2) -> 13
A6: 5 | B6: 13D3010010 | C6: Bùi Thanh | D6: Diễn | E6: 12.05.95 | F6: 13CĐ-ĐT1 | H6: B | J6: =LEFT(F6,2) -> 13
A7: 6 | B7: 13D3010022 | C7: Nguyễn Trung | D7: Đức | E7: 15.02.95 | F7: 13CĐ-ĐT1 | H7: A | J7: =LEFT(F7,2) -> 13
A8: 7 | B8: 13D3010012 | C8: Phạm Văn | D8: Dũng | E8: 03.08.94 | F8: 13CĐ-ĐT1 | H8: B | I8: ĐT3 | J8: =LEFT(F8,2) -> 13
A9: 8 | B9: 13D3010014 | C9: Nguyễn Khánh | D9: Duy | E9: 26.09.95 | F9: 13CĐ-ĐT1 | H9: B | J9: =LEFT(F9,2) -> 13
A10: 9 | B10: 13D3010024 | C10: Hồ Thanh | D10: Hải | E10: 03.12.95 | F10: 13CĐ-ĐT1 | H10: A | I10: ĐT3 | J10: =LEFT(F10,2) -> 13
A11: 10 | B11: 13D3010026 | C11: Phạm Giang | D11: Hải | E11: 20.05.95 | F11: 13CĐ-ĐT1 | H11: B | I11: CL.T.Minh | J11: =LEFT(F11,2) -> 13
A12: 11 | B12: 13D3010027 | C12: Trần Văn | D12: Hạnh | E12: 14.02.95 | F12: 13CĐ-ĐT1 | H12: B | J12: =LEFT(F12,2) -> 13
A13: 12 | B13: 13D3010029 | C13: Nguyễn Tấn Anh | D13: Hào | E13: 05.04.95 | F13: 13CĐ-ĐT1 | H13: A | I13: ĐT3 | J13: =LEFT(F13,2) -> 13
A14: 13 | B14: 13D3010039 | C14: Nguyễn Văn | D14: Hoanh | E14: 14.10.95 | F14: 13CĐ-ĐT1 | H14: B | J14: =LEFT(F14,2) -> 13
A15: 14 | B15: 13D3010041 | C15: Nguyễn Minh | D15: Hùng | E15: 08.05.94 | F15: 13CĐ-ĐT1 | H15: B | I15: ĐT3 | J15: =LEFT(F15,2) -> 13
A16: 15 | B16: 13D3010045 | C16: Lê Thành | D16: Huy | E16: 25.04.95 | F16: 13CĐ-ĐT1 | H16: B | J16: =LEFT(F16,2) -> 13
A17: 16 | B17: 13D3010047 | C17: Nguyễn Thái | D17: Huy | E17: 14.04.95 | F17: 13CĐ-ĐT1 | H17: B | I17: ĐT3-con TB 4/4 | J17: =LEFT(F17,2) -> 13
A18: 17 | B18: 13D3010051 | C18: Huỳnh Duy | D18: Khánh | E18: 09.10.95 | F18: 13CĐ-ĐT1 | H18: B | J18: =LEFT(F18,2) -> 13
A19: 18 | B19: 13D3010053 | C19: Đỗ Đăng | D19: Khoa | E19: 01.01.94 | F19: 13CĐ-ĐT1 | H19: B | I19: ĐT3 | J19: =LEFT(F19,2) -> 13
A20: 19 | B20: 13D3010056 | C20: Phan Trung | D20: Kiên | E20: 13.03.95 | F20: 13CĐ-ĐT1 | H20: B | I20: ĐT3 | J20: =LEFT(F20,2) -> 13
A21: 20 | B21: 13D3010057 | C21: Trần Văn | D21: Kiệt | E21: 10.05.95 | F21: 13CĐ-ĐT1 | H21: B | J21: =LEFT(F21,2) -> 13
A22: 21 | B22: 13D3010063 | C22: Trần Văn | D22: Linh | E22: 08.10.94 | F22: 13CĐ-ĐT1 | H22: B | J22: =LEFT(F22,2) -> 13
A23: 22 | B23: 13D3010069 | C23: Nguyễn Công | D23: Minh | E23: 10.01.95 | F23: 13CĐ-ĐT1 | H23: B | I23: ĐT3 | J23: =LEFT(F23,2) -> 13
A24: 23 | B24: 13D3010073 | C24: Trịnh Phương | D24: Nam | E24: 21.02.95 | F24: 13CĐ-ĐT1 | H24: A | J24: =LEFT(F24,2) -> 13
A25: 24 | B25: 13D3010077 | C25: Lâm Trọng | D25: Nhân | E25: 04.09.95 | F25: 13CĐ-ĐT1 | G25: LT | H25: B | J25: =LEFT(F25,2) -> 13
A26: 25 | B26: 13D3010042 | C26: Nguyễn Sinh | D26: Nhật | E26: 12.01.95 | F26: 13CĐ-ĐT1 | H26: B | J26: =LEFT(F26,2) -> 13
A27: 26 | B27: 13D3010079 | C27: Hồ Đình | D27: Nhựt | E27: 07.02.95 | F27: 13CĐ-ĐT1 | H27: B | I27: ĐT3 | J27: =LEFT(F27,2) -> 13
A28: 27 | B28: 13D3010086 | C28: Viên Ngọc | D28: Phú | E28: 09.11.95 | F28: 13CĐ-ĐT1 | H28: B | J28: =LEFT(F28,2) -> 13
A29: 28 | B29: 13D3010091 | C29: Võ Thế | D29: Phúc | E29: 18.03.95 | F29: 13CĐ-ĐT1 | H29: B | I29: ĐT3 | J29: =LEFT(F29,2) -> 13
A30: 29 | B30: 13D3010092 | C30: Nguyễn Anh | D30: Phụng | E30: 19.05.95 | F30: 13CĐ-ĐT1 | H30: B | J30: =LEFT(F30,2) -> 13
A31: 30 | B31: 13D3010094 | C31: Phạm Hữu | D31: Phước | E31: 18.11.95 | F31: 13CĐ-ĐT1 | H31: B | I31: ĐT3 | J31: =LEFT(F31,2) -> 13
A32: 31 | B32: 13D3010095 | C32: Trịnh Ngọc | D32: Phước | E32: 12.12.95 | F32: 13CĐ-ĐT1 | H32: B | J32: =LEFT(F32,2) -> 13
A33: 32 | B33: 13D3010098 | C33: Nguyễn Minh | D33: Phương | E33: 20.03.94 | F33: 13CĐ-ĐT1 | G33: Nữ | H33: B | J33: =LEFT(F33,2) -> 13
A34: 33 | B34: 13D3010099 | C34: Trương Thái | D34: Quốc | E34: 11.01.95 | F34: 13CĐ-ĐT1 | H34: B | J34: =LEFT(F34,2) -> 13
A35: 34 | B35: 13D3010101 | C35: Vòng Đông | D35: Quý | E35: 09.02.94 | F35: 13CĐ-ĐT1 | H35: B | I35: ĐT3-DT.Hoa | J35: =LEFT(F35,2) -> 13
A36: 35 | B36: 13D3010102 | C36: Nguyễn Đức | D36: Quynh | E36: 15.10.94 | F36: 13CĐ-ĐT1 | H36: B | J36: =LEFT(F36,2) -> 13
A37: 36 | B37: 13D3010104 | C37: Đặng Kỳ | D37: Sơn | E37: 16.07.95 | F37: 13CĐ-ĐT1 | H37: B | I37: ĐT3 | J37: =LEFT(F37,2) -> 13
A38: 37 | B38: 13D3010105 | C38: Nguyễn Công | D38: Sơn | E38: 05.04.95 | F38: 13CĐ-ĐT1 | H38: B | J38: =LEFT(F38,2) -> 13
A39: 38 | B39: 13D3010107 | C39: Ngô Văn | D39: Tạc | E39: 26.01.95 | F39: 13CĐ-ĐT1 | H39: B | I39: ĐT3 | J39: =LEFT(F39,2) -> 13
A40: 39 | B40: 13D3010110 | C40: Phan Chí | D40: Tài | E40: 15.02.95 | F40: 13CĐ-ĐT1 | H40: B | I40: ĐT3 | J40: =LEFT(F40,2) -> 13
...

Sheet HKI
A1: UBND THÀNH PHỐ HỒ CHÍ MINH | BD1: CỘNG HÒA XÃ HỘI CHỦ NGHĨA VIỆT NAM | BU1: =$H6 -> Đường lối CM của Đảng cộng sản VN | BV1: =$L6 -> Điều khiển lập trình PLC 1 | BW1: =$P6 -> Truyền động điện và ứng dụng | BX1: =$T6 -> Nhà máy điện và trạm biến áp | BY1: =$X6 -> Điện công nghiệp | BZ1: =$AB6 | CA1: =$AF6 | CB1: =$AJ6 | CC1: =$AN6 | CD1: =$AR6 -> Thực tập Máy điện | CE1: =$AV6 -> Thực tập Vi xử lý và PLC | CF1: =$AZ6 -> Thực tập Đo lường cảm biến | CH1: =$H6 -> Đường lối CM của Đảng cộng sản VN | CI1: =$L6 -> Điều khiển lập trình PLC 1 | CJ1: =$P6 -> Truyền động điện và ứng dụng | CK1: =$T6 -> Nhà máy điện và trạm biến áp | CL1: =$X6 -> Điện công nghiệp | CM1: =$AB6 | CN1: =$AF6 | CO1: =$AJ6 | CP1: =$AN6 | CQ1: =$AR6 -> Thực tập Máy điện | CR1: =$AV6 -> Thực tập Vi xử lý và PLC | CS1: =$AZ6 -> Thực tập Đo lường cảm biến | CU1: =$H6 -> Đường lối CM của Đảng cộng sản VN | CV1: =$L6 -> Điều khiển lập trình PLC 1 | CW1: =$P6 -> Truyền động điện và ứng dụng | CX1: =$T6 -> Nhà máy điện và trạm biến áp | CY1: =$X6 -> Điện công nghiệp | CZ1: =$AB6 | DA1: =$AF6 | DB1: =$AJ6 | DC1: =$AN6 | DD1: =$AR6 -> Thực tập Máy điện | DE1: =$AV6 -> Thực tập Vi xử lý và PLC | DF1: =$AZ6 -> Thực tập Đo lường cảm biến | DH1: =$H6 -> Đường lối CM của Đảng cộng sản VN | DI1: =$L6 -> Điều khiển lập trình PLC 1 | DJ1: =$P6 -> Truyền động điện và ứng dụng | DK1: =$T6 -> Nhà máy điện và trạm biến áp | DL1: =$X6 -> Điện công nghiệp | DM1: =$AB6 | DN1: =$AF6 | DO1: =$AJ6 | DP1: =$AN6 | DQ1: =$AR6 -> Thực tập Máy điện | DR1: =$AV6 -> Thực tập Vi xử lý và PLC | DS1: =$AZ6 -> Thực tập Đo lường cảm biến | DT1: =$H6 -> Đường lối CM của Đảng cộng sản VN | DU1: =$L6 -> Điều khiển lập trình PLC 1 | DV1: =$P6 -> Truyền động điện và ứng dụng | DW1: =$T6 -> Nhà máy điện và trạm biến áp | DX1: =$X6 -> Điện công nghiệp | DY1: =$AB6 | DZ1: =$AF6 | EA1: =$AJ6 | EB1: =$AN6 | EC1: =$AR6 -> Thực tập Máy điện | ED1: =$AV6 -> Thực tập Vi xử lý và PLC | EE1: =$AZ6 -> Thực tập Đo lường cảm biến | EG1: =$H6 -> Đường lối CM của Đảng cộng sản VN | EH1: =$L6 -> Điều khiển lập trình PLC 1 | EI1: =$P6 -> Truyền động điện và ứng dụng | EJ1: =$T6 -> Nhà máy điện và trạm biến áp | EK1: =$X6 -> Điện công nghiệp | EL1: =$AB6 | EM1: =$AF6 | EN1: =$AJ6 | EO1: =$AN6 | EP1: =$AR6 -> Thực tập Máy điện | EQ1: =$AV6 -> Thực tập Vi xử lý và PLC | ER1: =$AZ6 -> Thực tập Đo lường cảm biến
A2: TRƯỜNG CAO ĐẲNG KỸ THUẬT LÝ TỰ TRỌNG TP. HỒ CHÍ MINH | BD2: Độc lập - Tự do - Hạnh phúc
C3: LỚP: | D3: =IF($B11="","",IF(ISNA(VLOOKUP($B11,'DS LOP HKI'!$B$2:$F$936,5,FALSE))=TRUE,"",VLOOKUP($B11,'DS LOP HKI'!$B$2:$F$936,5,FALSE))) -> 13CĐ-Đ1 | G3: SĨ SỐ: | I3: =IF(B11="",0,MAX($A$11:$A$89)) -> 50
A4: BẢNG TỔNG KẾT HỌC TẬP HỌC KỲ I NĂM HỌC 2015 - 2016
B5: 1 | C5: 2 | D5: 3 | E5: 4 | F5: 5 | G5: 6 | H5: 7 | I5: 8 | J5: 9 | K5: 10 | L5: 11 | M5: 12 | N5: 13 | O5: 14 | P5: 15 | Q5: 16 | R5: 17 | S5: 18 | T5: 19 | U5: 20 | V5: 21 | W5: 22 | X5: 23 | Y5: 24 | Z5: 25 | AA5: 26 | AB5: 27 | AC5: 28 | AD5: 29 | AE5: 30 | AF5: 31 | AG5: 32 | AH5: 33 | AI5: 34 | AJ5: 35 | AK5: 36 | AL5: 37 | AM5: 38 | AR5: 39 | AS5: 40 | AT5: 41 | AU5: 42 | AV5: 43 | AW5: 44 | AX5: 45 | AY5: 46 | AZ5: 47 | BA5: 48 | BB5: 49 | BC5: 50 | BD5: 51 | BE5: 52 | BF5: 53 | BG5: 54 | BH5: 55 | BI5: 56 | BJ5: 57 | BK5: 58 | BL5: 59 | BM5: 60 | BN5: 61 | BO5: 62 | BP5: 63 | BQ5: 64 | BR5: 65 | BS5: 67
A6: Số thứ tự | B6: HỌC PHẦN | H6: =IF('LT01'!$C$6="","",'LT01'!$C$6) -> Đường lối CM của Đảng cộng sản VN | L6: =IF('LT02'!$C$6="","",'LT02'!$C$6) -> Điều khiển lập trình PLC 1 | P6: ='LT03'!$C$6 -> Truyền động điện và ứng dụng | T6: ='LT04'!$C$6 -> Nhà máy điện và trạm biến áp | X6: ='LT05'!$C$6 -> Điện công nghiệp | AB6: ='LT06'!$C$6 | AF6: ='LT07'!$C$6 | AJ6: ='DO AN'!$C$6 | AN6: ='DO AN 2'!$C$6 | AR6: ='TH01'!$C$6 -> Thực tập Máy điện | AV6: ='TH02'!$C$6 -> Thực tập Vi xử lý và PLC | AZ6: ='TH03'!$C$6 -> Thực tập Đo lường cảm biến | BD6: TBC HỌC TẬP | BF6: KẾT QUẢ RÈN LUYỆN | BG6: XẾP LOẠI HỌC TẬP | BI6: KHEN THƯỞNG | BJ6: CẢNH BÁO KẾT QUẢ HỌC TẬP | BK6: SỐ TC ĐÃ TÍCH LUỸ SAU KỲ THI CHÍNH | BL6: SỐ TC NỢ SAU KỲ THI CHÍNH | BM6: SỐ TC ĐÃ TÍCH LUỸ SAU KỲ THI PHỤ | BN6: SỐ TC NỢ SAU KỲ THI PHỤ | BO6: ĐIỂM TBC TÍCH LUỸ SAU KỲ THI CHÍNH | BP6: HẠNG HỌC LỰC SAU KỲ THI CHÍNH | BQ6: ĐIỂM TBC TÍCH LUỸ SAU KỲ THI PHỤ | BR6: HẠNG HỌC LỰC SAU KỲ THI PHỤ | BS6: GHI CHÚ
B7: SỐ TÍN CHỈ | H7: =IF('LT01'!$I$6="","",'LT01'!$I$6) -> 3 | L7: =IF('LT02'!$I$6="","",'LT02'!$I$6) -> 2 | P7: ='LT03'!$I$6 -> 2 | T7: ='LT04'!$I$6 -> 2 | X7: ='LT05'!$I$6 -> 3 | AB7: ='LT06'!$I$6 | AF7: ='LT07'!$I$6 | AJ7: ='DO AN'!$J$6 | AN7: ='DO AN 2'!$J$6 | AR7: ='TH01'!$J$6 -> 2 | AV7: ='TH02'!J6 -> 2 | AZ7: ='TH03'!J6 -> 2 | BD7: =SUM(H7:BC7) -> 18 | BT7: Đếm cột thi chính <5 | BU7: ĐIỂM THI CHÍNH | CG7: Đếm cột HP chính <4 | CH7: =$H$7 -> 3 | CI7: =$L$7 -> 2 | CJ7: =$P$7 -> 2 | CK7: =$T$7 -> 2 | CL7: =$X$7 -> 3 | CM7: =$AB$7 | CN7: =$AF$7 | CO7: =$AJ$7 | CP7: =$AN$7 | CQ7: =$AR$7 -> 2 | CR7: =$AV$7 -> 2 | CS7: =$AZ$7 -> 2 | CU7: =$H$7 -> 3 | CV7: =$L$7 -> 2 | CW7: =$P$7 -> 2 | CX7: =$T$7 -> 2 | CY7: =$X$7 -> 3 | CZ7: =$AB$7 | DA7: =$AF$7 | DB7: =$AJ$7 | DC7: =$AN$7 | DD7: =$AR$7 -> 2 | DE7: =$AV$7 -> 2 | DF7: =$AZ$7 -> 2 | DT7: =$H$7 -> 3 | DU7: =$L$7 -> 2 | DV7: =$P$7 -> 2 | DW7: =$T$7 -> 2 | DX7: =$X$7 -> 3 | DY7: =$AB$7 | DZ7: =$AF$7 | EA7: =$AJ$7 | EB7: =$AN$7 | EC7: =$AR$7 -> 2 | ED7: =$AV$7 -> 2 | EE7: =$AZ$7 -> 2 | EG7: =$H$7 -> 3 | EH7: =$L$7 -> 2 | EI7: =$P$7 -> 2 | EJ7: =$T$7 -> 2 | EK7: =$X$7 -> 3 | EL7: =$AB$7 | EM7: =$AF$7 | EN7: =$AJ$7 | EO7: =$AN$7 | EP7: =$AR$7 -> 2 | EQ7: =$AV$7 -> 2 | ER7: =$AZ$7 -> 2
B8: MSSV | C8: Họ tên sinh viên | E8: HỆ CHUẨN | F8: NGÀY NGHỈ | H8: Thi Chính | I8: HP Chính | J8: Thi Phụ | K8: HP Phụ | L8: Thi Chính | M8: HP Chính | N8: Thi Phụ | O8: HP Phụ | P8: Thi Chính | Q8: HP Chính | R8: Thi Phụ | S8: HP Phụ | T8: Thi Chính | U8: HP Chính | V8: Thi Phụ | W8: HP Phụ | X8: Thi Chính | Y8: HP Chính | Z8: Thi Phụ | AA8: HP Phụ | AB8: Thi Chính | AC8: HP Chính | AD8: Thi Phụ | AE8: HP Phụ | AF8: Thi Chính | AG8: HP Chính | AH8: Thi Phụ | AI8: HP Phụ | AJ8: Thi Chính | AK8: HP Chính | AL8: Thi Phụ | AM8: HP Phụ | AN8: Thi Chính | AO8: HP Chính | AP8: Thi Phụ | AQ8: HP Phụ | AR8: Thi Chính | AS8: HP Chính | AT8: Thi Phụ | AU8: HP Phụ | AV8: Thi Chính | AW8: HP Chính | AX8: Thi Phụ | AY8: HP Phụ | AZ8: Thi Chính | BA8: HP Chính | BB8: Thi Phụ | BC8: HP Phụ | BD8: Kỳ Thi Chính | BE8: Kỳ Thi Phụ | BG8: Kỳ Thi Chính | BH8: Kỳ Thi Phụ | CH8: ĐIỂM HỌC PHẦN CHÍNH | CU8: ĐIỂM TRUNG BÌNH CHUNG TÍCH LŨY SAU KỲ THI CHÍNH | DH8: ĐIỂM HỌC PHẦN PHỤ THEO ĐIỂM THI PHỤ | DT8: TÍNH LẠI ĐIỂM HỌC PHẦN PHỤ | EG8: ĐIỂM TRUNG BÌNH CHUNG TÍCH LŨY SAU KỲ THI PHỤ
F9: P | G9: K
A10: (1) | B10: (2) | C10: (3) | E10: (4) | F10: (5) | G10: (6) | H10: (7) | L10: (8) | P10: (9) | T10: (10) | X10: (11) | AB10: (12) | AF10: (13) | AJ10: (14) | AN10: (15) | AR10: (16) | AV10: (17) | AZ10: (18) | BD10: (19) | BE10: (20) | BF10: (21) | BG10: (22) | BH10: (23) | BI10: (24) | BJ10: (25) | BK10: (26) | BL10: (27) | BM10: (28) | BN10: (29) | BO10: (30) | BP10: (31) | BQ10: (32) | BR10: (33) | BS10: (34)
A11: =IF($B11="","",SUBTOTAL(3,$B$11:B11)) -> 1 | B11: 13D301Đ001 | C11: =IF($B11="","",VLOOKUP($B11,'DS LOP HKI'!$B$2:$D$951,2,0)) -> Lương Hoàng Thuận | D11: =IF($B11="","",VLOOKUP($B11,'DS LOP HKI'!$B$2:$D$951,3,0)) -> An | G11: 2 | H11: =IF(OR($H$6="",$H$7=""),"",IF($B11="","",IF(ISNA(VLOOKUP($B11,'LT01'!$B$11:$M$80,12,FALSE)),"",IF(VLOOKUP($B11,'LT01'!$B$11:$M$80,12,FALSE)="","",VLOOKUP($B11,'LT01'!$B$11:$M$80,12,FALSE))))) -> 7 | I11: =IF(OR($H$6="",$H$7=""),"",IF($B11="","",IF(ISNA(VLOOKUP($B11,'LT01'!$B$11:$N$80,13,FALSE)),"",VLOOKUP($B11,'LT01'!$B$11:$N$80,13,FALSE)))) -> 7.1 | K11: =IF(OR($H$6="",$H$7=""),"",IF($B11="","",IF(ISNA(VLOOKUP($B11,'LT01'!$B$11:$Q$80,16,FALSE)),"",IF(VLOOKUP($B11,'LT01'!$B$11:$Q$80,16,FALSE)="","",VLOOKUP($B11,'LT01'!$B$11:$Q$80,16,FALSE))))) | L11: =IF(OR($L$6="",$L$7=""),"",IF($B11="","",IF(ISNA(VLOOKUP($B11,'LT02'!$B$11:$M$80,12,FALSE)),"",IF(VLOOKUP($B11,'LT02'!$B$11:$M$80,12,FALSE)="","",VLOOKUP($B11,'LT02'!$B$11:$M$80,12,FALSE))))) -> 9.3 | M11: =IF(OR($L$6="",$L$7=""),"",IF($B11="","",IF(ISNA(VLOOKUP($B11,'LT02'!$B$11:$N$80,13,FALSE)),"",VLOOKUP($B11,'LT02'!$B$11:$N$80,13,FALSE)))) -> 8.5 | O11: =IF(OR($L$6="",$L$7=""),"",IF($B11="","",IF(ISNA(VLOOKUP($B11,'LT02'!$B$11:$Q$80,16,FALSE)),"",VLOOKUP($B11,'LT02'!$B$11:$Q$80,16,FALSE)))) | P11: =IF(OR($P$6="",$P$7=""),"",IF($B11="","",IF(ISNA(VLOOKUP($B11,'LT03'!$B$11:$M$80,12,FALSE)),"",IF(VLOOKUP($B11,'LT03'!$B$11:$M$80,12,FALSE)="","",VLOOKUP($B11,'LT03'!$B$11:$M$80,12,FALSE))))) -> 4.5 | Q11: =IF(OR($P$6="",$P$7=""),"",IF($B11="","",IF(ISNA(VLOOKUP($B11,'LT03'!$B$11:$N$80,13,FALSE)),"",VLOOKUP($B11,'LT03'!$B$11:$N$80,13,FALSE)))) -> 5.3 | S11: =IF(OR($P$6="",$P$7=""),"",IF($B11="","",IF(ISNA(VLOOKUP($B11,'LT03'!$B$11:$Q$80,16,FALSE)),"",VLOOKUP($B11,'LT03'!$B$11:$Q$80,16,FALSE)))) | T11: =IF(OR($T$6="",$T$7=""),"",IF($B11="","",IF(ISNA(VLOOKUP($B11,'LT04'!$B$11:$M$80,12,FALSE)),"",IF(VLOOKUP($B11,'LT04'!$B$11:$M$80,12,FALSE)="","",VLOOKUP($B11,'LT04'!$B$11:$M$80,12,FALSE))))) -> 7 | U11: =IF(OR($T$6="",$T$7=""),"",IF($B11="","",IF(ISNA(VLOOKUP($B11,'LT04'!$B$11:$N$80,13,FALSE)),"",VLOOKUP($B11,'LT04'!$B$11:$N$80,13,FALSE)))) -> 7.1 | W11: =IF(OR($T$6="",$T$7=""),"",IF($B11="","",IF(ISNA(VLOOKUP($B11,'LT04'!$B$11:$Q$80,16,FALSE)),"",VLOOKUP($B11,'LT04'!$B$11:$Q$80,16,FALSE)))) | X11: =IF(OR($X$6="",$X$7=""),"",IF($B11="","",IF(ISNA(VLOOKUP($B11,'LT05'!$B$11:$M$80,12,FALSE)),"",IF(VLOOKUP($B11,'LT05'!$B$11:$M$80,12,FALSE)="","",VLOOKUP($B11,'LT05'!$B$11:$M$80,12,FALSE))))) -> 3.3 | Y11: =IF(OR($X$6="",$X$7=""),"",IF($B11="","",IF(ISNA(VLOOKUP($B11,'LT05'!$B$11:$N$80,13,FALSE)),"",VLOOKUP($B11,'LT05'!$B$11:$N$80,13,FALSE)))) -> 4.2 | AA11: =IF(OR($X$6="",$X$7=""),"",IF($B11="","",IF(ISNA(VLOOKUP($B11,'LT05'!$B$11:$Q$80,16,FALSE)),"",VLOOKUP($B11,'LT05'!$B$11:$Q$80,16,FALSE)))) | AB11: =IF(OR($AB$6="",$AB$7=""),"",IF($B11="","",IF(ISNA(VLOOKUP($B11,'LT06'!$B$11:$M$80,12,FALSE)),"",IF(VLOOKUP($B11,'LT06'!$B$11:$M$80,12,FALSE)="","",VLOOKUP($B11,'LT06'!$B$11:$M$80,12,FALSE))))) | AC11: =IF(OR($AB$6="",$AB$7=""),"",IF($B11="","",IF(ISNA(VLOOKUP($B11,'LT06'!$B$11:$N$80,13,FALSE)),"",VLOOKUP($B11,'LT06'!$B$11:$N$80,13,FALSE)))) | AE11: =IF(OR($AB$6="",$AB$7=""),"",IF($B11="","",IF(ISNA(VLOOKUP($B11,'LT06'!$B$11:$Q$80,16,FALSE)),"",VLOOKUP($B11,'LT06'!$B$11:$Q$80,16,FALSE)))) | AF11: =IF(OR($AF$6="",$AF$7=""),"",IF($B11="","",IF(ISNA(VLOOKUP($B11,'LT07'!$B$11:$M$80,12,FALSE)),"",IF(VLOOKUP($B11,'LT07'!$B$11:$M$80,12,FALSE)="","",VLOOKUP($B11,'LT07'!$B$11:$M$80,12,FALSE))))) | AG11: =IF(OR($AF$6="",$AF$7=""),"",IF($B11="","",IF(ISNA(VLOOKUP($B11,'LT07'!$B$11:$N$80,13,FALSE)),"",VLOOKUP($B11,'LT07'!$B$11:$N$80,13,FALSE)))) | AI11: =IF(OR($AF$6="",$AF$7=""),"",IF($B11="","",IF(ISNA(VLOOKUP($B11,'LT07'!$B$11:$Q$80,16,FALSE)),"",VLOOKUP($B11,'LT07'!$B$11:$Q$80,16,FALSE)))) | AK11: =IF(OR($AJ$6="",$AJ$7=""),"",IF($B11="","",IF(ISNA(VLOOKUP($B11,'DO AN'!$B$11:$L$80,11,FALSE)),"",IF(VLOOKUP($B11,'DO AN'!$B$11:$L$80,11,FALSE)="","",VLOOKUP($B11,'DO AN'!$B$11:$L$80,11,FALSE))))) | AO11: =IF(OR($AN$6="",$AN$7=""),"",IF($B11="","",IF(ISNA(VLOOKUP($B11,'DO AN 2'!$B$11:$L$80,11,FALSE)),"",IF(VLOOKUP($B11,'DO AN 2'!$B$11:$L$80,11,FALSE)="","",VLOOKUP($B11,'DO AN 2'!$B$11:$L$80,11,FALSE))))) | AS11: =IF(OR($AR$6="",$AR$7=""),"",IF($B11="","",IF(ISNA(VLOOKUP($B11,'TH01'!$B$11:$O$80,14,FALSE)),"",VLOOKUP($B11,'TH01'!$B$11:$O$80,14,FALSE)))) -> 5.6 | AW11: =IF(OR($AV$6="",$AV$7=""),"",IF($B11="","",IF(ISNA(VLOOKUP($B11,'TH02'!$B$11:$O$80,14,FALSE)),"",VLOOKUP($B11,'TH02'!$B$11:$O$80,14,FALSE)))) -> 7.5 | BA11: =IF(OR($AZ$6="",$AZ$7=""),"",IF($B11="","",IF(ISNA(VLOOKUP($B11,'TH03'!$B$11:$O$80,14,FALSE)),"",VLOOKUP($B11,'TH03'!$B$11:$O$80,14,FALSE)))) -> 6.8 | BD11: =$CT11 -> 6.42 | BE11: =$EF11 | BF11: 60 | BG11: =IF($BD11="","",IF($B11="","",IF($BD11<4,"Kém",IF($BD11<5.5,"TB Yếu",IF($BD11<7,"T.Bình",IF($BD11<8,"Khá",IF($BD11<9,"Giỏi","SX"))))))) -> T.Bình | BH11: =IF($BE11="","",IF($B11="","",IF($BE11<4,"Kém",IF($BE11<5.5,"TB Yếu",IF($BE11<7,"T.Bình",IF($BE11<8,"Khá",IF($BE11<9,"Giỏi","SX"))))))) | BJ11: =IF($BD11>=4,"",IF(AND($BD11<4,$BE11="",COUNT($DH11:$DS11)=0),"Cảnh Báo",IF($BE11<4,"Cảnh Báo",""))) | BK11: =IF($B11="","",IF(COUNT($CH11:$CS11)=0,"",SUMIF($CH11:$CS11,">=4",$CH$7:$CS$7))) -> 18 | BL11: =IF($B11="","",IF(COUNT($CH11:$CS11=0),"",SUMIF($CH11:$CS11,"<4",$CH$7:$CS$7))) -> 0 | BM11: =IF(AND($BE11="",$B11=""),"",SUMIF($DT11:$EE11,">=4",$DT$7:$EE$7)) -> 18 | BN11: =IF(AND($BE11="",$B11=""),"",SUMIF($DT11:$EE11,"<4",$DT$7:$EE$7)) -> 0 | BO11: =IF($DG11="","",$DG11) -> 6.42 | BP11: =IF($B11="","",IF($BO11>=5.5,"BT","Yếu")) -> BT | BQ11: =IF($ES11="","",$ES11) -> 6.42 | BR11: =IF($B11="","",IF($BQ11>=5.5,"BT","Yếu")) -> BT | BT11: =IF(COUNT($BU11:$CF11)=0,"",COUNTIF($BU11:$CF11,"<5")) -> 2 | BU11: =$H11 -> 7 | BV11: =$L11 -> 9.3 | BW11: =$P11 -> 4.5 | BX11: =$T11 -> 7 | BY11: =$X11 -> 3.3 | BZ11: =$AB11 | CA11: =$AF11 | CB11: =$AK11 | CC11: =$AO11 | CD11: =$AS11 -> 5.6 | CE11: =$AW11 -> 7.5 | CF11: =$BA11 -> 6.8 | CG11: =IF(COUNT($CH11:$CS11)=0,"",COUNTIF($CH11:$CS11,"<4")) -> 0 | CH11: =$I11 -> 7.1 | CI11: =$M11 -> 8.5 | CJ11: =$Q11 -> 5.3 | CK11: =$U11 -> 7.1 | CL11: =$Y11 -> 4.2 | CM11: =$AC11 | CN11: =$AG11 | CO11: =$AK11 | CP11: =$AO11 | CQ11: =$AS11 -> 5.6 | CR11: =$AW11 -> 7.5 | CS11: =$BA11 -> 6.8 | CT11: =IF(COUNT($CH11:$CS11)=0,"",ROUND(SUMPRODUCT($CH11:$CS11,$CH$7:$CS$7)/(SUM($CH$7:$CS$7)-SUMIF($CH11:$CS11,"",$CH$7:$CS$7)),2)) -> 6.42 | CU11: =IF($CH11<4,"",$CH11) -> 7.1 | CV11: =IF($CI11<4,"",$CI11) -> 8.5 | CW11: =IF($CJ11<4,"",$CJ11) -> 5.3 | CX11: =IF($CK11<4,"",$CK11) -> 7.1 | CY11: =IF($CL11<4,"",$CL11) -> 4.2 | CZ11: =IF($CM11<4,"",$CM11) | DA11: =IF($CN11<4,"",$CN11) | DB11: =IF($CO11<4,"",$CO11) | DC11: =IF($CP11<4,"",$CP11) | DD11: =IF($CQ11<4,"",$CQ11) -> 5.6 | DE11: =IF($CR11<4,"",$CR11) -> 7.5 | DF11: =IF($CS11<4,"",$CS11) -> 6.8 | DG11: =IF($B11="","",IF(COUNT($CU11:$DF11)=0,0,ROUND(SUMPRODUCT($CU11:$DF11,$CU$7:$DF$7)/SUMIF($CU11:$DF11,">=4",$CU$7:$DF$7),2))) -> 6.42 | DH11: =IF($K11="","",$K11) | DI11: =IF($O11="","",$O11) | DJ11: =IF($S11="","",$S11) | DK11: =IF($W11="","",$W11) | DL11: =IF($AA11="","",$AA11) | DM11: =IF($AE11="","",$AE11) | DN11: =IF($AI11="","",$AI11) | DO11: =IF($AM11="","",$AM11) | DP11: =IF($AQ11="","",$AQ11) | DQ11: =IF($AU11="","",$AU11) | DR11: =IF($AY11="","",$AY11) | DS11: =IF($BC11="","",$BC11) | DT11: =IF($H11>=$J11,$I11,$K11) -> 7.1 | DU11: =IF($L11>=$N11,$M11,$O11) -> 8.5 | DV11: =IF($P11>=$R11,$Q11,$S11) -> 5.3 | DW11: =IF($T11>=$V11,$U11,$W11) -> 7.1 | DX11: =IF($X11>=$Z11,$Y11,$AA11) -> 4.2 | DY11: =IF($AB11>=$AD11,$AC11,$AE11) | DZ11: =IF($AF11>=$AH11,$AG11,$AI11) | EA11: =IF($AJ11>=$AL11,$AK11,$AM11) | EB11: =IF($AN11>=$AP11,$AO11,$AQ11) | EC11: =IF($AR11>=$AT11,$AS11,$AU11) -> 5.6 | ED11: =IF($AV11>=$AX11,$AW11,$AY11) -> 7.5 | EE11: =IF($AZ11>=$BB11,$BA11,$BC11) -> 6.8 | EF11: =IF(COUNT($DH11:$DS11)=0,"",ROUND(SUMPRODUCT($DT11:$EE11,$DT$7:$EE$7)/(SUM($DT$7:$EE$7)-SUMIF($DT11:$EE11,"",$DT$7:$EE$7)),2)) | EG11: =IF($DT11<4,"",$DT11) -> 7.1 | EH11: =IF($DU11<4,"",$DU11) -> 8.5 | EI11: =IF($DV11<4,"",$DV11) -> 5.3 | EJ11: =IF($DW11<4,"",$DW11) -> 7.1 | EK11: =IF($DX11<4,"",$DX11) -> 4.2 | EL11: =IF($DY11<4,"",$DY11) | EM11: =IF($DZ11<4,"",$DZ11) | EN11: =IF($EA11<4,"",$EA11) | EO11: =IF($EB11<4,"",$EB11) | EP11: =IF($EC11<4,"",$EC11) -> 5.6 | EQ11: =IF($ED11<4,"",$ED11) -> 7.5 | ER11: =IF($EE11<4,"",$EE11) -> 6.8 | ES11: =IF($B11="","",IF(COUNT($EG11:$ER11)=0,0,ROUND(SUMPRODUCT($EG11:$ER11,$EG$7:$ER$7)/SUMIF($EG11:$ER11,">=4",$EG$7:$ER$7),2))) -> 6.42 | ET11: =IF($EF11="",$CT11,$EF11) -> 6.42
